Workbook
Name FEDOR: '[1]Select mapovanie'!$A$1:$C$110
Name PREPOCETM: '[1]Select mapovanie'!$C$2:$C$100
Name REPORT: '[1]Select mapovanie'!$A$2:$A$100

Sheet PDS-PPS-OKTE
B1: Žiadosť o poskytnutie kompenzácie vybraných taríf pre odberateľov elektriny v domácnosti a pre ostatných koncových odberateľov elektriny
A3: Údaje o žiadateľovi
B5: IČO | D5: DIČ | F5: IČ DPH (ak je žiadateľ platca DPH)
B8: Názov alebo obchodné meno
B11: Právna forma
B14: Adresa sídla/miesta podnikania
B15: Ulica | D15: Súpisné číslo | F15: Orientačné číslo
B18: PSČ | D18: Obec | F18: Okres
B21: Osoba s právom konať v mene žiadateľa
B22: Meno | D22: Priezvisko | F22: Typ
B26: Kontaktná osoba žiadateľa
B27: Meno | D27: Priezvisko
B29: E-mailová adresa
B32: Bankové spojenie (IBAN)
A36: Rozhodnutie ÚRSO na rok 2023 (podľa Nariadenia vlády SR č. 465/2022 Z.z.)
B38: Číslo cenového rozhodnutia
B41: Cenové rozhodnutie zo dňa
A45: Cenové rozhodnutie ÚRSO na rok 2022
B47: Číslo cenového rozhodnutia
B50: Cenové rozhodnutie zo dňa
A53: Údaje konečného užívateľa výhod, ak výška dotácie presahuje 100 000 EUR
B55: Meno 1 | D55: Priezvisko 1
B58: Meno 2 | D58: Priezvisko 2
B61: Meno 3 | D61: Priezvisko 3
B64: Meno 4 | D64: Priezvisko 4
B67: Meno 5 | D67: Priezvisko 5
B70: Meno 6 | D70: Priezvisko 6
B73: Meno 7 | D73: Priezvisko 7
B76: Meno 8 | D76: Priezvisko 8
B79: Meno 9 | D79: Priezvisko 9
B82: Meno 10 | D82: Priezvisko 10
B85: Vyhlásenie žiadateľa o splnení podmienok
B87: Nie je voči mne vedené konkurzné konanie, nie som v konkurze, v reštrukturalizácii a nebol proti mne zamietnutý návrh na vyhlásenie konkurzu pre nedostatok majetku. | G87: Zvoliť možnosť
B89: Vyhlasujem, že údaje uvedené v žiadosti, vrátane údajov pre výpočet kompenzácie, sú pravdivé, presné a úplné a spĺňam podmienky pre kompenzácie stanovené v Nariadení vlády č. 465/2022 Z.z. | G89: Zvoliť možnosť
B91: Vyhlasujem, že nemám právoplatne uložený trest zákazu prijímať dotácie alebo subvencie. | G91: Zvoliť možnosť
B93: Vyhlasujem, že nemám právoplatne uložený trest zákazu prijímať pomoc a podporu poskytovanú z fondov EÚ. | G93: Zvoliť možnosť
B95: Potvrdzujem, že spoločnosť je zapísaná do regfistra partnerov verjného sektora. | G95: Zvoliť možnosť
B97: Som si vedomý právnych dôsledkov nepravdivého vyhlásenia o skutočnostiach uvedených v žiadosti podľa zákona č. 372/1990 Z. z. o priestupkoch v znení neskorších predpisov vrátane trestnoprávnych dôsledkov podľa zákona č. 300/2005 Z. z. Trestného zákona v znení neskorších predpisov. | G97: Zvoliť možnosť
B99: Som si vedomý, že v prípade preukázania nepravdivosti údajov uvedených v žiadosti som povinný kompenzáciu bezodkladne vrátiť poskytovateľovi. | G99: Zvoliť možnosť
B101: Súhlasím so spracovaním osobných údajov podľa Zákona č. 18/2018 Z. z. o ochrane osobných údajov a o zmene a doplnení niektorých zákonov. | G101: Zvoliť možnosť
B103: =IF(AND(G87="ÁNO",G89="ÁNO",G91="ÁNO",G93="ÁNO",OR(G95="ÁNO",G95="NIE (kompenzácia do 100 tis. EUR)"),G97="ÁNO",G99="ÁNO",G101="ÁNO"),"","NIE SÚ VYPLNENÉ VŠETKY ČESTNÉ PREHLÁSENIA") -> NIE SÚ VYPLNENÉ VŠETKY ČESTNÉ PREHLÁSENIA

Sheet Návod
A1: Návod na ročné zúčtovanie kompenzácie cien vybraných druhov taríf za odberateľov elektriny za rok 2024
B3: Oprávnený žiadateľ o ročné zúčtovanie 2024 je iba subjekt, ktorý v roku 2024 spĺňal všetky
B4: podmienky vyplývajúce z Nariadenia vlády Slovenskej republiky č. 472/2023 Z. z. (ďalej ako
B5: ,,nariadenie vlády") a príslušných usmernení k nariadeniu vlády.
B8: Do formulára o ročné zúčtovanie zadajte hodnoty:
B9: Hárok "Údaje o žiadateľovi"
A17: 01 | B17: Do jednotlivých buniek vyplňte údaje o Vašej spoločnosti
A20: 02 | B20: Do jednotlivých buniek vyplňte údaje o Vašej spoločnosti
B38: Do formulára o ročné zúčtovanie zadajte hodnoty:
B39: Hárok "Výsledok RZ 2024 Tarify"
A41: 01 | B41: Názov PMDS (lokality) žiadajúcej o ročné zúčtovanie za rok 2024
A47: 02 | B47: Hodnota prijatých kompenzácií za rok 2024
A54: 03 | B54: Údaj sa vyplní automaticky
A57: 04 | B57: Údaj sa vyplní automaticky
A60: 05 | B60: Údaj sa vyplní automaticky
B68: Do formulára o ročné zúčtovanie zadajte hodnoty:
B69: Hárok "podklad PDS"
A71: 06 | B71: Názov PRDS
A74: 07 | B74: Do jednotlivých buniek zadajte čísla rozhodnutí ÚRSO za rok
B75: 2022 a 2024 a hodnoty za rok 2022 a 2024
A78: 08 | B78: Hodnota distribuovaného množstva elektriny za rok 2024
B79: podľa príslušnej napäťovej úrovne
A86: *) | B86: Jednotlivé hárky/karty je potrebné podpísať, opečiatkovať, naskenovať do PDF formátu
B87: a následne zaslať s prílohou vo formáte MS excel na e-mailovú adresu poplatky.kompenzacia@mhsr.sk
B88: - hárok "Údaje o žiadateľovi"
B89: - hárok "Výsledok RZ 2024 Tarify"
B90: - hárok "podklad PDS"

Sheet Údaje o žiadateľovi
B1: Žiadosť o ročné zúčtovanie kompenzíácií ročné zúčtovanie kompenzácií cien vybraných druhov taríf za odberateľov elektriny za rok 2024
A3: Údaje o žiadateľovi
B5: IČO | D5: DIČ | F5: IČ DPH (ak je žiadateľ platca DPH)
B8: Názov alebo obchodné meno
B11: Právna forma
B14: Adresa sídla/miesta podnikania
B15: Ulica | D15: Súpisné číslo | F15: Orientačné číslo
B18: PSČ | D18: Obec | F18: Okres
B21: Osoba s právom konať v mene žiadateľa
B22: Meno | D22: Priezvisko
B25: E-mailová adresa
B28: Bankové spojenie (IBAN)
A32: Údaje o konečnom užívateľovi výhod, ak výška kompenzácie presahuje 100 000 EUR
B33: Meno 1 | D33: Priezvisko 1
B36: Meno 2 | D36: Priezvisko 2
B39: Meno 3 | D39: Priezvisko 3
B42: Meno 4 | D42: Priezvisko 4
B45: Meno 5 | D45: Priezvisko 5
B48: Meno 6 | D48: Priezvisko 6
B51: Meno 7 | D51: Priezvisko 7
B54: Meno 8 | D54: Priezvisko 8
B57: Meno 9 | D57: Priezvisko 9
B60: Meno 10 | D60: Priezvisko 10
A63: Vyhlásenie žiadateľa o splnení podmienok
B65: Nie je voči mne vedené konkurzné konanie, nie som v konkurze, v reštrukturalizácii a nebol proti mne zamietnutý návrh na vyhlásenie konkurzu pre nedostatok majetku. | G65: Zvoliť možnosť
B66: Nemám právoplatne uložený trest zákazu prijímať dotácie alebo subvencie. | G66: Zvoliť možnosť
B67: Nemám právoplatne uložený trest zákazu prijímať pomoc a podporu poskytovanú z fondov Európskej únie. | G67: Zvoliť možnosť
B68: Vyhlasujem, že údaje uvedené v žiadosti, vrátane údajov pre výpočet kompenzácie, sú pravdivé, presné a úplné, a spĺňam podmienky oprávnenosti prijatia kompenzácie. | G68: Zvoliť možnosť
B69: Som si vedomý právnych dôsledkov nepravdivého vyhlásenia o skutočnostiach uvedených v žiadosti podľa zákona č. 372/1990 Z. z. o priestupkoch v znení neskorších predpisov vrátane trestnoprávnych dôsledkov podľa zákona č. 300/2005 Z. z. Trestného zákona v znení neskorších predpisov. | G69: Zvoliť možnosť
B70: Som si vedomý, že v prípade preukázania nepravdivosti údajov uvedených v žiadosti, som povinný kompenzáciu bezodkladne vrátiť poskytovateľovi. | G70: Zvoliť možnosť
B71: Vyjadrujem výslovný súhlas s verifikáciou údajov uvedených v žiadosti u príslušných subjektoch. | G71: Zvoliť možnosť
B72: Súhlasím so spracovaním osobných údajov podľa Zákona č. 18/2018 Z. z. o ochrane osobných údajov a o zmene a doplnení niektorých zákonov. | G72: Zvoliť možnosť
B73: Nie je voči mne vedený výkon rozhodnutia. | G73: Zvoliť možnosť
B74: Neporušil som v predchádzajúcich troch rokoch zákaz nelegálneho zamestnávania podľa osobitného predpisu. | G74: Zvoliť možnosť
B75: Mám vysporiadané finančné vzťahy so štátnym rozpočtom. | G75: Zvoliť možnosť
B76: Nemám evidované nedoplatky na poistnom na sociálne poistenie a zdravotná poisťovňa voči mne neeviduje pohľadávky po splatnosti podľa osobitných predpisov. | G76: Zvoliť možnosť
... B81: Som zapísaný v registri partnerov verejného sektora. | G81: Zvoliť možnosť
B83: =IF(AND(G76="ÁNO",G77="ÁNO",G78="ÁNO",G79="ÁNO",G80="ÁNO",G81="ÁNO",G65="ÁNO",G67="ÁNO",G72="ÁNO",G73="ÁNO",G74="ÁNO",G75="ÁNO"),"","NIE SÚ VYPLNENÉ VŠETKY ČESTNÉ PREHLÁSENIA") -> NIE SÚ VYPLNENÉ VŠETKY ČESTNÉ PREHLÁSENIA

Sheet Výsledok RZ 2024 Tarify 
A1: Príloha k žiadosti o ročné zúčtovanie kompenzácií cien vybraných druhov taríf za odberateľov elektriny za rok 2024
A2: Názov PRDS: | B2: xxxx
A4: Prijaté kompenzácie za rok 2024 | B4: obdobie 01-12/2024 | C4: obdobie 01-12/2024
B5: suma v eur bez DPH | C5: suma v eur s DPH
A6: január | B6: =C6/1.2 -> 0 | C6: 0
A7: február | B7: =C7/1.2 -> 0 | C7: 0
A8: marec | B8: =C8/1.2 -> 0 | C8: 0
A9: apríl | B9: =C9/1.2 -> 0 | C9: 0
A10: máj | B10: =C10/1.2 -> 0 | C10: 0
A11: jún | B11: =C11/1.2 -> 0 | C11: 0 | G11: prijaté kompenzácie za rok 2024
A12: júl | B12: =C12/1.2 -> 0 | C12: 0
A13: august | B13: =C13/1.2 -> 0 | C13: 0
A14: september | B14: =C14/1.2 -> 0 | C14: 0
A15: október | B15: =C15/1.2 -> 0 | C15: 0
A16: november | B16: =C16/1.2 -> 0 | C16: 0
A17: december | B17: =C17/1.2 -> 0 | C17: 0
A18: Spolu za rok 2024 | B18: =SUM(B6:B17) -> 0 | C18: =SUM(C6:C17) -> 0
A20: Nárok na kompenzáciu za rok 2024 | B20: suma v eur bez DPH | C20: suma v eur s DPH | G20: údaje z hárku podklad PDS
A21: Spolu | B21: ='podklad PDS'!H227 -> 0 | C21: ='podklad PDS'!I225 -> 0
A23: Rozdiel vysporiadania ročného zúčtovania za rok 2024 | B23: suma v eur bez DPH | C23: suma v eur s DPH | G23: Výsledná hodnota ročného zúčtovania za 01-12/2024
A24: Spolu | B24: =IF(B21<0,B18,-1*(B18-B21)) -> 0 | C24: =IF(C21<0,C18,-1*(C18-C21)) -> 0
A26: Distribuované množstvo elektriny (podliehajúce kompenzácii) | B26: ='podklad PDS'!H228 -> 0 | C26: [MWh]

Sheet podklad PDS
A1: Príloha k žiadosti o ročné zúčtovanie kompenzácií cien vybraných druhov taríf za odberateľov elektriny za rok 2024
A2: Mesiac: 01-12/2024 PrDS: | B2: Sadzba | C2: Tarifa | D2: m.j. 2 | E2: Množstvo | F2: Tarifa na rok 2022 podľa rozhodnutia ÚRSO č. XXXX/2022/E | G2: Tarifa na rok 2024 podľa rozhodnutia ÚRSO č. XXXX/2024/E | H2: Rozdiel 3 [3]-[2] | I2: Kompenzácia 4 [1]x[4]
E3: [m.j.] | F3: [€/m.j.] | G3: [€/m.j.] | H3: [€/m.j.] | I3: [€]
E4: [1] | F4: [2] | G4: [3] | H4: [4] | I4: [5]
A5: Odberatelia elektriny v domácnosti pripojení na napäťovú úroveň nízkeho napätia | B5: D1 | C5: prístup do distribučnej sústavy | H5: =+G5-F5 -> 0 | I5: =+ROUND(IF(H5>0,H5*E5,0),4) -> 0
C6: distribúcia elektriny | D6: MWh | H6: n.a. | I6: n.a.
C7: straty | H7: n.a. | I7: n.a.
C8: distribúcia elektriny + straty | F8: =+F6+F7 -> 0 | G8: =+G6+G7 -> 0 | H8: =+G8-F8 -> 0 | I8: =+ROUND(IF(H8>0,H8*E6,0),4) -> 0
A9: Odberatelia elektriny v domácnosti pripojení na napäťovú úroveň nízkeho napätia | B9: D2 | C9: prístup do distribučnej sústavy | H9: =+G9-F9 -> 0 | I9: =+ROUND(IF(H9>0,H9*E9,0),4) -> 0
C10: prístup do distribučnej sústavy (nevidiaci) | H10: =+G10-F10 -> 0 | I10: =+ROUND(IF(H10>0,H10*E10,0),4) -> 0
C11: distribúcia elektriny | D11: MWh | H11: n.a. | I11: n.a.
C12: straty | H12: n.a. | I12: n.a.
C13: distribúcia elektriny + straty | F13: =+F11+F12 -> 0 | G13: =+G11+G12 -> 0 | H13: =+G13-F13 -> 0 | I13: =+ROUND(IF(H13>0,H13*E11,0),4) -> 0
A14: Odberatelia elektriny v domácnosti pripojení na napäťovú úroveň nízkeho napätia | B14: D3 | C14: prístup do distribučnej sústavy | H14: =+G14-F14 -> 0 | I14: =+ROUND(IF(H14>0,H14*E14,0),4) -> 0
C15: distribúcia elektriny VT | D15: MWh | H15: n.a. | I15: n.a.
C16: straty | H16: n.a. | I16: n.a.
C17: distribúcia elektriny VT + straty | F17: =+F15+F16 -> 0 | G17: =+G15+G16 -> 0 | H17: =+G17-F17 -> 0 | I17: =+ROUND(IF(H17>0,H17*E15,0),4) -> 0
C18: distribúcia elektriny NT | D18: MWh | H18: n.a. | I18: n.a.
C19: straty | H19: n.a. | I19: n.a.
C20: distribúcia elektriny NT + straty | F20: =+F18+F19 -> 0 | G20: =+G18+G19 -> 0 | H20: =+G20-F20 -> 0 | I20: =+ROUND(IF(H20>0,H20*E18,0),4) -> 0
A21: Odberatelia elektriny v domácnosti pripojení na napäťovú úroveň nízkeho napätia | B21: D4 | C21: prístup do distribučnej sústavy | H21: =+G21-F21 -> 0 | I21: =+ROUND(IF(H21>0,H21*E21,0),4) -> 0
C22: prístup do distribučnej sústavy (nevidiaci) | H22: =+G22-F22 -> 0 | I22: =+ROUND(IF(H22>0,H22*E22,0),4) -> 0
C23: distribúcia elektriny VT | D23: MWh | H23: n.a. | I23: n.a.
C24: straty | H24: n.a. | I24: n.a.
C25: distribúcia elektriny VT + straty | F25: =+F23+F24 -> 0 | G25: =+G23+G24 -> 0 | H25: =+G25-F25 -> 0 | I25: =+ROUND(IF(H25>0,H25*E23,0),4) -> 0
C26: distribúcia elektriny NT | D26: MWh | H26: n.a. | I26: n.a.
C27: straty | H27: n.a. | I27: n.a.
C28: distribúcia elektriny NT + straty | F28: =+F26+F27 -> 0 | G28: =+G26+G27 -> 0 | H28: =+G28-F28 -> 0 | I28: =+ROUND(IF(H28>0,H28*E26,0),4) -> 0
A29: Odberatelia elektriny v domácnosti pripojení na napäťovú úroveň nízkeho napätia | B29: D5 | C29: prístup do distribučnej sústavy | H29: =+G29-F29 -> 0 | I29: =+ROUND(IF(H29>0,H29*E29,0),4) -> 0
C30: distribúcia elektriny VT | D30: MWh | H30: n.a. | I30: n.a.
C31: straty | H31: n.a. | I31: n.a.
C32: distribúcia elektriny VT + straty | F32: =+F30+F31 -> 0 | G32: =+G30+G31 -> 0 | H32: =+G32-F32 -> 0 | I32: =+ROUND(IF(H32>0,H32*E30,0),4) -> 0
C33: distribúcia elektriny NT | D33: MWh | H33: n.a. | I33: n.a.
C34: straty | H34: n.a. | I34: n.a.
C35: distribúcia elektriny NT + straty | F35: =+F33+F34 -> 0 | G35: =+G33+G34 -> 0 | H35: =+G35-F35 -> 0 | I35: =+ROUND(IF(H35>0,H35*E33,0),4) -> 0
A36: Odberatelia elektriny v domácnosti pripojení na napäťovú úroveň nízkeho napätia | B36: D6 | C36: prístup do distribučnej sústavy | H36: =+G36-F36 -> 0 | I36: =+ROUND(IF(H36>0,H36*E36,0),4) -> 0
C37: distribúcia elektriny VT | D37: MWh | H37: n.a. | I37: n.a.
C38: straty | H38: n.a. | I38: n.a.
C39: distribúcia elektriny VT + straty | F39: =+F37+F38 -> 0 | G39: =+G37+G38 -> 0 | H39: =+G39-F39 -> 0 | I39: =+ROUND(IF(H39>0,H39*E37,0),4) -> 0
C40: distribúcia elektriny NT | D40: MWh | H40: n.a. | I40: n.a.
C41: straty | H41: n.a. | I41: n.a.
C42: distribúcia elektriny NT + straty | F42: =+F40+F41 -> 0 | G42: =+G40+G41 -> 0 | H42: =+G42-F42 -> 0 | I42: =+ROUND(IF(H42>0,H42*E40,0),4) -> 0
A43: Odberatelia elektriny v domácnosti pripojení na napäťovú úroveň nízkeho napätia | B43: D7 | C43: prístup do distribučnej sústavy | H43: =+G43-F43 -> 0 | I43: =+ROUND(IF(H43>0,H43*E43,0),4) -> 0
C44: distribúcia elektriny VT | D44: MWh | H44: n.a. | I44: n.a.
C45: straty | H45: n.a. | I45: n.a.
C46: distribúcia elektriny VT + straty | F46: =+F44+F45 -> 0 | G46: =+G44+G45 -> 0 | H46: =+G46-F46 -> 0 | I46: =+ROUND(IF(H46>0,H46*E44,0),4) -> 0
C47: distribúcia elektriny NT | D47: MWh | H47: n.a. | I47: n.a.
C48: straty | H48: n.a. | I48: n.a.
C49: distribúcia elektriny NT + straty | F49: =+F47+F48 -> 0 | G49: =+G47+G48 -> 0 | H49: =+G49-F49 -> 0 | I49: =+ROUND(IF(H49>0,H49*E47,0),4) -> 0
A50: Odberatelia elektriny v domácnosti pripojení na napäťovú úroveň nízkeho napätia | B50: D8 | C50: prístup do distribučnej sústavy | H50: =+G50-F50 -> 0 | I50: =+ROUND(IF(H50>0,H50*E50,0),4) -> 0
C51: distribúcia elektriny VT | D51: MWh | H51: n.a. | I51: n.a.
C52: straty | H52: n.a. | I52: n.a.
C53: distribúcia elektriny VT + straty | F53: =+F51+F52 -> 0 | G53: =+G51+G52 -> 0 | H53: =+G53-F53 -> 0 | I53: =+ROUND(IF(H53>0,H53*E51,0),4) -> 0
C54: distribúcia elektriny NT | D54: MWh | H54: n.a. | I54: n.a.
C55: straty | H55: n.a. | I55: n.a.
C56: distribúcia elektriny NT + straty | F56: =+F54+F55 -> 0 | G56: =+G54+G55 -> 0 | H56: =+G56-F56 -> 0 | I56: =+ROUND(IF(H56>0,H56*E54,0),4) -> 0
A57: Odberatelia elektriny v domácnosti pripojení na napäťovú úroveň nízkeho napätia | B57: D9 | C57: prístup do distribučnej sústavy | H57: =+G57-F57 -> 0 | I57: =+ROUND(IF(H57>0,H57*E57,0),4) -> 0
C58: distribúcia elektriny VT | D58: MWh | H58: n.a. | I58: n.a.
C59: straty | H59: n.a. | I59: n.a.
C60: distribúcia elektriny VT + straty | F60: =+F58+F59 -> 0 | G60: =+G58+G59 -> 0 | H60: =+G60-F60 -> 0 | I60: =+ROUND(IF(H60>0,H60*E58,0),4) -> 0
C61: distribúcia elektriny NT | D61: MWh | H61: n.a. | I61: n.a.
C62: straty | H62: n.a. | I62: n.a.
C63: distribúcia elektriny NT + straty | F63: =+F61+F62 -> 0 | G63: =+G61+G62 -> 0 | H63: =+G63-F63 -> 0 | I63: =+ROUND(IF(H63>0,H63*E61,0),4) -> 0
A64: Odberatelia elektriny v domácnosti pripojení na napäťovú úroveň nízkeho napätia | B64: D10 | C64: prístup do distribučnej sústavy | H64: =+G64-F64 -> 0 | I64: =+ROUND(IF(H64>0,H64*E64,0),4) -> 0
C65: distribúcia elektriny VVT | D65: MWh | H65: n.a. | I65: n.a.
C66: straty | H66: n.a. | I66: n.a.
C67: distribúcia elektriny VVT + straty | F67: =+F65+F66 -> 0 | G67: =+G65+G66 -> 0 | H67: =+G67-F67 -> 0 | I67: =+ROUND(IF(H67>0,H67*E65,0),4) -> 0
C68: distribúcia elektriny VT | D68: MWh | H68: n.a. | I68: n.a.
C69: straty | H69: n.a. | I69: n.a.
C70: distribúcia elektriny VT + straty | F70: =+F68+F69 -> 0 | G70: =+G68+G69 -> 0 | H70: =+G70-F70 -> 0 | I70: =+ROUND(IF(H70>0,H70*E68,0),4) -> 0
C71: distribúcia elektriny NT | D71: MWh | H71: n.a. | I71: n.a.
C72: straty | H72: n.a. | I72: n.a.
C73: distribúcia elektriny NT + straty | F73: =+F71+F72 -> 0 | G73: =+G71+G72 -> 0 | H73: =+G73-F73 -> 0 | I73: =+ROUND(IF(H73>0,H73*E71,0),4) -> 0
C74: distribúcia elektriny VNT | D74: MWh | H74: n.a. | I74: n.a.
C75: straty | H75: n.a. | I75: n.a.
C76: distribúcia elektriny VNT + straty | F76: =+F74+F75 -> 0 | G76: =+G74+G75 -> 0 | H76: =+G76-F76 -> 0 | I76: =+ROUND(IF(H76>0,H76*E74,0),4) -> 0
A77: Odberatelia elektriny v domácnosti pripojení na napäťovú úroveň nízkeho napätia | B77: Súčet | C77: prístup do distribučnej sústavy | D77: n.a. | E77: n.a. | F77: n.a. | G77: n.a. | H77: n.a. | I77: =+I5+I9+I10+I14+I21+I22+I29+I36+I43+I50+I57+I64 -> 0
C78: distribúcia elektriny + straty | E78: =SUM(E6,E11,E15,E18,E23,E26,E30,E33,E37,E40,E44,E47,E51,E54,E58,E61,E65,E68,E71,E74) -> 0 | F78: n.a. | G78: n.a. | H78: n.a. | I78: =+I8+I13+I17+I20+I25+I28+I32+I35+I39+I42+I46+I49+I53+I56+I60+I63+I67+I70+I73+I76 -> 0
A79: Ostatní koncoví odberatelia elektriny pripojení na napäťovú úroveň nízkeho napätia | B79: C1 | C79: prístup do distribučnej sústavy v A | D79: A | H79: =+G79-F79 -> 0 | I79: =+ROUND(IF(H79>0,H79*E79,0),4) -> 0
C80: prístup do distribučnej sústavy v kW | D80: kW | H80: =+G80-F80 -> 0 | I80: =+ROUND(IF(H80>0,H80*E80,0),4) -> 0
C81: distribúcia elektriny | D81: MWh | H81: n.a. | I81: n.a.
C82: straty | H82: n.a. | I82: n.a.
C83: distribúcia elektriny + straty | F83: =+F81+F82 -> 0 | G83: =+G81+G82 -> 0 | H83: =+G83-F83 -> 0 | I83: =+ROUND(IF(H83>0,H83*E81,0),4) -> 0
A84: Ostatní koncoví odberatelia elektriny pripojení na napäťovú úroveň nízkeho napätia | B84: C2 | C84: prístup do distribučnej sústavy v A | D84: A | H84: =+G84-F84 -> 0 | I84: =+ROUND(IF(H84>0,H84*E84,0),4) -> 0
C85: prístup do distribučnej sústavy v kW | D85: kW | H85: =+G85-F85 -> 0 | I85: =+ROUND(IF(H85>0,H85*E85,0),4) -> 0
C86: distribúcia elektriny | D86: MWh | H86: n.a. | I86: n.a.
C87: straty | H87: n.a. | I87: n.a.
C88: distribúcia elektriny + straty | F88: =+F86+F87 -> 0 | G88: =+G86+G87 -> 0 | H88: =+G88-F88 -> 0 | I88: =+ROUND(IF(H88>0,H88*E86,0),4) -> 0
A89: Ostatní koncoví odberatelia elektriny pripojení na napäťovú úroveň nízkeho napätia | B89: C3 | C89: prístup do distribučnej sústavy v A | D89: A | H89: =+G89-F89 -> 0 | I89: =+ROUND(IF(H89>0,H89*E89,0),4) -> 0
C90: prístup do distribučnej sústavy v kW | D90: kW | H90: =+G90-F90 -> 0 | I90: =+ROUND(IF(H90>0,H90*E90,0),4) -> 0
C91: distribúcia elektriny | D91: MWh | H91: n.a. | I91: n.a.
C92: straty | H92: n.a. | I92: n.a.
C93: distribúcia elektriny + straty | F93: =+F91+F92 -> 0 | G93: =+G91+G92 -> 0 | H93: =+G93-F93 -> 0 | I93: =+ROUND(IF(H93>0,H93*E91,0),4) -> 0
A94: Ostatní koncoví odberatelia elektriny pripojení na napäťovú úroveň nízkeho napätia | B94: C4 | C94: prístup do distribučnej sústavy v A | D94: A | H94: =+G94-F94 -> 0 | I94: =+ROUND(IF(H94>0,H94*E94,0),4) -> 0
C95: prístup do distribučnej sústavy v kW | D95: kW | H95: =+G95-F95 -> 0 | I95: =+ROUND(IF(H95>0,H95*E95,0),4) -> 0
C96: distribúcia elektriny VT | D96: MWh | H96: n.a. | I96: n.a.
C97: straty | H97: n.a. | I97: n.a.
C98: distribúcia elektriny VT + straty | F98: =+F96+F97 -> 0 | G98: =+G96+G97 -> 0 | H98: =+G98-F98 -> 0 | I98: =+ROUND(IF(H98>0,H98*E96,0),4) -> 0
C99: distribúcia elektriny NT | D99: MWh | H99: n.a. | I99: n.a.
C100: straty | H100: n.a. | I100: n.a.
...

Sheet Okresy
A1: Bánovce nad Bebravou
A2: Banská Bystrica
A3: Banská Štiavnica
A4: Bardejov
A5: Bratislava I
A6: Bratislava II
A7: Bratislava III
A8: Bratislava IV
A9: Bratislava V
A10: Brezno
A11: Bytča
A12: Čadca
... A79: Žilina

Sheet Output
A1: Číslo spisu Fabasoft | B1: Názov alebo obchodné meno | C1: Ulica | D1: Orientačné číslo | E1: PSČ | F1: Obec | G1: IČO | H1: DIČ | I1: IČ DPH | J1: Bankové spojenie (IBAN) | K1: Variabilný symbol | L1: Ekonomická klasifikácia | M1: Číslo cenového rozhodnutia URSO | N1: Výška kompenzácie s DPH | O1: Vyplnené všetky čestné prehlásenia | P1: Priložené všetky prílohy | Q1: Výzva na doplnenie | R1: Zaslané oznámenie o schválení dotácie | S1: Meno kontrolujúceho pracovníka
B2: ='PDS-PPS-OKTE'!B9 -> 0 | C2: ='PDS-PPS-OKTE'!B16 -> 0 | D2: ='PDS-PPS-OKTE'!F16 -> 0 | E2: ='PDS-PPS-OKTE'!B19 -> 0 | F2: ='PDS-PPS-OKTE'!D19 -> 0 | G2: ='PDS-PPS-OKTE'!B6 -> 0 | H2: ='PDS-PPS-OKTE'!D6 -> 0 | I2: ='PDS-PPS-OKTE'!F6 -> 0 | J2: ='PDS-PPS-OKTE'!B33 -> 0 | K2: číslo žiadosti | L2: zistiť | M2: ='PDS-PPS-OKTE'!B48 -> 0 | N2: =#REF! -> #REF! | O2: =IF('PDS-PPS-OKTE'!B103="","ÁNO","NIE") -> NIE | P2: Zvoliť možnosť | Q2: Zvoliť možnosť | R2: Zvoliť možnosť
