Workbook
Name FEDOR: '[1]Select mapovanie'!$A$1:$C$110
Name PREPOCETM: '[1]Select mapovanie'!$C$2:$C$100
Name REPORT: '[1]Select mapovanie'!$A$2:$A$100

Sheet PDS-PPS-OKTE
B1: Žiadosť o poskytnutie kompenzácie vybraných taríf pre odberateľov elektriny v domácnosti a pre ostatných koncových odberateľov elektriny
A3: Údaje o žiadateľovi
B5: IČO | D5: DIČ | F5: IČ DPH (ak je žiadateľ platca DPH)
B8: Názov alebo obchodné meno
B11: Právna forma
B14: Adresa sídla/miesta podnikania
B15: Ulica | D15: Súpisné číslo | F15: Orientačné číslo
B18: PSČ | D18: Obec | F18: Okres
B21: Osoba s právom konať v mene žiadateľa
B22: Meno | D22: Priezvisko | F22: Typ
B26: Kontaktná osoba žiadateľa
B27: Meno | D27: Priezvisko
B29: E-mailová adresa
B32: Bankové spojenie (IBAN)
A36: Rozhodnutie ÚRSO na rok 2023 (podľa Nariadenia vlády SR č. 465/2022 Z.z.)
B38: Číslo cenového rozhodnutia
B41: Cenové rozhodnutie zo dňa
A45: Cenové rozhodnutie ÚRSO na rok 2022
B47: Číslo cenového rozhodnutia
B50: Cenové rozhodnutie zo dňa
A53: Údaje konečného užívateľa výhod, ak výška dotácie presahuje 100 000 EUR
B55: Meno 1 | D55: Priezvisko 1
B58: Meno 2 | D58: Priezvisko 2
B61: Meno 3 | D61: Priezvisko 3
B64: Meno 4 | D64: Priezvisko 4
B67: Meno 5 | D67: Priezvisko 5
B70: Meno 6 | D70: Priezvisko 6
B73: Meno 7 | D73: Priezvisko 7
B76: Meno 8 | D76: Priezvisko 8
B79: Meno 9 | D79: Priezvisko 9
B82: Meno 10 | D82: Priezvisko 10
B85: Vyhlásenie žiadateľa o splnení podmienok
B87: Nie je voči mne vedené konkurzné konanie, nie som v konkurze, v reštrukturalizácii a nebol proti mne zamietnutý návrh na vyhlásenie konkurzu pre nedostatok majetku. | G87: Zvoliť možnosť
B89: Vyhlasujem, že údaje uvedené v žiadosti, vrátane údajov pre výpočet kompenzácie, sú pravdivé, presné a úplné a spĺňam podmienky pre kompenzácie stanovené v Nariadení vlády č. 465/2022 Z.z. | G89: Zvoliť možnosť
B91: Vyhlasujem, že nemám právoplatne uložený trest zákazu prijímať dotácie alebo subvencie. | G91: Zvoliť možnosť
B93: Vyhlasujem, že nemám právoplatne uložený trest zákazu prijímať pomoc a podporu poskytovanú z fondov EÚ. | G93: Zvoliť možnosť
B95: Potvrdzujem, že spoločnosť je zapísaná do regfistra partnerov verjného sektora. | G95: Zvoliť možnosť
B97: Som si vedomý právnych dôsledkov nepravdivého vyhlásenia o skutočnostiach uvedených v žiadosti podľa zákona č. 372/1990 Z. z. o priestupkoch v znení neskorších predpisov vrátane trestnoprávnych dôsledkov podľa zákona č. 300/2005 Z. z. Trestného zákona v znení neskorších predpisov. | G97: Zvoliť možnosť
B99: Som si vedomý, že v prípade preukázania nepravdivosti údajov uvedených v žiadosti som povinný kompenzáciu bezodkladne vrátiť poskytovateľovi. | G99: Zvoliť možnosť
B101: Súhlasím so spracovaním osobných údajov podľa Zákona č. 18/2018 Z. z. o ochrane osobných údajov a o zmene a doplnení niektorých zákonov. | G101: Zvoliť možnosť
...

Sheet Návod
A1: Návod na ročné zúčtovanie kompenzácie cien vybraných druhov taríf za odberateľov elektriny za rok 2024
B3: Oprávnený žiadateľ o ročné zúčtovanie 2024 je iba subjekt, ktorý v roku 2024 spĺňal všetky
B4: podmienky vyplývajúce z Nariadenia vlády Slovenskej republiky č. 472/2023 Z. z. (ďalej ako
B5: ,,nariadenie vlády") a príslušných usmernení k nariadeniu vlády.
B8: Do formulára o ročné zúčtovanie zadajte hodnoty:
B9: Hárok "Údaje o žiadateľovi"
A17: 01 | B17: Do jednotlivých buniek vyplňte údaje o Vašej spoločnosti
A20: 02 | B20: Do jednotlivých buniek vyplňte údaje o Vašej spoločnosti
B38: Do formulára o ročné zúčtovanie zadajte hodnoty:
B39: Hárok "Výsledok RZ 2024 Tarify"
A41: 01 | B41: Názov PMDS (lokality) žiadajúcej o ročné zúčtovanie za rok 2024
A47: 02 | B47: Hodnota prijatých kompenzácií za rok 2024
A54: 03 | B54: Údaj sa vyplní automaticky
A57: 04 | B57: Údaj sa vyplní automaticky
A60: 05 | B60: Údaj sa vyplní automaticky
B68: Do formulára o ročné zúčtovanie zadajte hodnoty:
B69: Hárok "podklad PDS"
A71: 06 | B71: Názov PRDS
A74: 07 | B74: Do jednotlivých buniek zadajte čísla rozhodnutí ÚRSO za rok
B75: 2022 a 2024 a hodnoty za rok 2022 a 2024
A78: 08 | B78: Hodnota distribuovaného množstva elektriny za rok 2024
B79: podľa príslušnej napäťovej úrovne
A86: *) | B86: Jednotlivé hárky/karty je potrebné podpísať, opečiatkovať, naskenovať do PDF formátu
B87: a následne zaslať s prílohou vo formáte MS excel na e-mailovú adresu poplatky.kompenzacia@mhsr.sk
B88: - hárok "Údaje o žiadateľovi"
B89: - hárok "Výsledok RZ 2024 Tarify"
B90: - hárok "podklad PDS"

Sheet Údaje o žiadateľovi
B1: Žiadosť o ročné zúčtovanie kompenzíácií ročné zúčtovanie kompenzácií cien vybraných druhov taríf za odberateľov elektriny za rok 2024
A3: Údaje o žiadateľovi
B5: IČO | D5: DIČ | F5: IČ DPH (ak je žiadateľ platca DPH)
B8: Názov alebo obchodné meno
B11: Právna forma
B14: Adresa sídla/miesta podnikania
B15: Ulica | D15: Súpisné číslo | F15: Orientačné číslo
B18: PSČ | D18: Obec | F18: Okres
B21: Osoba s právom konať v mene žiadateľa
B22: Meno | D22: Priezvisko
B25: E-mailová adresa
B28: Bankové spojenie (IBAN)
A32: Údaje o konečnom užívateľovi výhod, ak výška kompenzácie presahuje 100 000 EUR
B33: Meno 1 | D33: Priezvisko 1
B36: Meno 2 | D36: Priezvisko 2
B39: Meno 3 | D39: Priezvisko 3
B42: Meno 4 | D42: Priezvisko 4
B45: Meno 5 | D45: Priezvisko 5
B48: Meno 6 | D48: Priezvisko 6
B51: Meno 7 | D51: Priezvisko 7
B54: Meno 8 | D54: Priezvisko 8
B57: Meno 9 | D57: Priezvisko 9
B60: Meno 10 | D60: Priezvisko 10
A63: Vyhlásenie žiadateľa o splnení podmienok
B65: Nie je voči mne vedené konkurzné konanie, nie som v konkurze, v reštrukturalizácii a nebol proti mne zamietnutý návrh na vyhlásenie konkurzu pre nedostatok majetku. | G65: Zvoliť možnosť
B66: Nemám právoplatne uložený trest zákazu prijímať dotácie alebo subvencie. | G66: Zvoliť možnosť
B67: Nemám právoplatne uložený trest zákazu prijímať pomoc a podporu poskytovanú z fondov Európskej únie. | G67: Zvoliť možnosť
B68: Vyhlasujem, že údaje uvedené v žiadosti, vrátane údajov pre výpočet kompenzácie, sú pravdivé, presné a úplné, a spĺňam podmienky oprávnenosti prijatia kompenzácie. | G68: Zvoliť možnosť
B69: Som si vedomý právnych dôsledkov nepravdivého vyhlásenia o skutočnostiach uvedených v žiadosti podľa zákona č. 372/1990 Z. z. o priestupkoch v znení neskorších predpisov vrátane trestnoprávnych dôsledkov podľa zákona č. 300/2005 Z. z. Trestného zákona v znení neskorších predpisov. | G69: Zvoliť možnosť
B70: Som si vedomý, že v prípade preukázania nepravdivosti údajov uvedených v žiadosti, som povinný kompenzáciu bezodkladne vrátiť poskytovateľovi. | G70: Zvoliť možnosť
B71: Vyjadrujem výslovný súhlas s verifikáciou údajov uvedených v žiadosti u príslušných subjektoch. | G71: Zvoliť možnosť
B72: Súhlasím so spracovaním osobných údajov podľa Zákona č. 18/2018 Z. z. o ochrane osobných údajov a o zmene a doplnení niektorých zákonov. | G72: Zvoliť možnosť
B73: Nie je voči mne vedený výkon rozhodnutia. | G73: Zvoliť možnosť
B74: Neporušil som v predchádzajúcich troch rokoch zákaz nelegálneho zamestnávania podľa osobitného predpisu. | G74: Zvoliť možnosť
B75: Mám vysporiadané finančné vzťahy so štátnym rozpočtom. | G75: Zvoliť možnosť
B76: Nemám evidované nedoplatky na poistnom na sociálne poistenie a zdravotná poisťovňa voči mne neeviduje pohľadávky po splatnosti podľa osobitných predpisov. | G76: Zvoliť možnosť
... B81: Som zapísaný v registri partnerov verejného sektora. | G81: Zvoliť možnosť
B83: =IF(AND(G76="ÁNO",G77="ÁNO",G78="ÁNO",G79="ÁNO",G80="ÁNO",G81="ÁNO",G65="ÁNO",G67="ÁNO",G72="ÁNO",G73="ÁNO",G74="ÁNO",G75="ÁNO"),"","NIE SÚ VYPLNENÉ VŠETKY ČESTNÉ PREHLÁSENIA") -> NIE SÚ VYPLNENÉ VŠETKY ČESTNÉ PREHLÁSENIA

Sheet Výsledok RZ 2024 Tarify 
A1: Príloha k žiadosti o ročné zúčtovanie kompenzácií cien vybraných druhov taríf za odberateľov elektriny za rok 2024
A2: Názov PRDS: | B2: xxxx
A4: Prijaté kompenzácie za rok 2024 | B4: obdobie 01-12/2024 | C4: obdobie 01-12/2024
B5: suma v eur bez DPH | C5: suma v eur s DPH
A6: január | B6: =C6/1.2 -> 0 | C6: 0
A7: február | B7: =C7/1.2 -> 0 | C7: 0
A8: marec | B8: =C8/1.2 -> 0 | C8: 0
A9: apríl | B9: =C9/1.2 -> 0 | C9: 0
A10: máj | B10: =C10/1.2 -> 0 | C10: 0
A11: jún | B11: =C11/1.2 -> 0 | C11: 0 | G11: prijaté kompenzácie za rok 2024
A12: júl | B12: =C12/1.2 -> 0 | C12: 0
A13: august | B13: =C13/1.2 -> 0 | C13: 0
A14: september | B14: =C14/1.2 -> 0 | C14: 0
A15: október | B15: =C15/1.2 -> 0 | C15: 0
A16: november | B16: =C16/1.2 -> 0 | C16: 0
A17: december | B17: =C17/1.2 -> 0 | C17: 0
A18: Spolu za rok 2024 | B18: =SUM(B6:B17) -> 0 | C18: =SUM(C6:C17) -> 0
A20: Nárok na kompenzáciu za rok 2024 | B20: suma v eur bez DPH | C20: suma v eur s DPH | G20: údaje z hárku podklad PDS
A21: Spolu | B21: ='podklad PDS'!H227 -> 0 | C21: ='podklad PDS'!I225 -> 0
A23: Rozdiel vysporiadania ročného zúčtovania za rok 2024 | B23: suma v eur bez DPH | C23: suma v eur s DPH | G23: Výsledná hodnota ročného zúčtovania za 01-12/2024
A24: Spolu | B24: =IF(B21<0,B18,-1*(B18-B21)) -> 0 | C24: =IF(C21<0,C18,-1*(C18-C21)) -> 0
A26: Distribuované množstvo elektriny (podliehajúce kompenzácii) | B26: ='podklad PDS'!H228 -> 0 | C26: [MWh]

Sheet podklad PDS
A1: Príloha k žiadosti o ročné zúčtovanie kompenzácií cien vybraných druhov taríf za odberateľov elektriny za rok 2024
A2: Mesiac: 01-12/2024 PrDS: | B2: Sadzba | C2: Tarifa | D2: m.j. 2 | E2: Množstvo | F2: Tarifa na rok 2022 podľa rozhodnutia ÚRSO č. XXXX/2022/E | G2: Tarifa na rok 2024 podľa rozhodnutia ÚRSO č. XXXX/2024/E | H2: Rozdiel 3 [3]-[2] | I2: Kompenzácia 4 [1]x[4]
E3: [m.j.] | F3: [€/m.j.] | G3: [€/m.j.] | H3: [€/m.j.] | I3: [€]
E4: [1] | F4: [2] | G4: [3] | H4: [4] | I4: [5]
A5: Odberatelia elektriny v domácnosti pripojení na napäťovú úroveň nízkeho napätia | B5: D1 | C5: prístup do distribučnej sústavy | H5: =+G5-F5 -> 0 | I5: =+ROUND(IF(H5>0,H5*E5,0),4) -> 0
C6: distribúcia elektriny | D6: MWh | H6: n.a. | I6: n.a.
C7: straty | H7: n.a. | I7: n.a.
C8: distribúcia elektriny + straty | F8: =+F6+F7 -> 0 | G8: =+G6+G7 -> 0 | H8: =+G8-F8 -> 0 | I8: =+ROUND(IF(H8>0,H8*E6,0),4) -> 0
A9: Odberatelia elektriny v domácnosti pripojení na napäťovú úroveň nízkeho napätia | B9: D2 | C9: prístup do distribučnej sústavy | H9: =+G9-F9 -> 0 | I9: =+ROUND(IF(H9>0,H9*E9,0),4) -> 0
C10: prístup do distribučnej sústavy (nevidiaci) | H10: =+G10-F10 -> 0 | I10: =+ROUND(IF(H10>0,H10*E10,0),4) -> 0
C11: distribúcia elektriny | D11: MWh | H11: n.a. | I11: n.a.
C12: straty | H12: n.a. | I12: n.a.
C13: distribúcia elektriny + straty | F13: =+F11+F12 -> 0 | G13: =+G11+G12 -> 0 | H13: =+G13-F13 -> 0 | I13: =+ROUND(IF(H13>0,H13*E11,0),4) -> 0
A14: Odberatelia elektriny v domácnosti pripojení na napäťovú úroveň nízkeho napätia | B14: D3 | C14: prístup do distribučnej sústavy | H14: =+G14-F14 -> 0 | I14: =+ROUND(IF(H14>0,H14*E14,0),4) -> 0
C15: distribúcia elektriny VT | D15: MWh | H15: n.a. | I15: n.a.
C16: straty | H16: n.a. | I16: n.a.
C17: distribúcia elektriny VT + straty | F17: =+F15+F16 -> 0 | G17: =+G15+G16 -> 0 | H17: =+G17-F17 -> 0 | I17: =+ROUND(IF(H17>0,H17*E15,0),4) -> 0
C18: distribúcia elektriny NT | D18: MWh | H18: n.a. | I18: n.a.
C19: straty | H19: n.a. | I19: n.a.
C20: distribúcia elektriny NT + straty | F20: =+F18+F19 -> 0 | G20: =+G18+G19 -> 0 | H20: =+G20-F20 -> 0 | I20: =+ROUND(IF(H20>0,H20*E18,0),4) -> 0
A21: Odberatelia elektriny v domácnosti pripojení na napäťovú úroveň nízkeho napätia | B21: D4 | C21: prístup do distribučnej sústavy | H21: =+G21-F21 -> 0 | I21: =+ROUND(IF(H21>0,H21*E21,0),4) -> 0
C22: prístup do distribučnej sústavy (nevidiaci) | H22: =+G22-F22 -> 0 | I22: =+ROUND(IF(H22>0,H22*E22,0),4) -> 0
C23: distribúcia elektriny VT | D23: MWh | H23: n.a. | I23: n.a.
C24: straty | H24: n.a. | I24: n.a.
C25: distribúcia elektriny VT + straty | F25: =+F23+F24 -> 0 | G25: =+G23+G24 -> 0 | H25: =+G25-F25 -> 0 | I25: =+ROUND(IF(H25>0,H25*E23,0),4) -> 0
C26: distribúcia elektriny NT | D26: MWh | H26: n.a. | I26: n.a.
C27: straty | H27: n.a. | I27: n.a.
C28: distribúcia elektriny NT + straty | F28: =+F26+F27 -> 0 | G28: =+G26+G27 -> 0 | H28: =+G28-F28 -> 0 | I28: =+ROUND(IF(H28>0,H28*E26,0),4) -> 0
A29: Odberatelia elektriny v domácnosti pripojení na napäťovú úroveň nízkeho napätia | B29: D5 | C29: prístup do distribučnej sústavy | H29: =+G29-F29 -> 0 | I29: =+ROUND(IF(H29>0,H29*E29,0),4) -> 0
C30: distribúcia elektriny VT | D30: MWh | H30: n.a. | I30: n.a.
C31: straty | H31: n.a. | I31: n.a.
C32: distribúcia elektriny VT + straty | F32: =+F30+F31 -> 0 | G32: =+G30+G31 -> 0 | H32: =+G32-F32 -> 0 | I32: =+ROUND(IF(H32>0,H32*E30,0),4) -> 0
C33: distribúcia elektriny NT | D33: MWh | H33: n.a. | I33: n.a.
C34: straty | H34: n.a. | I34: n.a.
C35: distribúcia elektriny NT + straty | F35: =+F33+F34 -> 0 | G35: =+G33+G34 -> 0 | H35: =+G35-F35 -> 0 | I35: =+ROUND(IF(H35>0,H35*E33,0),4) -> 0
A36: Odberatelia elektriny v domácnosti pripojení na napäťovú úroveň nízkeho napätia | B36: D6 | C36: prístup do distribučnej sústavy | H36: =+G36-F36 -> 0 | I36: =+ROUND(IF(H36>0,H36*E36,0),4) -> 0
C37: distribúcia elektriny VT | D37: MWh | H37: n.a. | I37: n.a.
C38: straty | H38: n.a. | I38: n.a.
C39: distribúcia elektriny VT + straty | F39: =+F37+F38 -> 0 | G39: =+G37+G38 -> 0 | H39: =+G39-F39 -> 0 | I39: =+ROUND(IF(H39>0,H39*E37,0),4) -> 0
C40: distribúcia elektriny NT | D40: MWh | H40: n.a. | I40: n.a.
...

Sheet Okresy
A1: Bánovce nad Bebravou
A2: Banská Bystrica
A3: Banská Štiavnica
A4: Bardejov
A5: Bratislava I
A6: Bratislava II
A7: Bratislava III
A8: Bratislava IV
A9: Bratislava V
A10: Brezno
A11: Bytča
A12: Čadca
... A79: Žilina

Sheet Output
A1: Číslo spisu Fabasoft | B1: Názov alebo obchodné meno | C1: Ulica | D1: Orientačné číslo | E1: PSČ | F1: Obec | G1: IČO | H1: DIČ | I1: IČ DPH | J1: Bankové spojenie (IBAN) | K1: Variabilný symbol | L1: Ekonomická klasifikácia | M1: Číslo cenového rozhodnutia URSO | N1: Výška kompenzácie s DPH | O1: Vyplnené všetky čestné prehlásenia | P1: Priložené všetky prílohy | Q1: Výzva na doplnenie | R1: Zaslané oznámenie o schválení dotácie | S1: Meno kontrolujúceho pracovníka
B2: ='PDS-PPS-OKTE'!B9 -> 0 | C2: ='PDS-PPS-OKTE'!B16 -> 0 | D2: ='PDS-PPS-OKTE'!F16 -> 0 | E2: ='PDS-PPS-OKTE'!B19 -> 0 | F2: ='PDS-PPS-OKTE'!D19 -> 0 | G2: ='PDS-PPS-OKTE'!B6 -> 0 | H2: ='PDS-PPS-OKTE'!D6 -> 0 | I2: ='PDS-PPS-OKTE'!F6 -> 0 | J2: ='PDS-PPS-OKTE'!B33 -> 0 | K2: číslo žiadosti | L2: zistiť | M2: ='PDS-PPS-OKTE'!B48 -> 0 | N2: =#REF! -> #REF! | O2: =IF('PDS-PPS-OKTE'!B103="","ÁNO","NIE") -> NIE | P2: Zvoliť možnosť | Q2: Zvoliť možnosť | R2: Zvoliť možnosť
