Workbook

Sheet PDS-PPS-OKTE
B1: Žiadosť o poskytnutie kompenzácie vybraných taríf pre odberateľov elektriny v domácnosti a pre ostatných koncových odberateľov elektriny
A3: Údaje o žiadateľovi
B5: IČO | D5: DIČ | F5: IČ DPH (ak je žiadateľ platca DPH)
B8: Názov alebo obchodné meno
B11: Právna forma
B14: Adresa sídla/miesta podnikania
B15: Ulica | D15: Súpisné číslo | F15: Orientačné číslo
B18: PSČ | D18: Obec | F18: Okres
B21: Osoba s právom konať v mene žiadateľa
B22: Meno | D22: Priezvisko | F22: Typ
B26: Kontaktná osoba žiadateľa
B27: Meno | D27: Priezvisko
B29: E-mailová adresa
B32: Bankové spojenie (IBAN)
A36: Rozhodnutie ÚRSO na rok 2023 (podľa Nariadenia vlády SR č. 465/2022 Z.z.)
B38: Číslo cenového rozhodnutia
B41: Cenové rozhodnutie zo dňa
A45: Cenové rozhodnutie ÚRSO na rok 2022
B47: Číslo cenového rozhodnutia
B50: Cenové rozhodnutie zo dňa
A53: Údaje konečného užívateľa výhod, ak výška dotácie presahuje 100 000 EUR
B55: Meno 1 | D55: Priezvisko 1
B58: Meno 2 | D58: Priezvisko 2
B61: Meno 3 | D61: Priezvisko 3
B64: Meno 4 | D64: Priezvisko 4
B67: Meno 5 | D67: Priezvisko 5
B70: Meno 6 | D70: Priezvisko 6
B73: Meno 7 | D73: Priezvisko 7
B76: Meno 8 | D76: Priezvisko 8
B79: Meno 9 | D79: Priezvisko 9
B82: Meno 10 | D82: Priezvisko 10
B85: Vyhlásenie žiadateľa o splnení podmienok
B87: Nie je voči mne vedené konkurzné konanie, nie som v konkurze, v reštrukturalizácii a nebol proti mne zamietnutý návrh na vyhlásenie konkurzu pre nedostatok majetku. | G87: Zvoliť možnosť
B89: Vyhlasujem, že údaje uvedené v žiadosti, vrátane údajov pre výpočet kompenzácie, sú pravdivé, presné a úplné a spĺňam podmienky pre kompenzácie stanovené v Nariadení vlády č. 465/2022 Z.z. | G89: Zvoliť možnosť
B91: Vyhlasujem, že nemám právoplatne uložený trest zákazu prijímať dotácie alebo subvencie. | G91: Zvoliť možnosť
B93: Vyhlasujem, že nemám právoplatne uložený trest zákazu prijímať pomoc a podporu poskytovanú z fondov EÚ. | G93: Zvoliť možnosť
B95: Potvrdzujem, že spoločnosť je zapísaná do regfistra partnerov verjného sektora. | G95: Zvoliť možnosť
B97: Som si vedomý právnych dôsledkov nepravdivého vyhlásenia o skutočnostiach uvedených v žiadosti podľa zákona č. 372/1990 Z. z. o priestupkoch v znení neskorších predpisov vrátane trestnoprávnych dôsledkov podľa zákona č. 300/2005 Z. z. Trestného zákona v znení neskorších predpisov. | G97: Zvoliť možnosť
B99: Som si vedomý, že v prípade preukázania nepravdivosti údajov uvedených v žiadosti som povinný kompenzáciu bezodkladne vrátiť poskytovateľovi. | G99: Zvoliť možnosť
B101: Súhlasím so spracovaním osobných údajov podľa Zákona č. 18/2018 Z. z. o ochrane osobných údajov a o zmene a doplnení niektorých zákonov. | G101: Zvoliť možnosť
B103: =IF(AND(G87="ÁNO",G89="ÁNO",G91="ÁNO",G93="ÁNO",OR(G95="ÁNO",G95="NIE (kompenzácia do 100 tis. EUR)"),G97="ÁNO",G99="ÁNO",G101="ÁNO"),"","NIE SÚ VYPLNENÉ VŠETKY ČESTNÉ PREHLÁSENIA") -> NIE SÚ VYPLNENÉ VŠETKY ČESTNÉ PREHLÁSENIA

Sheet Návod
A1: Návod na ročné zúčtovanie kompenzácie cien vybraných druhov taríf za odberateľov elektriny za rok 2024
B3: Oprávnený žiadateľ o ročné zúčtovanie 2024 je iba subjekt, ktorý v roku 2024 spĺňal všetky
B4: podmienky vyplývajúce z Nariadenia vlády Slovenskej republiky č. 472/2023 Z. z. (ďalej ako
B5: ,,nariadenie vlády") a príslušných usmernení k nariadeniu vlády.
B8: Do formulára o ročné zúčtovanie zadajte hodnoty:
B9: Hárok "Údaje o žiadateľovi"
A17: 01 | B17: Do jednotlivých buniek vyplňte údaje o Vašej spoločnosti
A20: 02 | B20: Do jednotlivých buniek vyplňte údaje o Vašej spoločnosti
B38: Do formulára o ročné zúčtovanie zadajte hodnoty:
B39: Hárok "Výsledok RZ 2024 Tarify"
A41: 01 | B41: Názov PMDS (lokality) žiadajúcej o ročné zúčtovanie za rok 2024
A47: 02 | B47: Hodnota prijatých kompenzácií za rok 2024
A54: 03 | B54: Údaj sa vyplní automaticky
A57: 04 | B57: Údaj sa vyplní automaticky
A60: 05 | B60: Údaj sa vyplní automaticky
B68: Do formulára o ročné zúčtovanie zadajte hodnoty:
B69: Hárok "Nátok z PRDS"
A71: 06 | B71: Názov PRDS (nadradenej sústavy)
A76: 07 | B76: Do jednotlivých buniek zadajte čísla rozhodnutí ÚRSO za rok
B77: 2022 a 2024 a hodnoty za rok 2022 a 2024
A81: 08 | B81: Hodnota nátoku z PRDS (nadradenej sústavy) za rok 2024
B82: podľa príslušnej napäťovej úrovne
A89: 09 | B89: EIC hraničné odber susedná sústava
B94: Do formulára o ročné zúčtovanie zadajte hodnoty:
B95: Hárok "Distribúcia KS v PMDS"
A97: 10 | B97: Názov PMDS (lokality) žiadajúcej o ročné zúčtovanie za rok 2024
A102: 11 | B102: Do jednotlivých buniek zadajte čísla rozhodnutí ÚRSO za rok
B103: 2022 a 2024 a hodnoty za rok 2022 a 2024
A107: 12 | B107: Hodnota distribuovaného množstva elektriny za rok 2024
B108: podľa príslušnej napäťovej úrovne
A114: 13 | B114: EIC hraničné odber susedná sústava
A118: *) | B118: Jednotlivé hárky/karty je potrebné podpísať, opečiatkovať, naskenovať do PDF formátu
B119: a následne zaslať s prílohou vo formáte MS excel na e-mailovú adresu poplatky.kompenzacia@mhsr.sk
B120: - hárok "Údaje o žiadateľovi"
B121: - hárok "Výsledok RZ 2024 Tarify"
B122: - hárok "Nátok PRDS"
B123: - hárok "Distribúcia KS v PMDS"

Sheet Údaje o žiadateľovi
B1: Žiadosť o ročné zúčtovanie kompenzíácií ročné zúčtovanie kompenzácií cien vybraných druhov taríf za odberateľov elektriny za rok 2024
A3: Údaje o žiadateľovi
B5: IČO | D5: DIČ | F5: IČ DPH (ak je žiadateľ platca DPH)
B8: Názov alebo obchodné meno
B11: Právna forma
B14: Adresa sídla/miesta podnikania
B15: Ulica | D15: Súpisné číslo | F15: Orientačné číslo
B18: PSČ | D18: Obec | F18: Okres
B21: Osoba s právom konať v mene žiadateľa
B22: Meno | D22: Priezvisko
B25: E-mailová adresa
B28: Bankové spojenie (IBAN)
A32: Údaje o konečnom užívateľovi výhod, ak výška kompenzácie presahuje 100 000 EUR
B33: Meno 1 | D33: Priezvisko 1
B36: Meno 2 | D36: Priezvisko 2
B39: Meno 3 | D39: Priezvisko 3
B42: Meno 4 | D42: Priezvisko 4
B45: Meno 5 | D45: Priezvisko 5
B48: Meno 6 | D48: Priezvisko 6
B51: Meno 7 | D51: Priezvisko 7
B54: Meno 8 | D54: Priezvisko 8
B57: Meno 9 | D57: Priezvisko 9
B60: Meno 10 | D60: Priezvisko 10
A63: Vyhlásenie žiadateľa o splnení podmienok
B65: Nie je voči mne vedené konkurzné konanie, nie som v konkurze, v reštrukturalizácii a nebol proti mne zamietnutý návrh na vyhlásenie konkurzu pre nedostatok majetku. | G65: Zvoliť možnosť
B66: Nemám právoplatne uložený trest zákazu prijímať dotácie alebo subvencie. | G66: Zvoliť možnosť
B67: Nemám právoplatne uložený trest zákazu prijímať pomoc a podporu poskytovanú z fondov Európskej únie. | G67: Zvoliť možnosť
B68: Vyhlasujem, že údaje uvedené v žiadosti, vrátane údajov pre výpočet kompenzácie, sú pravdivé, presné a úplné, a spĺňam podmienky oprávnenosti prijatia kompenzácie. | G68: Zvoliť možnosť
B69: Som si vedomý právnych dôsledkov nepravdivého vyhlásenia o skutočnostiach uvedených v žiadosti podľa zákona č. 372/1990 Z. z. o priestupkoch v znení neskorších predpisov vrátane trestnoprávnych dôsledkov podľa zákona č. 300/2005 Z. z. Trestného zákona v znení neskorších predpisov. | G69: Zvoliť možnosť
B70: Som si vedomý, že v prípade preukázania nepravdivosti údajov uvedených v žiadosti, som povinný kompenzáciu bezodkladne vrátiť poskytovateľovi. | G70: Zvoliť možnosť
B71: Vyjadrujem výslovný súhlas s verifikáciou údajov uvedených v žiadosti u príslušných subjektoch. | G71: Zvoliť možnosť
B72: Súhlasím so spracovaním osobných údajov podľa Zákona č. 18/2018 Z. z. o ochrane osobných údajov a o zmene a doplnení niektorých zákonov. | G72: Zvoliť možnosť
B73: Nie je voči mne vedený výkon rozhodnutia. | G73: Zvoliť možnosť
B74: Neporušil som v predchádzajúcich troch rokoch zákaz nelegálneho zamestnávania podľa osobitného predpisu. | G74: Zvoliť možnosť
B75: Mám vysporiadané finančné vzťahy so štátnym rozpočtom. | G75: Zvoliť možnosť
B76: Nemám evidované nedoplatky na poistnom na sociálne poistenie a zdravotná poisťovňa voči mne neeviduje pohľadávky po splatnosti podľa osobitných predpisov. | G76: Zvoliť možnosť
... B81: Som zapísaný v registri partnerov verejného sektora. | G81: Zvoliť možnosť
B83: =IF(AND(G76="ÁNO",G77="ÁNO",G78="ÁNO",G79="ÁNO",G80="ÁNO",G81="ÁNO",G65="ÁNO",G67="ÁNO",G72="ÁNO",G73="ÁNO",G74="ÁNO",G75="ÁNO"),"","NIE SÚ VYPLNENÉ VŠETKY ČESTNÉ PREHLÁSENIA") -> NIE SÚ VYPLNENÉ VŠETKY ČESTNÉ PREHLÁSENIA

Sheet Výsledok RZ 2024 Tarify 
A1: Príloha k žiadosti o ročné zúčtovanie kompenzácií cien vybraných druhov taríf za odberateľov elektriny za rok 2024
A2: Názov PMDS: | B2: xxxx
A4: Prijaté kompenzácie za rok 2024 | B4: obdobie 01-12/2024 | C4: obdobie 01-12/2024
B5: suma v eur bez DPH | C5: suma v eur s DPH
A6: január | B6: =C6/1.2 -> 0 | C6: 0
A7: február | B7: =C7/1.2 -> 0 | C7: 0
A8: marec | B8: =C8/1.2 -> 0 | C8: 0
A9: apríl | B9: =C9/1.2 -> 0 | C9: 0
A10: máj | B10: =C10/1.2 -> 0 | C10: 0
A11: jún | B11: =C11/1.2 -> 0 | C11: 0 | G11: prijaté kompenzácie za rok 2024
A12: júl | B12: =C12/1.2 -> 0 | C12: 0
A13: august | B13: =C13/1.2 -> 0 | C13: 0
A14: september | B14: =C14/1.2 -> 0 | C14: 0
A15: október | B15: =C15/1.2 -> 0 | C15: 0
A16: november | B16: =C16/1.2 -> 0 | C16: 0
A17: december | B17: =C17/1.2 -> 0 | C17: 0
A18: Spolu za rok 2024 | B18: =SUM(B6:B17) -> 0 | C18: =SUM(C6:C17) -> 0
A20: Nárok na kompenzáciu za rok 2024 | B20: suma v eur bez DPH | C20: suma v eur s DPH | G20: údaje z hárku Distribúcia KS v PMDS
A21: Spolu | B21: ='Distribúcia KS v PMDS'!H227 -> 0 | C21: ='Distribúcia KS v PMDS'!J227 -> 0
A23: Rozdiel vysporiadania ročného zúčtovania za rok 2024 | B23: suma v eur bez DPH | C23: suma v eur s DPH | G23: Výsledná hodnota ročného zúčtovania za 01-12/2024
A24: Spolu | B24: =IF(B21<0,B18,-1*(B18-B21)) -> 0 | C24: =IF(C21<0,C18,-1*(C18-C21)) -> 0
A26: Distribuované množstvo elektriny (podliehajúce kompenzácii) | B26: ='Distribúcia KS v PMDS'!H228 -> 0 | C26: [MWh]

Sheet Nátok z PRDS
A1: Príloha k žiadosti o ročné zúčtovanie kompenzácií cien vybraných druhov taríf za odberateľov elektriny za rok 2024 | J1: EIC hraničné odber susedná sústava | K1: Link URSO
A2: Mesiac: 01-12/2024 PRDS: | B2: Sadzba | C2: Tarifa | D2: m.j. 2 | E2: Množstvo | F2: Tarifa na rok 2022 podľa rozhodnutia ÚRSO č. XXXX/2022/E | G2: Tarifa na rok 2024 podľa rozhodnutia ÚRSO č. XXXX/2024/E | H2: Rozdiel 3 [3]-[2] | I2: Kompenzácia 4 [1]x[4]
E3: [m.j.] | F3: [€/m.j.] | G3: [€/m.j.] | H3: [€/m.j.] | I3: [€]
E4: [1] | F4: [2] | G4: [3] | H4: [4] | I4: [5]
A5: Odberatelia elektriny v domácnosti pripojení na napäťovú úroveň nízkeho napätia | B5: D1 | C5: prístup do distribučnej sústavy | H5: =+G5-F5 -> 0 | I5: =+ROUND(IF(H5>0,H5*E5,0),4) -> 0
C6: distribúcia elektriny | D6: MWh | H6: n.a. | I6: n.a.
C7: straty | H7: n.a. | I7: n.a.
C8: distribúcia elektriny + straty | F8: =+F6+F7 -> 0 | G8: =+G6+G7 -> 0 | H8: =+G8-F8 -> 0 | I8: =+ROUND(IF(H8>0,H8*E6,0),4) -> 0
A9: Odberatelia elektriny v domácnosti pripojení na napäťovú úroveň nízkeho napätia | B9: D2 | C9: prístup do distribučnej sústavy | H9: =+G9-F9 -> 0 | I9: =+ROUND(IF(H9>0,H9*E9,0),4) -> 0
C10: prístup do distribučnej sústavy (nevidiaci) | H10: =+G10-F10 -> 0 | I10: =+ROUND(IF(H10>0,H10*E10,0),4) -> 0
C11: distribúcia elektriny | D11: MWh | H11: n.a. | I11: n.a.
C12: straty | H12: n.a. | I12: n.a.
C13: distribúcia elektriny + straty | F13: =+F11+F12 -> 0 | G13: =+G11+G12 -> 0 | H13: =+G13-F13 -> 0 | I13: =+ROUND(IF(H13>0,H13*E11,0),4) -> 0
A14: Odberatelia elektriny v domácnosti pripojení na napäťovú úroveň nízkeho napätia | B14: D3 | C14: prístup do distribučnej sústavy | H14: =+G14-F14 -> 0 | I14: =+ROUND(IF(H14>0,H14*E14,0),4) -> 0
C15: distribúcia elektriny VT | D15: MWh | H15: n.a. | I15: n.a.
C16: straty | H16: n.a. | I16: n.a.
C17: distribúcia elektriny VT + straty | F17: =+F15+F16 -> 0 | G17: =+G15+G16 -> 0 | H17: =+G17-F17 -> 0 | I17: =+ROUND(IF(H17>0,H17*E15,0),4) -> 0
C18: distribúcia elektriny NT | D18: MWh | H18: n.a. | I18: n.a.
C19: straty | H19: n.a. | I19: n.a.
C20: distribúcia elektriny NT + straty | F20: =+F18+F19 -> 0 | G20: =+G18+G19 -> 0 | H20: =+G20-F20 -> 0 | I20: =+ROUND(IF(H20>0,H20*E18,0),4) -> 0
A21: Odberatelia elektriny v domácnosti pripojení na napäťovú úroveň nízkeho napätia | B21: D4 | C21: prístup do distribučnej sústavy | H21: =+G21-F21 -> 0 | I21: =+ROUND(IF(H21>0,H21*E21,0),4) -> 0
C22: prístup do distribučnej sústavy (nevidiaci) | H22: =+G22-F22 -> 0 | I22: =+ROUND(IF(H22>0,H22*E22,0),4) -> 0
C23: distribúcia elektriny VT | D23: MWh | H23: n.a. | I23: n.a.
C24: straty | H24: n.a. | I24: n.a.
C25: distribúcia elektriny VT + straty | F25: =+F23+F24 -> 0 | G25: =+G23+G24 -> 0 | H25: =+G25-F25 -> 0 | I25: =+ROUND(IF(H25>0,H25*E23,0),4) -> 0
C26: distribúcia elektriny NT | D26: MWh | H26: n.a. | I26: n.a.
C27: straty | H27: n.a. | I27: n.a.
C28: distribúcia elektriny NT + straty | F28: =+F26+F27 -> 0 | G28: =+G26+G27 -> 0 | H28: =+G28-F28 -> 0 | I28: =+ROUND(IF(H28>0,H28*E26,0),4) -> 0
A29: Odberatelia elektriny v domácnosti pripojení na napäťovú úroveň nízkeho napätia | B29: D5 | C29: prístup do distribučnej sústavy | H29: =+G29-F29 -> 0 | I29: =+ROUND(IF(H29>0,H29*E29,0),4) -> 0
C30: distribúcia elektriny VT | D30: MWh | H30: n.a. | I30: n.a.
C31: straty | H31: n.a. | I31: n.a.
C32: distribúcia elektriny VT + straty | F32: =+F30+F31 -> 0 | G32: =+G30+G31 -> 0 | H32: =+G32-F32 -> 0 | I32: =+ROUND(IF(H32>0,H32*E30,0),4) -> 0
C33: distribúcia elektriny NT | D33: MWh | H33: n.a. | I33: n.a.
C34: straty | H34: n.a. | I34: n.a.
C35: distribúcia elektriny NT + straty | F35: =+F33+F34 -> 0 | G35: =+G33+G34 -> 0 | H35: =+G35-F35 -> 0 | I35: =+ROUND(IF(H35>0,H35*E33,0),4) -> 0
A36: Odberatelia elektriny v domácnosti pripojení na napäťovú úroveň nízkeho napätia | B36: D6 | C36: prístup do distribučnej sústavy | H36: =+G36-F36 -> 0 | I36: =+ROUND(IF(H36>0,H36*E36,0),4) -> 0
C37: distribúcia elektriny VT | D37: MWh | H37: n.a. | I37: n.a.
C38: straty | H38: n.a. | I38: n.a.
C39: distribúcia elektriny VT + straty | F39: =+F37+F38 -> 0 | G39: =+G37+G38 -> 0 | H39: =+G39-F39 -> 0 | I39: =+ROUND(IF(H39>0,H39*E37,0),4) -> 0
C40: distribúcia elektriny NT | D40: MWh | H40: n.a. | I40: n.a.
C41: straty | H41: n.a. | I41: n.a.
C42: distribúcia elektriny NT + straty | F42: =+F40+F41 -> 0 | G42: =+G40+G41 -> 0 | H42: =+G42-F42 -> 0 | I42: =+ROUND(IF(H42>0,H42*E40,0),4) -> 0
A43: Odberatelia elektriny v domácnosti pripojení na napäťovú úroveň nízkeho napätia | B43: D7 | C43: prístup do distribučnej sústavy | H43: =+G43-F43 -> 0 | I43: =+ROUND(IF(H43>0,H43*E43,0),4) -> 0
C44: distribúcia elektriny VT | D44: MWh | H44: n.a. | I44: n.a.
C45: straty | H45: n.a. | I45: n.a.
C46: distribúcia elektriny VT + straty | F46: =+F44+F45 -> 0 | G46: =+G44+G45 -> 0 | H46: =+G46-F46 -> 0 | I46: =+ROUND(IF(H46>0,H46*E44,0),4) -> 0
C47: distribúcia elektriny NT | D47: MWh | H47: n.a. | I47: n.a.
C48: straty | H48: n.a. | I48: n.a.
C49: distribúcia elektriny NT + straty | F49: =+F47+F48 -> 0 | G49: =+G47+G48 -> 0 | H49: =+G49-F49 -> 0 | I49: =+ROUND(IF(H49>0,H49*E47,0),4) -> 0
A50: Odberatelia elektriny v domácnosti pripojení na napäťovú úroveň nízkeho napätia | B50: D8 | C50: prístup do distribučnej sústavy | H50: =+G50-F50 -> 0 | I50: =+ROUND(IF(H50>0,H50*E50,0),4) -> 0
C51: distribúcia elektriny VT | D51: MWh | H51: n.a. | I51: n.a.
C52: straty | H52: n.a. | I52: n.a.
C53: distribúcia elektriny VT + straty | F53: =+F51+F52 -> 0 | G53: =+G51+G52 -> 0 | H53: =+G53-F53 -> 0 | I53: =+ROUND(IF(H53>0,H53*E51,0),4) -> 0
C54: distribúcia elektriny NT | D54: MWh | H54: n.a. | I54: n.a.
C55: straty | H55: n.a. | I55: n.a.
C56: distribúcia elektriny NT + straty | F56: =+F54+F55 -> 0 | G56: =+G54+G55 -> 0 | H56: =+G56-F56 -> 0 | I56: =+ROUND(IF(H56>0,H56*E54,0),4) -> 0
A57: Odberatelia elektriny v domácnosti pripojení na napäťovú úroveň nízkeho napätia | B57: D9 | C57: prístup do distribučnej sústavy | H57: =+G57-F57 -> 0 | I57: =+ROUND(IF(H57>0,H57*E57,0),4) -> 0
C58: distribúcia elektriny VT | D58: MWh | H58: n.a. | I58: n.a.
C59: straty | H59: n.a. | I59: n.a.
C60: distribúcia elektriny VT + straty | F60: =+F58+F59 -> 0 | G60: =+G58+G59 -> 0 | H60: =+G60-F60 -> 0 | I60: =+ROUND(IF(H60>0,H60*E58,0),4) -> 0
C61: distribúcia elektriny NT | D61: MWh | H61: n.a. | I61: n.a.
C62: straty | H62: n.a. | I62: n.a.
C63: distribúcia elektriny NT + straty | F63: =+F61+F62 -> 0 | G63: =+G61+G62 -> 0 | H63: =+G63-F63 -> 0 | I63: =+ROUND(IF(H63>0,H63*E61,0),4) -> 0
A64: Odberatelia elektriny v domácnosti pripojení na napäťovú úroveň nízkeho napätia | B64: D10 | C64: prístup do distribučnej sústavy | H64: =+G64-F64 -> 0 | I64: =+ROUND(IF(H64>0,H64*E64,0),4) -> 0
C65: distribúcia elektriny VVT | D65: MWh | H65: n.a. | I65: n.a.
C66: straty | H66: n.a. | I66: n.a.
C67: distribúcia elektriny VVT + straty | F67: =+F65+F66 -> 0 | G67: =+G65+G66 -> 0 | H67: =+G67-F67 -> 0 | I67: =+ROUND(IF(H67>0,H67*E65,0),4) -> 0
C68: distribúcia elektriny VT | D68: MWh | H68: n.a. | I68: n.a.
C69: straty | H69: n.a. | I69: n.a.
C70: distribúcia elektriny VT + straty | F70: =+F68+F69 -> 0 | G70: =+G68+G69 -> 0 | H70: =+G70-F70 -> 0 | I70: =+ROUND(IF(H70>0,H70*E68,0),4) -> 0
C71: distribúcia elektriny NT | D71: MWh | H71: n.a. | I71: n.a.
C72: straty | H72: n.a. | I72: n.a.
C73: distribúcia elektriny NT + straty | F73: =+F71+F72 -> 0 | G73: =+G71+G72 -> 0 | H73: =+G73-F73 -> 0 | I73: =+ROUND(IF(H73>0,H73*E71,0),4) -> 0
C74: distribúcia elektriny VNT | D74: MWh | H74: n.a. | I74: n.a.
C75: straty | H75: n.a. | I75: n.a.
C76: distribúcia elektriny VNT + straty | F76: =+F74+F75 -> 0 | G76: =+G74+G75 -> 0 | H76: =+G76-F76 -> 0 | I76: =+ROUND(IF(H76>0,H76*E74,0),4) -> 0 | N76: medzisucty | O76: mnozstvo | P76: bez DPH | Q76: PRIEMER | R76: s DPH
A77: Odberatelia elektriny v domácnosti pripojení na napäťovú úroveň nízkeho napätia | B77: Súčet | C77: prístup do distribučnej sústavy | D77: n.a. | E77: n.a. | F77: n.a. | G77: n.a. | H77: n.a. | I77: =N77 -> 0 | N77: =ROUND(+I5+I9+I10+I14+I21+I22+I29+I36+I43+I50+I57+I64,6) -> 0 | O77: =ROUND(SUM(E6,E11,E15,E18,E23,E26,E30,E33,E37,E40,E44,E47,E51,E54,E58,E61,E65,E68,E71,E74),3) -> 0 | P77: =Q77*O77 -> 0 | Q77: =IFERROR(ROUND((N77+N78)/O77,6),0) -> 0 | R77: =ROUND(Q77*O77*1.2,2) -> 0
C78: distribúcia elektriny + straty | E78: =O77 -> 0 | F78: n.a. | G78: n.a. | H78: n.a. | I78: =N78 -> 0 | N78: =ROUND(+I8+I13+I17+I20+I25+I28+I32+I35+I39+I42+I46+I49+I53+I56+I60+I63+I67+I70+I73+I76,6) -> 0
A79: Ostatní koncoví odberatelia elektriny pripojení na napäťovú úroveň nízkeho napätia | B79: C1 | C79: prístup do distribučnej sústavy v A | D79: A | H79: =+G79-F79 -> 0 | I79: =+ROUND(IF(H79>0,H79*E79,0),4) -> 0
C80: prístup do distribučnej sústavy v kW | D80: kW | H80: =+G80-F80 -> 0 | I80: =+ROUND(IF(H80>0,H80*E80,0),4) -> 0
C81: distribúcia elektriny | D81: MWh | H81: n.a. | I81: n.a.
C82: straty | H82: n.a. | I82: n.a.
C83: distribúcia elektriny + straty | F83: =+F81+F82 -> 0 | G83: =+G81+G82 -> 0 | H83: =+G83-F83 -> 0 | I83: =+ROUND(IF(H83>0,H83*E81,0),4) -> 0
A84: Ostatní koncoví odberatelia elektriny pripojení na napäťovú úroveň nízkeho napätia | B84: C2 | C84: prístup do distribučnej sústavy v A | D84: A | H84: =+G84-F84 -> 0 | I84: =+ROUND(IF(H84>0,H84*E84,0),4) -> 0
C85: prístup do distribučnej sústavy v kW | D85: kW | H85: =+G85-F85 -> 0 | I85: =+ROUND(IF(H85>0,H85*E85,0),4) -> 0
C86: distribúcia elektriny | D86: MWh | H86: n.a. | I86: n.a.
C87: straty | H87: n.a. | I87: n.a.
C88: distribúcia elektriny + straty | F88: =+F86+F87 -> 0 | G88: =+G86+G87 -> 0 | H88: =+G88-F88 -> 0 | I88: =+ROUND(IF(H88>0,H88*E86,0),4) -> 0
A89: Ostatní koncoví odberatelia elektriny pripojení na napäťovú úroveň nízkeho napätia | B89: C3 | C89: prístup do distribučnej sústavy v A | D89: A | H89: =+G89-F89 -> 0 | I89: =+ROUND(IF(H89>0,H89*E89,0),4) -> 0
C90: prístup do distribučnej sústavy v kW | D90: kW | H90: =+G90-F90 -> 0 | I90: =+ROUND(IF(H90>0,H90*E90,0),4) -> 0
C91: distribúcia elektriny | D91: MWh | H91: n.a. | I91: n.a.
C92: straty | H92: n.a. | I92: n.a.
C93: distribúcia elektriny + straty | F93: =+F91+F92 -> 0 | G93: =+G91+G92 -> 0 | H93: =+G93-F93 -> 0 | I93: =+ROUND(IF(H93>0,H93*E91,0),4) -> 0
A94: Ostatní koncoví odberatelia elektriny pripojení na napäťovú úroveň nízkeho napätia | B94: C4 | C94: prístup do distribučnej sústavy v A | D94: A | H94: =+G94-F94 -> 0 | I94: =+ROUND(IF(H94>0,H94*E94,0),4) -> 0
C95: prístup do distribučnej sústavy v kW | D95: kW | H95: =+G95-F95 -> 0 | I95: =+ROUND(IF(H95>0,H95*E95,0),4) -> 0
C96: distribúcia elektriny VT | D96: MWh | H96: n.a. | I96: n.a.
C97: straty | H97: n.a. | I97: n.a.
C98: distribúcia elektriny VT + straty | F98: =+F96+F97 -> 0 | G98: =+G96+G97 -> 0 | H98: =+G98-F98 -> 0 | I98: =+ROUND(IF(H98>0,H98*E96,0),4) -> 0
C99: distribúcia elektriny NT | D99: MWh | H99: n.a. | I99: n.a.
C100: straty | H100: n.a. | I100: n.a.
...

Sheet Distribúcia KS v PMDS
A1: Príloha k žiadosti o ročné zúčtovanie kompenzácií cien vybraných druhov taríf za odberateľov elektriny za rok 2024 | J1: EIC hraničné odber susedná sústava | K1: Link URSO
A2: Mesiac: 01-12/2024 PMDS: | B2: Sadzba | C2: Tarifa | D2: m.j. 2 | E2: Množstvo | F2: Tarifa na rok 2022 podľa rozhodnutia ÚRSO č. XXXX/2022/E | G2: Tarifa na rok 2024 podľa rozhodnutia ÚRSO č. XXXX/2024/E | H2: Rozdiel 3 [3]-[2] | I2: Kompenzácia 4 [1]x[4]
E3: [m.j.] | F3: [€/m.j.] | G3: [€/m.j.] | H3: [€/m.j.] | I3: [€]
E4: [1] | F4: [2] | G4: [3] | H4: [4] | I4: [5]
A5: Odberatelia elektriny v domácnosti pripojení na napäťovú úroveň nízkeho napätia | B5: D1 | C5: prístup do distribučnej sústavy | H5: =+G5-F5 -> 0 | I5: =+ROUND(IF(H5>0,H5*E5,0),4) -> 0
C6: distribúcia elektriny | D6: MWh | H6: n.a. | I6: n.a.
C7: straty | H7: n.a. | I7: n.a.
C8: distribúcia elektriny + straty | F8: =+F6+F7 -> 0 | G8: =+G6+G7 -> 0 | H8: =+G8-F8 -> 0 | I8: =+ROUND(IF(H8>0,H8*E6,0),4) -> 0
A9: Odberatelia elektriny v domácnosti pripojení na napäťovú úroveň nízkeho napätia | B9: D2 | C9: prístup do distribučnej sústavy | H9: =+G9-F9 -> 0 | I9: =+ROUND(IF(H9>0,H9*E9,0),4) -> 0
C10: prístup do distribučnej sústavy (nevidiaci) | H10: =+G10-F10 -> 0 | I10: =+ROUND(IF(H10>0,H10*E10,0),4) -> 0
C11: distribúcia elektriny | D11: MWh | H11: n.a. | I11: n.a.
C12: straty | H12: n.a. | I12: n.a.
C13: distribúcia elektriny + straty | F13: =+F11+F12 -> 0 | G13: =+G11+G12 -> 0 | H13: =+G13-F13 -> 0 | I13: =+ROUND(IF(H13>0,H13*E11,0),4) -> 0
A14: Odberatelia elektriny v domácnosti pripojení na napäťovú úroveň nízkeho napätia | B14: D3 | C14: prístup do distribučnej sústavy | H14: =+G14-F14 -> 0 | I14: =+ROUND(IF(H14>0,H14*E14,0),4) -> 0
C15: distribúcia elektriny VT | D15: MWh | H15: n.a. | I15: n.a.
C16: straty | H16: n.a. | I16: n.a.
C17: distribúcia elektriny VT + straty | F17: =+F15+F16 -> 0 | G17: =+G15+G16 -> 0 | H17: =+G17-F17 -> 0 | I17: =+ROUND(IF(H17>0,H17*E15,0),4) -> 0
C18: distribúcia elektriny NT | D18: MWh | H18: n.a. | I18: n.a.
C19: straty | H19: n.a. | I19: n.a.
C20: distribúcia elektriny NT + straty | F20: =+F18+F19 -> 0 | G20: =+G18+G19 -> 0 | H20: =+G20-F20 -> 0 | I20: =+ROUND(IF(H20>0,H20*E18,0),4) -> 0
A21: Odberatelia elektriny v domácnosti pripojení na napäťovú úroveň nízkeho napätia | B21: D4 | C21: prístup do distribučnej sústavy | H21: =+G21-F21 -> 0 | I21: =+ROUND(IF(H21>0,H21*E21,0),4) -> 0
C22: prístup do distribučnej sústavy (nevidiaci) | H22: =+G22-F22 -> 0 | I22: =+ROUND(IF(H22>0,H22*E22,0),4) -> 0
C23: distribúcia elektriny VT | D23: MWh | H23: n.a. | I23: n.a.
C24: straty | H24: n.a. | I24: n.a.
C25: distribúcia elektriny VT + straty | F25: =+F23+F24 -> 0 | G25: =+G23+G24 -> 0 | H25: =+G25-F25 -> 0 | I25: =+ROUND(IF(H25>0,H25*E23,0),4) -> 0
C26: distribúcia elektriny NT | D26: MWh | H26: n.a. | I26: n.a.
C27: straty | H27: n.a. | I27: n.a.
C28: distribúcia elektriny NT + straty | F28: =+F26+F27 -> 0 | G28: =+G26+G27 -> 0 | H28: =+G28-F28 -> 0 | I28: =+ROUND(IF(H28>0,H28*E26,0),4) -> 0
A29: Odberatelia elektriny v domácnosti pripojení na napäťovú úroveň nízkeho napätia | B29: D5 | C29: prístup do distribučnej sústavy | H29: =+G29-F29 -> 0 | I29: =+ROUND(IF(H29>0,H29*E29,0),4) -> 0
C30: distribúcia elektriny VT | D30: MWh | H30: n.a. | I30: n.a.
C31: straty | H31: n.a. | I31: n.a.
C32: distribúcia elektriny VT + straty | F32: =+F30+F31 -> 0 | G32: =+G30+G31 -> 0 | H32: =+G32-F32 -> 0 | I32: =+ROUND(IF(H32>0,H32*E30,0),4) -> 0
C33: distribúcia elektriny NT | D33: MWh | H33: n.a. | I33: n.a.
C34: straty | H34: n.a. | I34: n.a.
C35: distribúcia elektriny NT + straty | F35: =+F33+F34 -> 0 | G35: =+G33+G34 -> 0 | H35: =+G35-F35 -> 0 | I35: =+ROUND(IF(H35>0,H35*E33,0),4) -> 0
A36: Odberatelia elektriny v domácnosti pripojení na napäťovú úroveň nízkeho napätia | B36: D6 | C36: prístup do distribučnej sústavy | H36: =+G36-F36 -> 0 | I36: =+ROUND(IF(H36>0,H36*E36,0),4) -> 0
C37: distribúcia elektriny VT | D37: MWh | H37: n.a. | I37: n.a.
C38: straty | H38: n.a. | I38: n.a.
C39: distribúcia elektriny VT + straty | F39: =+F37+F38 -> 0 | G39: =+G37+G38 -> 0 | H39: =+G39-F39 -> 0 | I39: =+ROUND(IF(H39>0,H39*E37,0),4) -> 0
C40: distribúcia elektriny NT | D40: MWh | H40: n.a. | I40: n.a.
C41: straty | H41: n.a. | I41: n.a.
C42: distribúcia elektriny NT + straty | F42: =+F40+F41 -> 0 | G42: =+G40+G41 -> 0 | H42: =+G42-F42 -> 0 | I42: =+ROUND(IF(H42>0,H42*E40,0),4) -> 0
A43: Odberatelia elektriny v domácnosti pripojení na napäťovú úroveň nízkeho napätia | B43: D7 | C43: prístup do distribučnej sústavy | H43: =+G43-F43 -> 0 | I43: =+ROUND(IF(H43>0,H43*E43,0),4) -> 0
C44: distribúcia elektriny VT | D44: MWh | H44: n.a. | I44: n.a.
C45: straty | H45: n.a. | I45: n.a.
C46: distribúcia elektriny VT + straty | F46: =+F44+F45 -> 0 | G46: =+G44+G45 -> 0 | H46: =+G46-F46 -> 0 | I46: =+ROUND(IF(H46>0,H46*E44,0),4) -> 0
C47: distribúcia elektriny NT | D47: MWh | H47: n.a. | I47: n.a.
C48: straty | H48: n.a. | I48: n.a.
C49: distribúcia elektriny NT + straty | F49: =+F47+F48 -> 0 | G49: =+G47+G48 -> 0 | H49: =+G49-F49 -> 0 | I49: =+ROUND(IF(H49>0,H49*E47,0),4) -> 0
A50: Odberatelia elektriny v domácnosti pripojení na napäťovú úroveň nízkeho napätia | B50: D8 | C50: prístup do distribučnej sústavy | H50: =+G50-F50 -> 0 | I50: =+ROUND(IF(H50>0,H50*E50,0),4) -> 0
C51: distribúcia elektriny VT | D51: MWh | H51: n.a. | I51: n.a.
C52: straty | H52: n.a. | I52: n.a.
C53: distribúcia elektriny VT + straty | F53: =+F51+F52 -> 0 | G53: =+G51+G52 -> 0 | H53: =+G53-F53 -> 0 | I53: =+ROUND(IF(H53>0,H53*E51,0),4) -> 0
C54: distribúcia elektriny NT | D54: MWh | H54: n.a. | I54: n.a.
C55: straty | H55: n.a. | I55: n.a.
C56: distribúcia elektriny NT + straty | F56: =+F54+F55 -> 0 | G56: =+G54+G55 -> 0 | H56: =+G56-F56 -> 0 | I56: =+ROUND(IF(H56>0,H56*E54,0),4) -> 0
A57: Odberatelia elektriny v domácnosti pripojení na napäťovú úroveň nízkeho napätia | B57: D9 | C57: prístup do distribučnej sústavy | H57: =+G57-F57 -> 0 | I57: =+ROUND(IF(H57>0,H57*E57,0),4) -> 0
C58: distribúcia elektriny VT | D58: MWh | H58: n.a. | I58: n.a.
C59: straty | H59: n.a. | I59: n.a.
C60: distribúcia elektriny VT + straty | F60: =+F58+F59 -> 0 | G60: =+G58+G59 -> 0 | H60: =+G60-F60 -> 0 | I60: =+ROUND(IF(H60>0,H60*E58,0),4) -> 0
C61: distribúcia elektriny NT | D61: MWh | H61: n.a. | I61: n.a.
C62: straty | H62: n.a. | I62: n.a.
C63: distribúcia elektriny NT + straty | F63: =+F61+F62 -> 0 | G63: =+G61+G62 -> 0 | H63: =+G63-F63 -> 0 | I63: =+ROUND(IF(H63>0,H63*E61,0),4) -> 0
A64: Odberatelia elektriny v domácnosti pripojení na napäťovú úroveň nízkeho napätia | B64: D10 | C64: prístup do distribučnej sústavy | H64: =+G64-F64 -> 0 | I64: =+ROUND(IF(H64>0,H64*E64,0),4) -> 0
C65: distribúcia elektriny VVT | D65: MWh | H65: n.a. | I65: n.a.
C66: straty | H66: n.a. | I66: n.a.
C67: distribúcia elektriny VVT + straty | F67: =+F65+F66 -> 0 | G67: =+G65+G66 -> 0 | H67: =+G67-F67 -> 0 | I67: =+ROUND(IF(H67>0,H67*E65,0),4) -> 0
C68: distribúcia elektriny VT | D68: MWh | H68: n.a. | I68: n.a.
C69: straty | H69: n.a. | I69: n.a.
C70: distribúcia elektriny VT + straty | F70: =+F68+F69 -> 0 | G70: =+G68+G69 -> 0 | H70: =+G70-F70 -> 0 | I70: =+ROUND(IF(H70>0,H70*E68,0),4) -> 0
C71: distribúcia elektriny NT | D71: MWh | H71: n.a. | I71: n.a.
C72: straty | H72: n.a. | I72: n.a.
C73: distribúcia elektriny NT + straty | F73: =+F71+F72 -> 0 | G73: =+G71+G72 -> 0 | H73: =+G73-F73 -> 0 | I73: =+ROUND(IF(H73>0,H73*E71,0),4) -> 0
C74: distribúcia elektriny VNT | D74: MWh | H74: n.a. | I74: n.a.
C75: straty | H75: n.a. | I75: n.a.
C76: distribúcia elektriny VNT + straty | F76: =+F74+F75 -> 0 | G76: =+G74+G75 -> 0 | H76: =+G76-F76 -> 0 | I76: =+ROUND(IF(H76>0,H76*E74,0),4) -> 0 | J76: Vážený priemer NN domácnosti
A77: Odberatelia elektriny v domácnosti pripojení na napäťovú úroveň nízkeho napätia | B77: Súčet | C77: prístup do distribučnej sústavy | D77: n.a. | E77: n.a. | F77: n.a. | G77: n.a. | H77: n.a. | I77: =N77 -> 0 | J77: =IFERROR(O77,0) -> 0 | M77: =IFERROR(ROUND((I77+I78)/M78,6),0) -> 0 | N77: =ROUND((+I5+I9+I10+I14+I21+I22+I29+I36+I43+I50+I57+I64),4) -> 0 | O77: =IFERROR(ROUND(((N77+N78)/M78),6),0) -> 0 | P77: bez DPH | Q77: s DPH
C78: distribúcia elektriny + straty | E78: =M78 -> 0 | F78: n.a. | G78: n.a. | H78: n.a. | I78: =N78 -> 0 | M78: =ROUND(SUM(E6,E11,E15,E18,E23,E26,E30,E33,E37,E40,E44,E47,E51,E54,E58,E61,E65,E68,E71,E74),3) -> 0 | N78: =ROUND((+I8+I13+I17+I20+I25+I28+I32+I35+I39+I42+I46+I49+I53+I56+I60+I63+I67+I70+I73+I76),4) -> 0 | O78: =IFERROR(P78/M78,0) -> 0 | P78: =O77*M78 -> 0 | Q78: =ROUND(O78*M78*1.2,2) -> 0
A79: Ostatní koncoví odberatelia elektriny pripojení na napäťovú úroveň nízkeho napätia | B79: C1 | C79: prístup do distribučnej sústavy v A | D79: A | H79: =+G79-F79 -> 0 | I79: =+ROUND(IF(H79>0,H79*E79,0),4) -> 0
C80: prístup do distribučnej sústavy v kW | D80: kW | H80: =+G80-F80 -> 0 | I80: =+ROUND(IF(H80>0,H80*E80,0),4) -> 0
C81: distribúcia elektriny | D81: MWh | H81: n.a. | I81: n.a. | M81: =ROUND(O77*M78*1.2,2) -> 0
C82: straty | H82: n.a. | I82: n.a.
C83: distribúcia elektriny + straty | F83: =+F81+F82 -> 0 | G83: =+G81+G82 -> 0 | H83: =+G83-F83 -> 0 | I83: =+ROUND(IF(H83>0,H83*E81,0),4) -> 0
A84: Ostatní koncoví odberatelia elektriny pripojení na napäťovú úroveň nízkeho napätia | B84: C2 | C84: prístup do distribučnej sústavy v A | D84: A | H84: =+G84-F84 -> 0 | I84: =+ROUND(IF(H84>0,H84*E84,0),4) -> 0
C85: prístup do distribučnej sústavy v kW | D85: kW | H85: =+G85-F85 -> 0 | I85: =+ROUND(IF(H85>0,H85*E85,0),4) -> 0
C86: distribúcia elektriny | D86: MWh | H86: n.a. | I86: n.a.
C87: straty | H87: n.a. | I87: n.a.
C88: distribúcia elektriny + straty | F88: =+F86+F87 -> 0 | G88: =+G86+G87 -> 0 | H88: =+G88-F88 -> 0 | I88: =+ROUND(IF(H88>0,H88*E86,0),4) -> 0
A89: Ostatní koncoví odberatelia elektriny pripojení na napäťovú úroveň nízkeho napätia | B89: C3 | C89: prístup do distribučnej sústavy v A | D89: A | H89: =+G89-F89 -> 0 | I89: =+ROUND(IF(H89>0,H89*E89,0),4) -> 0
C90: prístup do distribučnej sústavy v kW | D90: kW | H90: =+G90-F90 -> 0 | I90: =+ROUND(IF(H90>0,H90*E90,0),4) -> 0
C91: distribúcia elektriny | D91: MWh | H91: n.a. | I91: n.a.
C92: straty | H92: n.a. | I92: n.a.
C93: distribúcia elektriny + straty | F93: =+F91+F92 -> 0 | G93: =+G91+G92 -> 0 | H93: =+G93-F93 -> 0 | I93: =+ROUND(IF(H93>0,H93*E91,0),4) -> 0
A94: Ostatní koncoví odberatelia elektriny pripojení na napäťovú úroveň nízkeho napätia | B94: C4 | C94: prístup do distribučnej sústavy v A | D94: A | H94: =+G94-F94 -> 0 | I94: =+ROUND(IF(H94>0,H94*E94,0),4) -> 0
C95: prístup do distribučnej sústavy v kW | D95: kW | H95: =+G95-F95 -> 0 | I95: =+ROUND(IF(H95>0,H95*E95,0),4) -> 0
C96: distribúcia elektriny VT | D96: MWh | H96: n.a. | I96: n.a.
C97: straty | H97: n.a. | I97: n.a.
C98: distribúcia elektriny VT + straty | F98: =+F96+F97 -> 0 | G98: =+G96+G97 -> 0 | H98: =+G98-F98 -> 0 | I98: =+ROUND(IF(H98>0,H98*E96,0),4) -> 0
C99: distribúcia elektriny NT | D99: MWh | H99: n.a. | I99: n.a.
C100: straty | H100: n.a. | I100: n.a.
...

Sheet ZSD
A1: Príloha k žiadosti o ročné zúčtovanie kompenzácií vybraných druhov taríf pre odberateľov elektriny v domácnosti a pre ostatných koncových odberateľov elektriny za rok 2024 | K1: Skryt | L1: Rozdiel nadradena formular vs uvedena v natoku
A2: Mesiac: 01-12/2024 PRDS: ZSD, a.s. | B2: Sadzba | C2: Tarifa | D2: m.j. 2 | E2: Množstvo | F2: Tarifa na rok 2022 podľa rozhodnutia ÚRSO č. XXXX | G2: Tarifa na rok 2024 podľa rozhodnutia ÚRSO č. XXXX | H2: rozdiel ziadost | I2: rozdiel v eur
E3: [m.j.] | F3: [€/m.j.] | G3: [€/m.j.] | H3: [€/m.j.] | I3: [€]
E4: [1] | F4: [2] | G4: [3] | H4: [4] | I4: [5]
A5: Odberatelia elektriny v domácnosti pripojení na napäťovú úroveň nízkeho napätia | B5: D1 | C5: prístup do distribučnej sústavy | D5: OM | F5: 1.3206 | G5: 1.4527 | H5: =+G5-F5 -> 0.1321 | I5: =+ROUND(IF(H5>0,H5*E5,0),4) -> 0 | L5: =IFERROR(H5-'Nátok z PRDS'!H5,"N/A") -> 0.1321 | M5: =IFERROR(H5-'Distribúcia KS v PMDS'!H5,0) -> 0.1321
C6: distribúcia elektriny | D6: MWh | F6: 38.904 | G6: 40.426 | H6: n.a. | I6: n.a. | L6: =IFERROR(H6-'Nátok z PRDS'!H6,"N/A") -> N/A | M6: =IFERROR(H6-'Distribúcia KS v PMDS'!H6,0) -> 0
C7: straty | F7: 11.466 | G7: 16.826 | H7: n.a. | I7: n.a. | L7: =IFERROR(H7-'Nátok z PRDS'!H7,"N/A") -> N/A | M7: =IFERROR(H7-'Distribúcia KS v PMDS'!H7,0) -> 0
C8: distribúcia elektriny + straty | F8: =+F6+F7 -> 50.37 | G8: =+G6+G7 -> 57.252 | H8: =+G8-F8 -> 6.882 | I8: =+ROUND(IF(H8>0,H8*E6,0),4) -> 0 | L8: =IFERROR(H8-'Nátok z PRDS'!H8,"N/A") -> 6.882 | M8: =IFERROR(H8-'Distribúcia KS v PMDS'!H8,0) -> 6.882
A9: Odberatelia elektriny v domácnosti pripojení na napäťovú úroveň nízkeho napätia | B9: D2 | C9: prístup do distribučnej sústavy | D9: OM | F9: 4.5807 | G9: 5.0387 | H9: =+G9-F9 -> 0.458 | I9: =+ROUND(IF(H9>0,H9*E9,0),4) -> 0 | L9: =IFERROR(H9-'Nátok z PRDS'!H9,"N/A") -> 0.458 | M9: =IFERROR(H9-'Distribúcia KS v PMDS'!H9,0) -> 0.458
C10: prístup do distribučnej sústavy (nevidiaci) | H10: =+G10-F10 -> 0 | I10: =+ROUND(IF(H10>0,H10*E10,0),4) -> 0 | L10: =IFERROR(H10-'Nátok z PRDS'!H10,"N/A") -> 0 | M10: =IFERROR(H10-'Distribúcia KS v PMDS'!H10,0) -> 0
C11: distribúcia elektriny | D11: MWh | F11: 13.005 | G11: 13.044 | H11: n.a. | I11: n.a. | L11: =IFERROR(H11-'Nátok z PRDS'!H11,"N/A") -> N/A | M11: =IFERROR(H11-'Distribúcia KS v PMDS'!H11,0) -> 0
C12: straty | F12: 11.466 | G12: 16.826 | H12: n.a. | I12: n.a. | L12: =IFERROR(H12-'Nátok z PRDS'!H12,"N/A") -> N/A | M12: =IFERROR(H12-'Distribúcia KS v PMDS'!H12,0) -> 0
C13: distribúcia elektriny + straty | F13: =+F11+F12 -> 24.471 | G13: =+G11+G12 -> 29.87 | H13: =+G13-F13 -> 5.399 | I13: =+ROUND(IF(H13>0,H13*E11,0),4) -> 0 | L13: =IFERROR(H13-'Nátok z PRDS'!H13,"N/A") -> 5.399 | M13: =IFERROR(H13-'Distribúcia KS v PMDS'!H13,0) -> 5.399
A14: Odberatelia elektriny v domácnosti pripojení na napäťovú úroveň nízkeho napätia | B14: D3 | C14: prístup do distribučnej sústavy | D14: OM | F14: 7.2595 | G14: 7.9854 | H14: =+G14-F14 -> 0.7259 | I14: =+ROUND(IF(H14>0,H14*E14,0),4) -> 0 | L14: =IFERROR(H14-'Nátok z PRDS'!H14,"N/A") -> 0.7259 | M14: =IFERROR(H14-'Distribúcia KS v PMDS'!H14,0) -> 0.7259
C15: distribúcia elektriny VT | D15: MWh | E15: 0 | F15: 13.005 | G15: 13.044 | H15: n.a. | I15: n.a. | L15: =IFERROR(H15-'Nátok z PRDS'!H15,"N/A") -> N/A | M15: =IFERROR(H15-'Distribúcia KS v PMDS'!H15,0) -> 0
C16: straty | F16: 11.466 | G16: 16.826 | H16: n.a. | I16: n.a. | L16: =IFERROR(H16-'Nátok z PRDS'!H16,"N/A") -> N/A | M16: =IFERROR(H16-'Distribúcia KS v PMDS'!H16,0) -> 0
C17: distribúcia elektriny VT + straty | F17: =+F15+F16 -> 24.471 | G17: =+G15+G16 -> 29.87 | H17: =+G17-F17 -> 5.399 | I17: =+ROUND(IF(H17>0,H17*E15,0),4) -> 0 | L17: =IFERROR(H17-'Nátok z PRDS'!H17,"N/A") -> 5.399 | M17: =IFERROR(H17-'Distribúcia KS v PMDS'!H17,0) -> 5.399
C18: distribúcia elektriny NT | D18: MWh | E18: 0 | H18: n.a. | I18: n.a. | L18: =IFERROR(H18-'Nátok z PRDS'!H18,"N/A") -> N/A | M18: =IFERROR(H18-'Distribúcia KS v PMDS'!H18,0) -> 0
C19: straty | H19: n.a. | I19: n.a. | L19: =IFERROR(H19-'Nátok z PRDS'!H19,"N/A") -> N/A | M19: =IFERROR(H19-'Distribúcia KS v PMDS'!H19,0) -> 0
C20: distribúcia elektriny NT + straty | F20: =+F18+F19 -> 0 | G20: =+G18+G19 -> 0 | H20: =+G20-F20 -> 0 | I20: =+ROUND(IF(H20>0,H20*E18,0),4) -> 0 | L20: =IFERROR(H20-'Nátok z PRDS'!H20,"N/A") -> 0 | M20: =IFERROR(H20-'Distribúcia KS v PMDS'!H20,0) -> 0
A21: Odberatelia elektriny v domácnosti pripojení na napäťovú úroveň nízkeho napätia | B21: D4 | C21: prístup do distribučnej sústavy | D21: A | F21: 0.1508 | G21: 0.1961 | H21: =+G21-F21 -> 0.0453 | I21: =+ROUND(IF(H21>0,H21*E21,0),4) -> 0 | L21: =IFERROR(H21-'Nátok z PRDS'!H21,"N/A") -> 0.0453 | M21: =IFERROR(H21-'Distribúcia KS v PMDS'!H21,0) -> 0.0453
C22: prístup do distribučnej sústavy (nevidiaci) | H22: =+G22-F22 -> 0 | I22: =+ROUND(IF(H22>0,H22*E22,0),4) -> 0 | L22: =IFERROR(H22-'Nátok z PRDS'!H22,"N/A") -> 0 | M22: =IFERROR(H22-'Distribúcia KS v PMDS'!H22,0) -> 0
C23: distribúcia elektriny VT | D23: MWh | E23: 0 | F23: 3.984 | G23: 3.507 | H23: n.a. | I23: n.a. | L23: =IFERROR(H23-'Nátok z PRDS'!H23,"N/A") -> N/A | M23: =IFERROR(H23-'Distribúcia KS v PMDS'!H23,0) -> 0
C24: straty | F24: 11.466 | G24: 16.826 | H24: n.a. | I24: n.a. | L24: =IFERROR(H24-'Nátok z PRDS'!H24,"N/A") -> N/A | M24: =IFERROR(H24-'Distribúcia KS v PMDS'!H24,0) -> 0
C25: distribúcia elektriny VT + straty | F25: =+F23+F24 -> 15.45 | G25: =+G23+G24 -> 20.333 | H25: =+G25-F25 -> 4.883 | I25: =+ROUND(IF(H25>0,H25*E23,0),4) -> 0 | L25: =IFERROR(H25-'Nátok z PRDS'!H25,"N/A") -> 4.883 | M25: =IFERROR(H25-'Distribúcia KS v PMDS'!H25,0) -> 4.883
C26: distribúcia elektriny NT | D26: MWh | E26: 0 | H26: n.a. | I26: n.a. | L26: =IFERROR(H26-'Nátok z PRDS'!H26,"N/A") -> N/A | M26: =IFERROR(H26-'Distribúcia KS v PMDS'!H26,0) -> 0
C27: straty | H27: n.a. | I27: n.a. | L27: =IFERROR(H27-'Nátok z PRDS'!H27,"N/A") -> N/A | M27: =IFERROR(H27-'Distribúcia KS v PMDS'!H27,0) -> 0
C28: distribúcia elektriny NT + straty | F28: =+F26+F27 -> 0 | G28: =+G26+G27 -> 0 | H28: =+G28-F28 -> 0 | I28: =+ROUND(IF(H28>0,H28*E26,0),4) -> 0 | L28: =IFERROR(H28-'Nátok z PRDS'!H28,"N/A") -> 0 | M28: =IFERROR(H28-'Distribúcia KS v PMDS'!H28,0) -> 0
A29: Odberatelia elektriny v domácnosti pripojení na napäťovú úroveň nízkeho napätia | B29: D5 | C29: prístup do distribučnej sústavy | D29: A | F29: 0.1508 | G29: 0.1961 | H29: =+G29-F29 -> 0.0453 | I29: =+ROUND(IF(H29>0,H29*E29,0),4) -> 0 | L29: =IFERROR(H29-'Nátok z PRDS'!H29,"N/A") -> 0.0453 | M29: =IFERROR(H29-'Distribúcia KS v PMDS'!H29,0) -> 0.0453
C30: distribúcia elektriny VT | D30: MWh | E30: 0 | F30: 3.984 | G30: 3.507 | H30: n.a. | I30: n.a. | L30: =IFERROR(H30-'Nátok z PRDS'!H30,"N/A") -> N/A | M30: =IFERROR(H30-'Distribúcia KS v PMDS'!H30,0) -> 0
C31: straty | F31: 11.466 | G31: 16.826 | H31: n.a. | I31: n.a. | L31: =IFERROR(H31-'Nátok z PRDS'!H31,"N/A") -> N/A | M31: =IFERROR(H31-'Distribúcia KS v PMDS'!H31,0) -> 0
C32: distribúcia elektriny VT + straty | F32: =+F30+F31 -> 15.45 | G32: =+G30+G31 -> 20.333 | H32: =+G32-F32 -> 4.883 | I32: =+ROUND(IF(H32>0,H32*E30,0),4) -> 0 | L32: =IFERROR(H32-'Nátok z PRDS'!H32,"N/A") -> 4.883 | M32: =IFERROR(H32-'Distribúcia KS v PMDS'!H32,0) -> 4.883
C33: distribúcia elektriny NT | D33: MWh | E33: 0 | H33: n.a. | I33: n.a. | L33: =IFERROR(H33-'Nátok z PRDS'!H33,"N/A") -> N/A | M33: =IFERROR(H33-'Distribúcia KS v PMDS'!H33,0) -> 0
C34: straty | H34: n.a. | I34: n.a. | L34: =IFERROR(H34-'Nátok z PRDS'!H34,"N/A") -> N/A | M34: =IFERROR(H34-'Distribúcia KS v PMDS'!H34,0) -> 0
C35: distribúcia elektriny NT + straty | F35: =+F33+F34 -> 0 | G35: =+G33+G34 -> 0 | H35: =+G35-F35 -> 0 | I35: =+ROUND(IF(H35>0,H35*E33,0),4) -> 0 | L35: =IFERROR(H35-'Nátok z PRDS'!H35,"N/A") -> 0 | M35: =IFERROR(H35-'Distribúcia KS v PMDS'!H35,0) -> 0
A36: Odberatelia elektriny v domácnosti pripojení na napäťovú úroveň nízkeho napätia | B36: D6 | C36: prístup do distribučnej sústavy | H36: =+G36-F36 -> 0 | I36: =+ROUND(IF(H36>0,H36*E36,0),4) -> 0 | L36: =IFERROR(H36-'Nátok z PRDS'!H36,"N/A") -> 0 | M36: =IFERROR(H36-'Distribúcia KS v PMDS'!H36,0) -> 0
C37: distribúcia elektriny VT | D37: MWh | E37: 0 | H37: n.a. | I37: n.a. | L37: =IFERROR(H37-'Nátok z PRDS'!H37,"N/A") -> N/A | M37: =IFERROR(H37-'Distribúcia KS v PMDS'!H37,0) -> 0
C38: straty | H38: n.a. | I38: n.a. | L38: =IFERROR(H38-'Nátok z PRDS'!H38,"N/A") -> N/A | M38: =IFERROR(H38-'Distribúcia KS v PMDS'!H38,0) -> 0
C39: distribúcia elektriny VT + straty | F39: =+F37+F38 -> 0 | G39: =+G37+G38 -> 0 | H39: =+G39-F39 -> 0 | I39: =+ROUND(IF(H39>0,H39*E37,0),4) -> 0 | L39: =IFERROR(H39-'Nátok z PRDS'!H39,"N/A") -> 0 | M39: =IFERROR(H39-'Distribúcia KS v PMDS'!H39,0) -> 0
C40: distribúcia elektriny NT | D40: MWh | E40: 0 | H40: n.a. | I40: n.a. | L40: =IFERROR(H40-'Nátok z PRDS'!H40,"N/A") -> N/A | M40: =IFERROR(H40-'Distribúcia KS v PMDS'!H40,0) -> 0
C41: straty | H41: n.a. | I41: n.a. | L41: =IFERROR(H41-'Nátok z PRDS'!H41,"N/A") -> N/A | M41: =IFERROR(H41-'Distribúcia KS v PMDS'!H41,0) -> 0
C42: distribúcia elektriny NT + straty | F42: =+F40+F41 -> 0 | G42: =+G40+G41 -> 0 | H42: =+G42-F42 -> 0 | I42: =+ROUND(IF(H42>0,H42*E40,0),4) -> 0 | L42: =IFERROR(H42-'Nátok z PRDS'!H42,"N/A") -> 0 | M42: =IFERROR(H42-'Distribúcia KS v PMDS'!H42,0) -> 0
A43: Odberatelia elektriny v domácnosti pripojení na napäťovú úroveň nízkeho napätia | B43: D7 | C43: prístup do distribučnej sústavy | H43: =+G43-F43 -> 0 | I43: =+ROUND(IF(H43>0,H43*E43,0),4) -> 0 | L43: =IFERROR(H43-'Nátok z PRDS'!H43,"N/A") -> 0 | M43: =IFERROR(H43-'Distribúcia KS v PMDS'!H43,0) -> 0
C44: distribúcia elektriny VT | D44: MWh | E44: 0 | H44: n.a. | I44: n.a. | L44: =IFERROR(H44-'Nátok z PRDS'!H44,"N/A") -> N/A | M44: =IFERROR(H44-'Distribúcia KS v PMDS'!H44,0) -> 0
C45: straty | H45: n.a. | I45: n.a. | L45: =IFERROR(H45-'Nátok z PRDS'!H45,"N/A") -> N/A | M45: =IFERROR(H45-'Distribúcia KS v PMDS'!H45,0) -> 0
C46: distribúcia elektriny VT + straty | F46: =+F44+F45 -> 0 | G46: =+G44+G45 -> 0 | H46: =+G46-F46 -> 0 | I46: =+ROUND(IF(H46>0,H46*E44,0),4) -> 0 | L46: =IFERROR(H46-'Nátok z PRDS'!H46,"N/A") -> 0 | M46: =IFERROR(H46-'Distribúcia KS v PMDS'!H46,0) -> 0
C47: distribúcia elektriny NT | D47: MWh | E47: 0 | H47: n.a. | I47: n.a. | L47: =IFERROR(H47-'Nátok z PRDS'!H47,"N/A") -> N/A | M47: =IFERROR(H47-'Distribúcia KS v PMDS'!H47,0) -> 0
C48: straty | H48: n.a. | I48: n.a. | L48: =IFERROR(H48-'Nátok z PRDS'!H48,"N/A") -> N/A | M48: =IFERROR(H48-'Distribúcia KS v PMDS'!H48,0) -> 0
C49: distribúcia elektriny NT + straty | F49: =+F47+F48 -> 0 | G49: =+G47+G48 -> 0 | H49: =+G49-F49 -> 0 | I49: =+ROUND(IF(H49>0,H49*E47,0),4) -> 0 | L49: =IFERROR(H49-'Nátok z PRDS'!H49,"N/A") -> 0 | M49: =IFERROR(H49-'Distribúcia KS v PMDS'!H49,0) -> 0
A50: Odberatelia elektriny v domácnosti pripojení na napäťovú úroveň nízkeho napätia | B50: D8 | C50: prístup do distribučnej sústavy | H50: =+G50-F50 -> 0 | I50: =+ROUND(IF(H50>0,H50*E50,0),4) -> 0 | L50: =IFERROR(H50-'Nátok z PRDS'!H50,"N/A") -> 0 | M50: =IFERROR(H50-'Distribúcia KS v PMDS'!H50,0) -> 0
C51: distribúcia elektriny VT | D51: MWh | E51: 0 | H51: n.a. | I51: n.a. | L51: =IFERROR(H51-'Nátok z PRDS'!H51,"N/A") -> N/A | M51: =IFERROR(H51-'Distribúcia KS v PMDS'!H51,0) -> 0
C52: straty | H52: n.a. | I52: n.a. | L52: =IFERROR(H52-'Nátok z PRDS'!H52,"N/A") -> N/A | M52: =IFERROR(H52-'Distribúcia KS v PMDS'!H52,0) -> 0
C53: distribúcia elektriny VT + straty | F53: =+F51+F52 -> 0 | G53: =+G51+G52 -> 0 | H53: =+G53-F53 -> 0 | I53: =+ROUND(IF(H53>0,H53*E51,0),4) -> 0 | L53: =IFERROR(H53-'Nátok z PRDS'!H53,"N/A") -> 0 | M53: =IFERROR(H53-'Distribúcia KS v PMDS'!H53,0) -> 0
C54: distribúcia elektriny NT | D54: MWh | E54: 0 | H54: n.a. | I54: n.a. | L54: =IFERROR(H54-'Nátok z PRDS'!H54,"N/A") -> N/A | M54: =IFERROR(H54-'Distribúcia KS v PMDS'!H54,0) -> 0
C55: straty | H55: n.a. | I55: n.a. | L55: =IFERROR(H55-'Nátok z PRDS'!H55,"N/A") -> N/A | M55: =IFERROR(H55-'Distribúcia KS v PMDS'!H55,0) -> 0
C56: distribúcia elektriny NT + straty | F56: =+F54+F55 -> 0 | G56: =+G54+G55 -> 0 | H56: =+G56-F56 -> 0 | I56: =+ROUND(IF(H56>0,H56*E54,0),4) -> 0 | L56: =IFERROR(H56-'Nátok z PRDS'!H56,"N/A") -> 0 | M56: =IFERROR(H56-'Distribúcia KS v PMDS'!H56,0) -> 0
A57: Odberatelia elektriny v domácnosti pripojení na napäťovú úroveň nízkeho napätia | B57: D9 | C57: prístup do distribučnej sústavy | H57: =+G57-F57 -> 0 | I57: =+ROUND(IF(H57>0,H57*E57,0),4) -> 0 | L57: =IFERROR(H57-'Nátok z PRDS'!H57,"N/A") -> 0 | M57: =IFERROR(H57-'Distribúcia KS v PMDS'!H57,0) -> 0
C58: distribúcia elektriny VT | D58: MWh | E58: 0 | H58: n.a. | I58: n.a. | L58: =IFERROR(H58-'Nátok z PRDS'!H58,"N/A") -> N/A | M58: =IFERROR(H58-'Distribúcia KS v PMDS'!H58,0) -> 0
C59: straty | H59: n.a. | I59: n.a. | L59: =IFERROR(H59-'Nátok z PRDS'!H59,"N/A") -> N/A | M59: =IFERROR(H59-'Distribúcia KS v PMDS'!H59,0) -> 0
C60: distribúcia elektriny VT + straty | F60: =+F58+F59 -> 0 | G60: =+G58+G59 -> 0 | H60: =+G60-F60 -> 0 | I60: =+ROUND(IF(H60>0,H60*E58,0),4) -> 0 | L60: =IFERROR(H60-'Nátok z PRDS'!H60,"N/A") -> 0 | M60: =IFERROR(H60-'Distribúcia KS v PMDS'!H60,0) -> 0
C61: distribúcia elektriny NT | D61: MWh | E61: 0 | H61: n.a. | I61: n.a. | L61: =IFERROR(H61-'Nátok z PRDS'!H61,"N/A") -> N/A | M61: =IFERROR(H61-'Distribúcia KS v PMDS'!H61,0) -> 0
C62: straty | H62: n.a. | I62: n.a. | L62: =IFERROR(H62-'Nátok z PRDS'!H62,"N/A") -> N/A | M62: =IFERROR(H62-'Distribúcia KS v PMDS'!H62,0) -> 0
C63: distribúcia elektriny NT + straty | F63: =+F61+F62 -> 0 | G63: =+G61+G62 -> 0 | H63: =+G63-F63 -> 0 | I63: =+ROUND(IF(H63>0,H63*E61,0),4) -> 0 | L63: =IFERROR(H63-'Nátok z PRDS'!H63,"N/A") -> 0 | M63: =IFERROR(H63-'Distribúcia KS v PMDS'!H63,0) -> 0
A64: Odberatelia elektriny v domácnosti pripojení na napäťovú úroveň nízkeho napätia | B64: D10 | C64: prístup do distribučnej sústavy | H64: =+G64-F64 -> 0 | I64: =+ROUND(IF(H64>0,H64*E64,0),4) -> 0 | L64: =IFERROR(H64-'Nátok z PRDS'!H64,"N/A") -> 0 | M64: =IFERROR(H64-'Distribúcia KS v PMDS'!H64,0) -> 0
C65: distribúcia elektriny VVT | D65: MWh | E65: 0 | H65: n.a. | I65: n.a. | L65: =IFERROR(H65-'Nátok z PRDS'!H65,"N/A") -> N/A | M65: =IFERROR(H65-'Distribúcia KS v PMDS'!H65,0) -> 0
C66: straty | H66: n.a. | I66: n.a. | L66: =IFERROR(H66-'Nátok z PRDS'!H66,"N/A") -> N/A | M66: =IFERROR(H66-'Distribúcia KS v PMDS'!H66,0) -> 0
C67: distribúcia elektriny VVT + straty | F67: =+F65+F66 -> 0 | G67: =+G65+G66 -> 0 | H67: =+G67-F67 -> 0 | I67: =+ROUND(IF(H67>0,H67*E65,0),4) -> 0 | L67: =IFERROR(H67-'Nátok z PRDS'!H67,"N/A") -> 0 | M67: =IFERROR(H67-'Distribúcia KS v PMDS'!H67,0) -> 0
C68: distribúcia elektriny VT | D68: MWh | E68: 0 | H68: n.a. | I68: n.a. | L68: =IFERROR(H68-'Nátok z PRDS'!H68,"N/A") -> N/A | M68: =IFERROR(H68-'Distribúcia KS v PMDS'!H68,0) -> 0
C69: straty | H69: n.a. | I69: n.a. | L69: =IFERROR(H69-'Nátok z PRDS'!H69,"N/A") -> N/A | M69: =IFERROR(H69-'Distribúcia KS v PMDS'!H69,0) -> 0
C70: distribúcia elektriny VT + straty | F70: =+F68+F69 -> 0 | G70: =+G68+G69 -> 0 | H70: =+G70-F70 -> 0 | I70: =+ROUND(IF(H70>0,H70*E68,0),4) -> 0 | L70: =IFERROR(H70-'Nátok z PRDS'!H70,"N/A") -> 0 | M70: =IFERROR(H70-'Distribúcia KS v PMDS'!H70,0) -> 0
C71: distribúcia elektriny NT | D71: MWh | E71: 0 | H71: n.a. | I71: n.a. | L71: =IFERROR(H71-'Nátok z PRDS'!H71,"N/A") -> N/A | M71: =IFERROR(H71-'Distribúcia KS v PMDS'!H71,0) -> 0
C72: straty | H72: n.a. | I72: n.a. | L72: =IFERROR(H72-'Nátok z PRDS'!H72,"N/A") -> N/A | M72: =IFERROR(H72-'Distribúcia KS v PMDS'!H72,0) -> 0
C73: distribúcia elektriny NT + straty | F73: =+F71+F72 -> 0 | G73: =+G71+G72 -> 0 | H73: =+G73-F73 -> 0 | I73: =+ROUND(IF(H73>0,H73*E71,0),4) -> 0 | L73: =IFERROR(H73-'Nátok z PRDS'!H73,"N/A") -> 0 | M73: =IFERROR(H73-'Distribúcia KS v PMDS'!H73,0) -> 0
C74: distribúcia elektriny VNT | D74: MWh | E74: 0 | H74: n.a. | I74: n.a. | L74: =IFERROR(H74-'Nátok z PRDS'!H74,"N/A") -> N/A | M74: =IFERROR(H74-'Distribúcia KS v PMDS'!H74,0) -> 0
C75: straty | H75: n.a. | I75: n.a. | L75: =IFERROR(H75-'Nátok z PRDS'!H75,"N/A") -> N/A | M75: =IFERROR(H75-'Distribúcia KS v PMDS'!H75,0) -> 0
C76: distribúcia elektriny VNT + straty | F76: =+F74+F75 -> 0 | G76: =+G74+G75 -> 0 | H76: =+G76-F76 -> 0 | I76: =+ROUND(IF(H76>0,H76*E74,0),4) -> 0 | L76: =IFERROR(H76-'Nátok z PRDS'!H76,"N/A") -> 0 | M76: =IFERROR(H76-'Distribúcia KS v PMDS'!H76,0) -> 0
A77: Odberatelia elektriny v domácnosti pripojení na napäťovú úroveň nízkeho napätia | B77: Súčet | C77: prístup do distribučnej sústavy | D77: n.a. | E77: n.a. | F77: n.a. | G77: n.a. | H77: n.a. | I77: =+I5+I9+I10+I14+I21+I22+I29+I36+I43+I50+I57+I64 -> 0 | L77: =IFERROR(H77-'Nátok z PRDS'!H77,"N/A") -> N/A | M77: =IFERROR(H77-'Distribúcia KS v PMDS'!H77,0) -> 0
C78: distribúcia elektriny + straty | E78: =SUM(E6,E11,E15,E18,E23,E26,E30,E33,E37,E40,E44,E47,E51,E54,E58,E61,E65,E68,E71,E74) -> 0 | F78: n.a. | G78: n.a. | H78: n.a. | I78: =+I8+I13+I17+I20+I25+I28+I32+I35+I39+I42+I46+I49+I53+I56+I60+I63+I67+I70+I73+I76 -> 0 | L78: =IFERROR(H78-'Nátok z PRDS'!H78,"N/A") -> N/A | M78: =IFERROR(H78-'Distribúcia KS v PMDS'!H78,0) -> 0
A79: Ostatní koncoví odberatelia elektriny pripojení na napäťovú úroveň nízkeho napätia | B79: C1 | C79: prístup do distribučnej sústavy v A | D79: A | H79: =+G79-F79 -> 0 | I79: =+ROUND(IF(H79>0,H79*E79,0),4) -> 0 | L79: =IFERROR(H79-'Nátok z PRDS'!H79,"N/A") -> 0 | M79: =IFERROR(H79-'Distribúcia KS v PMDS'!H79,0) -> 0
C80: prístup do distribučnej sústavy v kW | D80: kW | H80: =+G80-F80 -> 0 | I80: =+ROUND(IF(H80>0,H80*E80,0),4) -> 0 | L80: =IFERROR(H80-'Nátok z PRDS'!H80,"N/A") -> 0 | M80: =IFERROR(H80-'Distribúcia KS v PMDS'!H80,0) -> 0
C81: distribúcia elektriny | D81: MWh | E81: =+E82 -> 0 | H81: n.a. | I81: n.a. | L81: =IFERROR(H81-'Nátok z PRDS'!H81,"N/A") -> N/A | M81: =IFERROR(H81-'Distribúcia KS v PMDS'!H81,0) -> 0
C82: straty | H82: n.a. | I82: n.a. | L82: =IFERROR(H82-'Nátok z PRDS'!H82,"N/A") -> N/A | M82: =IFERROR(H82-'Distribúcia KS v PMDS'!H82,0) -> 0
C83: distribúcia elektriny + straty | F83: =+F81+F82 -> 0 | G83: =+G81+G82 -> 0 | H83: =+G83-F83 -> 0 | I83: =+ROUND(IF(H83>0,H83*E81,0),4) -> 0 | L83: =IFERROR(H83-'Nátok z PRDS'!H83,"N/A") -> 0 | M83: =IFERROR(H83-'Distribúcia KS v PMDS'!H83,0) -> 0
A84: Ostatní koncoví odberatelia elektriny pripojení na napäťovú úroveň nízkeho napätia | B84: C2 | C84: prístup do distribučnej sústavy v A | D84: A | F84: 0.2202 | G84: 0.242 | H84: =+G84-F84 -> 0.0218 | I84: =+ROUND(IF(H84>0,H84*E84,0),4) -> 0 | L84: =IFERROR(H84-'Nátok z PRDS'!H84,"N/A") -> 0.0218 | M84: =IFERROR(H84-'Distribúcia KS v PMDS'!H84,0) -> 0.0218
C85: prístup do distribučnej sústavy v kW | D85: kW | F85: 0.9574 | G85: 1.0522 | H85: =+G85-F85 -> 0.0948 | I85: =+ROUND(IF(H85>0,H85*E85,0),4) -> 0 | L85: =IFERROR(H85-'Nátok z PRDS'!H85,"N/A") -> 0.0948 | M85: =IFERROR(H85-'Distribúcia KS v PMDS'!H85,0) -> 0.0948
C86: distribúcia elektriny | D86: MWh | E86: =+E87 -> 0 | F86: 24.731 | G86: 24.671 | H86: n.a. | I86: n.a. | L86: =IFERROR(H86-'Nátok z PRDS'!H86,"N/A") -> N/A | M86: =IFERROR(H86-'Distribúcia KS v PMDS'!H86,0) -> 0
C87: straty | F87: 11.466 | G87: 16.826 | H87: n.a. | I87: n.a. | L87: =IFERROR(H87-'Nátok z PRDS'!H87,"N/A") -> N/A | M87: =IFERROR(H87-'Distribúcia KS v PMDS'!H87,0) -> 0
C88: distribúcia elektriny + straty | F88: =+F86+F87 -> 36.197 | G88: =+G86+G87 -> 41.497 | H88: =+G88-F88 -> 5.3 | I88: =+ROUND(IF(H88>0,H88*E86,0),4) -> 0 | L88: =IFERROR(H88-'Nátok z PRDS'!H88,"N/A") -> 5.3 | M88: =IFERROR(H88-'Distribúcia KS v PMDS'!H88,0) -> 5.3
A89: Ostatní koncoví odberatelia elektriny pripojení na napäťovú úroveň nízkeho napätia | B89: C3 | C89: prístup do distribučnej sústavy v A | D89: A | H89: =+G89-F89 -> 0 | I89: =+ROUND(IF(H89>0,H89*E89,0),4) -> 0 | L89: =IFERROR(H89-'Nátok z PRDS'!H89,"N/A") -> 0 | M89: =IFERROR(H89-'Distribúcia KS v PMDS'!H89,0) -> 0
C90: prístup do distribučnej sústavy v kW | D90: kW | H90: =+G90-F90 -> 0 | I90: =+ROUND(IF(H90>0,H90*E90,0),4) -> 0 | L90: =IFERROR(H90-'Nátok z PRDS'!H90,"N/A") -> 0 | M90: =IFERROR(H90-'Distribúcia KS v PMDS'!H90,0) -> 0
C91: distribúcia elektriny | D91: MWh | E91: =+E92 -> 0 | H91: n.a. | I91: n.a. | L91: =IFERROR(H91-'Nátok z PRDS'!H91,"N/A") -> N/A | M91: =IFERROR(H91-'Distribúcia KS v PMDS'!H91,0) -> 0
C92: straty | H92: n.a. | I92: n.a. | L92: =IFERROR(H92-'Nátok z PRDS'!H92,"N/A") -> N/A | M92: =IFERROR(H92-'Distribúcia KS v PMDS'!H92,0) -> 0
C93: distribúcia elektriny + straty | F93: =+F91+F92 -> 0 | G93: =+G91+G92 -> 0 | H93: =+G93-F93 -> 0 | I93: =+ROUND(IF(H93>0,H93*E91,0),4) -> 0 | L93: =IFERROR(H93-'Nátok z PRDS'!H93,"N/A") -> 0 | M93: =IFERROR(H93-'Distribúcia KS v PMDS'!H93,0) -> 0
A94: Ostatní koncoví odberatelia elektriny pripojení na napäťovú úroveň nízkeho napätia | B94: C4 | C94: prístup do distribučnej sústavy v A | D94: A | H94: =+G94-F94 -> 0 | I94: =+ROUND(IF(H94>0,H94*E94,0),4) -> 0 | L94: =IFERROR(H94-'Nátok z PRDS'!H94,"N/A") -> 0 | M94: =IFERROR(H94-'Distribúcia KS v PMDS'!H94,0) -> 0
C95: prístup do distribučnej sústavy v kW | D95: kW | H95: =+G95-F95 -> 0 | I95: =+ROUND(IF(H95>0,H95*E95,0),4) -> 0 | L95: =IFERROR(H95-'Nátok z PRDS'!H95,"N/A") -> 0 | M95: =IFERROR(H95-'Distribúcia KS v PMDS'!H95,0) -> 0
C96: distribúcia elektriny VT | D96: MWh | E96: 0 | H96: n.a. | I96: n.a. | L96: =IFERROR(H96-'Nátok z PRDS'!H96,"N/A") -> N/A | M96: =IFERROR(H96-'Distribúcia KS v PMDS'!H96,0) -> 0
C97: straty | H97: n.a. | I97: n.a. | L97: =IFERROR(H97-'Nátok z PRDS'!H97,"N/A") -> N/A | M97: =IFERROR(H97-'Distribúcia KS v PMDS'!H97,0) -> 0
C98: distribúcia elektriny VT + straty | F98: =+F96+F97 -> 0 | G98: =+G96+G97 -> 0 | H98: =+G98-F98 -> 0 | I98: =+ROUND(IF(H98>0,H98*E96,0),4) -> 0 | L98: =IFERROR(H98-'Nátok z PRDS'!H98,"N/A") -> 0 | M98: =IFERROR(H98-'Distribúcia KS v PMDS'!H98,0) -> 0
C99: distribúcia elektriny NT | D99: MWh | E99: 0 | H99: n.a. | I99: n.a. | L99: =IFERROR(H99-'Nátok z PRDS'!H99,"N/A") -> N/A | M99: =IFERROR(H99-'Distribúcia KS v PMDS'!H99,0) -> 0
C100: straty | H100: n.a. | I100: n.a. | L100: =IFERROR(H100-'Nátok z PRDS'!H100,"N/A") -> N/A | M100: =IFERROR(H100-'Distribúcia KS v PMDS'!H100,0) -> 0
...

Sheet SSD
A1: Príloha k žiadosti o ročné zúčtovanie kompenzácií vybraných druhov taríf pre odberateľov elektriny v domácnosti a pre ostatných koncových odberateľov elektriny za rok 2024 | K1: Skryt | L1: Rozdiel nadradena formular vs uvedena v natoku
A2: Mesiac: 01-12/2024 PRDS: SSD, a.s. | B2: Sadzba | C2: Tarifa | D2: m.j. 2 | E2: Množstvo | F2: Tarifa na rok 2022 podľa rozhodnutia ÚRSO č. XXXX | G2: Tarifa na rok 2024 podľa rozhodnutia ÚRSO č. XXXX | H2: rozdiel ziadost | I2: rozdiel v eur
E3: [m.j.] | F3: [€/m.j.] | G3: [€/m.j.] | H3: [€/m.j.] | I3: [€]
E4: [1] | F4: [2] | G4: [3] | H4: [4] | I4: [5]
A5: Odberatelia elektriny v domácnosti pripojení na napäťovú úroveň nízkeho napätia | B5: D1 | C5: prístup do distribučnej sústavy | D5: OM | F5: 1.12 | G5: 1.15 | H5: =+G5-F5 -> 0.03 | I5: =+ROUND(IF(H5>0,H5*E5,0),4) -> 0 | L5: =IFERROR(H5-'Nátok z PRDS'!H5,"N/A") -> 0.03
C6: distribúcia elektriny | D6: MWh | F6: 51.05 | G6: 42.37 | H6: n.a. | I6: n.a. | L6: =IFERROR(H6-'Nátok z PRDS'!H6,"N/A") -> N/A
C7: straty | F7: 10.915 | G7: 19.911 | H7: n.a. | I7: n.a. | L7: =IFERROR(H7-'Nátok z PRDS'!H7,"N/A") -> N/A
C8: distribúcia elektriny + straty | F8: =+F6+F7 -> 61.965 | G8: =+G6+G7 -> 62.281 | H8: =+G8-F8 -> 0.316 | I8: =+ROUND(IF(H8>0,H8*E6,0),4) -> 0 | L8: =IFERROR(H8-'Nátok z PRDS'!H8,"N/A") -> 0.316
A9: Odberatelia elektriny v domácnosti pripojení na napäťovú úroveň nízkeho napätia | B9: D2 | C9: prístup do distribučnej sústavy | D9: OM | F9: 6.31 | G9: 6.49 | H9: =+G9-F9 -> 0.18 | I9: =+ROUND(IF(H9>0,H9*E9,0),4) -> 0 | L9: =IFERROR(H9-'Nátok z PRDS'!H9,"N/A") -> 0.18
C10: prístup do distribučnej sústavy (nevidiaci) | D10: OM | H10: =+G10-F10 -> 0 | I10: =+ROUND(IF(H10>0,H10*E10,0),4) -> 0 | L10: =IFERROR(H10-'Nátok z PRDS'!H10,"N/A") -> 0
C11: distribúcia elektriny | D11: MWh | F11: 13.24 | G11: 10.74 | H11: n.a. | I11: n.a. | L11: =IFERROR(H11-'Nátok z PRDS'!H11,"N/A") -> N/A
C12: straty | F12: 10.915 | G12: 19.911 | H12: n.a. | I12: n.a. | L12: =IFERROR(H12-'Nátok z PRDS'!H12,"N/A") -> N/A
C13: distribúcia elektriny + straty | F13: =+F11+F12 -> 24.155 | G13: =+G11+G12 -> 30.651 | H13: =+G13-F13 -> 6.496 | I13: =+ROUND(IF(H13>0,H13*E11,0),4) -> 0 | L13: =IFERROR(H13-'Nátok z PRDS'!H13,"N/A") -> 6.496
A14: Odberatelia elektriny v domácnosti pripojení na napäťovú úroveň nízkeho napätia | B14: D3 | C14: prístup do distribučnej sústavy | D14: OM | F14: 10.87 | G14: 11.19 | H14: =+G14-F14 -> 0.32 | I14: =+ROUND(IF(H14>0,H14*E14,0),4) -> 0 | L14: =IFERROR(H14-'Nátok z PRDS'!H14,"N/A") -> 0.32
C15: distribúcia elektriny VT | D15: MWh | F15: 4.32 | G15: 3.5 | H15: n.a. | I15: n.a. | L15: =IFERROR(H15-'Nátok z PRDS'!H15,"N/A") -> N/A
C16: straty | F16: 10.915 | G16: 19.911 | H16: n.a. | I16: n.a. | L16: =IFERROR(H16-'Nátok z PRDS'!H16,"N/A") -> N/A
C17: distribúcia elektriny VT + straty | F17: =+F15+F16 -> 15.235 | G17: =+G15+G16 -> 23.411 | H17: =+G17-F17 -> 8.176 | I17: =+ROUND(IF(H17>0,H17*E15,0),4) -> 0 | L17: =IFERROR(H17-'Nátok z PRDS'!H17,"N/A") -> 8.176
C18: distribúcia elektriny NT | D18: MWh | F18: 0.65 | G18: 0.53 | H18: n.a. | I18: n.a. | L18: =IFERROR(H18-'Nátok z PRDS'!H18,"N/A") -> N/A
C19: straty | F19: 10.915 | G19: 19.911 | H19: n.a. | I19: n.a. | L19: =IFERROR(H19-'Nátok z PRDS'!H19,"N/A") -> N/A
C20: distribúcia elektriny NT + straty | F20: =+F18+F19 -> 11.565 | G20: =+G18+G19 -> 20.441 | H20: =+G20-F20 -> 8.876 | I20: =+ROUND(IF(H20>0,H20*E18,0),4) -> 0 | L20: =IFERROR(H20-'Nátok z PRDS'!H20,"N/A") -> 8.876
A21: Odberatelia elektriny v domácnosti pripojení na napäťovú úroveň nízkeho napätia | B21: D4 | C21: prístup do distribučnej sústavy | D21: OM | F21: 6.65 | G21: 6.84 | H21: =+G21-F21 -> 0.19 | I21: =+ROUND(IF(H21>0,H21*E21,0),4) -> 0 | L21: =IFERROR(H21-'Nátok z PRDS'!H21,"N/A") -> 0.19
C22: prístup do distribučnej sústavy (nevidiaci) | D22: OM | H22: =+G22-F22 -> 0 | I22: =+ROUND(IF(H22>0,H22*E22,0),4) -> 0 | L22: =IFERROR(H22-'Nátok z PRDS'!H22,"N/A") -> 0
C23: distribúcia elektriny VT | D23: MWh | F23: 24.78 | G23: 20.1 | H23: n.a. | I23: n.a. | L23: =IFERROR(H23-'Nátok z PRDS'!H23,"N/A") -> N/A
C24: straty | F24: 10.915 | G24: 19.911 | H24: n.a. | I24: n.a. | L24: =IFERROR(H24-'Nátok z PRDS'!H24,"N/A") -> N/A
C25: distribúcia elektriny VT + straty | F25: =+F23+F24 -> 35.695 | G25: =+G23+G24 -> 40.011 | H25: =+G25-F25 -> 4.316 | I25: =+ROUND(IF(H25>0,H25*E23,0),4) -> 0 | L25: =IFERROR(H25-'Nátok z PRDS'!H25,"N/A") -> 4.316
C26: distribúcia elektriny NT | D26: MWh | F26: 6.03 | G26: 4.89 | H26: n.a. | I26: n.a. | L26: =IFERROR(H26-'Nátok z PRDS'!H26,"N/A") -> N/A
C27: straty | F27: 10.915 | G27: 19.911 | H27: n.a. | I27: n.a. | L27: =IFERROR(H27-'Nátok z PRDS'!H27,"N/A") -> N/A
C28: distribúcia elektriny NT + straty | F28: =+F26+F27 -> 16.945 | G28: =+G26+G27 -> 24.801 | H28: =+G28-F28 -> 7.856 | I28: =+ROUND(IF(H28>0,H28*E26,0),4) -> 0 | L28: =IFERROR(H28-'Nátok z PRDS'!H28,"N/A") -> 7.856
A29: Odberatelia elektriny v domácnosti pripojení na napäťovú úroveň nízkeho napätia | B29: D5 | C29: prístup do distribučnej sústavy | D29: OM | F29: 10.3 | G29: 10.6 | H29: =+G29-F29 -> 0.3 | I29: =+ROUND(IF(H29>0,H29*E29,0),4) -> 0 | L29: =IFERROR(H29-'Nátok z PRDS'!H29,"N/A") -> 0.3
C30: distribúcia elektriny VT | D30: MWh | F30: 0.65 | G30: 0.53 | H30: n.a. | I30: n.a. | L30: =IFERROR(H30-'Nátok z PRDS'!H30,"N/A") -> N/A
C31: straty | F31: 10.915 | G31: 19.911 | H31: n.a. | I31: n.a. | L31: =IFERROR(H31-'Nátok z PRDS'!H31,"N/A") -> N/A
C32: distribúcia elektriny VT + straty | F32: =+F30+F31 -> 11.565 | G32: =+G30+G31 -> 20.441 | H32: =+G32-F32 -> 8.876 | I32: =+ROUND(IF(H32>0,H32*E30,0),4) -> 0 | L32: =IFERROR(H32-'Nátok z PRDS'!H32,"N/A") -> 8.876
C33: distribúcia elektriny NT | D33: MWh | F33: 0.65 | G33: 0.53 | H33: n.a. | I33: n.a. | L33: =IFERROR(H33-'Nátok z PRDS'!H33,"N/A") -> N/A
C34: straty | F34: 10.915 | G34: 19.911 | H34: n.a. | I34: n.a. | L34: =IFERROR(H34-'Nátok z PRDS'!H34,"N/A") -> N/A
C35: distribúcia elektriny NT + straty | F35: =+F33+F34 -> 11.565 | G35: =+G33+G34 -> 20.441 | H35: =+G35-F35 -> 8.876 | I35: =+ROUND(IF(H35>0,H35*E33,0),4) -> 0 | L35: =IFERROR(H35-'Nátok z PRDS'!H35,"N/A") -> 8.876
A36: Odberatelia elektriny v domácnosti pripojení na napäťovú úroveň nízkeho napätia | B36: D6 | C36: prístup do distribučnej sústavy | D36: OM | F36: 10.3 | G36: 10.6 | H36: =+G36-F36 -> 0.3 | I36: =+ROUND(IF(H36>0,H36*E36,0),4) -> 0 | L36: =IFERROR(H36-'Nátok z PRDS'!H36,"N/A") -> 0.3
C37: distribúcia elektriny VT | D37: MWh | F37: 0.65 | G37: 0.53 | H37: n.a. | I37: n.a. | L37: =IFERROR(H37-'Nátok z PRDS'!H37,"N/A") -> N/A
C38: straty | F38: 10.915 | G38: 19.911 | H38: n.a. | I38: n.a. | L38: =IFERROR(H38-'Nátok z PRDS'!H38,"N/A") -> N/A
C39: distribúcia elektriny VT + straty | F39: =+F37+F38 -> 11.565 | G39: =+G37+G38 -> 20.441 | H39: =+G39-F39 -> 8.876 | I39: =+ROUND(IF(H39>0,H39*E37,0),4) -> 0 | L39: =IFERROR(H39-'Nátok z PRDS'!H39,"N/A") -> 8.876
C40: distribúcia elektriny NT | D40: MWh | F40: 0.65 | G40: 0.53 | H40: n.a. | I40: n.a. | L40: =IFERROR(H40-'Nátok z PRDS'!H40,"N/A") -> N/A
C41: straty | F41: 10.915 | G41: 19.911 | H41: n.a. | I41: n.a. | L41: =IFERROR(H41-'Nátok z PRDS'!H41,"N/A") -> N/A
C42: distribúcia elektriny NT + straty | F42: =+F40+F41 -> 11.565 | G42: =+G40+G41 -> 20.441 | H42: =+G42-F42 -> 8.876 | I42: =+ROUND(IF(H42>0,H42*E40,0),4) -> 0 | L42: =IFERROR(H42-'Nátok z PRDS'!H42,"N/A") -> 8.876
A43: Odberatelia elektriny v domácnosti pripojení na napäťovú úroveň nízkeho napätia | B43: D7 | C43: prístup do distribučnej sústavy | D43: OM | F43: 1.12 | G43: 1.15 | H43: =+G43-F43 -> 0.03 | I43: =+ROUND(IF(H43>0,H43*E43,0),4) -> 0 | L43: =IFERROR(H43-'Nátok z PRDS'!H43,"N/A") -> 0.03
C44: distribúcia elektriny VT | D44: MWh | F44: 51.05 | G44: 42.37 | H44: n.a. | I44: n.a. | L44: =IFERROR(H44-'Nátok z PRDS'!H44,"N/A") -> N/A
C45: straty | F45: 10.915 | G45: 19.911 | H45: n.a. | I45: n.a. | L45: =IFERROR(H45-'Nátok z PRDS'!H45,"N/A") -> N/A
C46: distribúcia elektriny VT + straty | F46: =+F44+F45 -> 61.965 | G46: =+G44+G45 -> 62.281 | H46: =+G46-F46 -> 0.316 | I46: =+ROUND(IF(H46>0,H46*E44,0),4) -> 0 | L46: =IFERROR(H46-'Nátok z PRDS'!H46,"N/A") -> 0.316
C47: distribúcia elektriny NT | D47: MWh | F47: 51.05 | G47: 42.37 | H47: n.a. | I47: n.a. | L47: =IFERROR(H47-'Nátok z PRDS'!H47,"N/A") -> N/A
C48: straty | F48: 10.915 | G48: 19.911 | H48: n.a. | I48: n.a. | L48: =IFERROR(H48-'Nátok z PRDS'!H48,"N/A") -> N/A
C49: distribúcia elektriny NT + straty | F49: =+F47+F48 -> 61.965 | G49: =+G47+G48 -> 62.281 | H49: =+G49-F49 -> 0.316 | I49: =+ROUND(IF(H49>0,H49*E47,0),4) -> 0 | L49: =IFERROR(H49-'Nátok z PRDS'!H49,"N/A") -> 0.316
A50: Odberatelia elektriny v domácnosti pripojení na napäťovú úroveň nízkeho napätia | B50: D8 | C50: prístup do distribučnej sústavy | D50: OM | F50: 6.65 | G50: 6.84 | H50: =+G50-F50 -> 0.19 | I50: =+ROUND(IF(H50>0,H50*E50,0),4) -> 0 | L50: =IFERROR(H50-'Nátok z PRDS'!H50,"N/A") -> 0.19
C51: distribúcia elektriny VT | D51: MWh | F51: 0.65 | G51: 0.53 | H51: n.a. | I51: n.a. | L51: =IFERROR(H51-'Nátok z PRDS'!H51,"N/A") -> N/A
C52: straty | F52: 10.915 | G52: 19.911 | H52: n.a. | I52: n.a. | L52: =IFERROR(H52-'Nátok z PRDS'!H52,"N/A") -> N/A
C53: distribúcia elektriny VT + straty | F53: =+F51+F52 -> 11.565 | G53: =+G51+G52 -> 20.441 | H53: =+G53-F53 -> 8.876 | I53: =+ROUND(IF(H53>0,H53*E51,0),4) -> 0 | L53: =IFERROR(H53-'Nátok z PRDS'!H53,"N/A") -> 8.876
C54: distribúcia elektriny NT | D54: MWh | F54: 0.65 | G54: 0.53 | H54: n.a. | I54: n.a. | L54: =IFERROR(H54-'Nátok z PRDS'!H54,"N/A") -> N/A
C55: straty | F55: 10.915 | G55: 19.911 | H55: n.a. | I55: n.a. | L55: =IFERROR(H55-'Nátok z PRDS'!H55,"N/A") -> N/A
C56: distribúcia elektriny NT + straty | F56: =+F54+F55 -> 11.565 | G56: =+G54+G55 -> 20.441 | H56: =+G56-F56 -> 8.876 | I56: =+ROUND(IF(H56>0,H56*E54,0),4) -> 0 | L56: =IFERROR(H56-'Nátok z PRDS'!H56,"N/A") -> 8.876
A57: Odberatelia elektriny v domácnosti pripojení na napäťovú úroveň nízkeho napätia | B57: D9 | C57: prístup do distribučnej sústavy | D57: OM | H57: =+G57-F57 -> 0 | I57: =+ROUND(IF(H57>0,H57*E57,0),4) -> 0 | L57: =IFERROR(H57-'Nátok z PRDS'!H57,"N/A") -> 0
C58: distribúcia elektriny VT | D58: MWh | H58: n.a. | I58: n.a. | L58: =IFERROR(H58-'Nátok z PRDS'!H58,"N/A") -> N/A
C59: straty | H59: n.a. | I59: n.a. | L59: =IFERROR(H59-'Nátok z PRDS'!H59,"N/A") -> N/A
C60: distribúcia elektriny VT + straty | F60: =+F58+F59 -> 0 | G60: =+G58+G59 -> 0 | H60: =+G60-F60 -> 0 | I60: =+ROUND(IF(H60>0,H60*E58,0),4) -> 0 | L60: =IFERROR(H60-'Nátok z PRDS'!H60,"N/A") -> 0
C61: distribúcia elektriny NT | D61: MWh | H61: n.a. | I61: n.a. | L61: =IFERROR(H61-'Nátok z PRDS'!H61,"N/A") -> N/A
C62: straty | H62: n.a. | I62: n.a. | L62: =IFERROR(H62-'Nátok z PRDS'!H62,"N/A") -> N/A
C63: distribúcia elektriny NT + straty | F63: =+F61+F62 -> 0 | G63: =+G61+G62 -> 0 | H63: =+G63-F63 -> 0 | I63: =+ROUND(IF(H63>0,H63*E61,0),4) -> 0 | L63: =IFERROR(H63-'Nátok z PRDS'!H63,"N/A") -> 0
A64: Odberatelia elektriny v domácnosti pripojení na napäťovú úroveň nízkeho napätia | B64: D10 | C64: prístup do distribučnej sústavy | D64: OM | H64: =+G64-F64 -> 0 | I64: =+ROUND(IF(H64>0,H64*E64,0),4) -> 0 | L64: =IFERROR(H64-'Nátok z PRDS'!H64,"N/A") -> 0
C65: distribúcia elektriny VVT | D65: MWh | H65: n.a. | I65: n.a. | L65: =IFERROR(H65-'Nátok z PRDS'!H65,"N/A") -> N/A
C66: straty | H66: n.a. | I66: n.a. | L66: =IFERROR(H66-'Nátok z PRDS'!H66,"N/A") -> N/A
C67: distribúcia elektriny VVT + straty | F67: =+F65+F66 -> 0 | G67: =+G65+G66 -> 0 | H67: =+G67-F67 -> 0 | I67: =+ROUND(IF(H67>0,H67*E65,0),4) -> 0 | L67: =IFERROR(H67-'Nátok z PRDS'!H67,"N/A") -> 0
C68: distribúcia elektriny VT | D68: MWh | H68: n.a. | I68: n.a. | L68: =IFERROR(H68-'Nátok z PRDS'!H68,"N/A") -> N/A
C69: straty | H69: n.a. | I69: n.a. | L69: =IFERROR(H69-'Nátok z PRDS'!H69,"N/A") -> N/A
C70: distribúcia elektriny VT + straty | F70: =+F68+F69 -> 0 | G70: =+G68+G69 -> 0 | H70: =+G70-F70 -> 0 | I70: =+ROUND(IF(H70>0,H70*E68,0),4) -> 0 | L70: =IFERROR(H70-'Nátok z PRDS'!H70,"N/A") -> 0
C71: distribúcia elektriny NT | D71: MWh | H71: n.a. | I71: n.a. | L71: =IFERROR(H71-'Nátok z PRDS'!H71,"N/A") -> N/A
C72: straty | H72: n.a. | I72: n.a. | L72: =IFERROR(H72-'Nátok z PRDS'!H72,"N/A") -> N/A
C73: distribúcia elektriny NT + straty | F73: =+F71+F72 -> 0 | G73: =+G71+G72 -> 0 | H73: =+G73-F73 -> 0 | I73: =+ROUND(IF(H73>0,H73*E71,0),4) -> 0 | L73: =IFERROR(H73-'Nátok z PRDS'!H73,"N/A") -> 0
C74: distribúcia elektriny VNT | D74: MWh | H74: n.a. | I74: n.a. | L74: =IFERROR(H74-'Nátok z PRDS'!H74,"N/A") -> N/A
C75: straty | H75: n.a. | I75: n.a. | L75: =IFERROR(H75-'Nátok z PRDS'!H75,"N/A") -> N/A
C76: distribúcia elektriny VNT + straty | F76: =+F74+F75 -> 0 | G76: =+G74+G75 -> 0 | H76: =+G76-F76 -> 0 | I76: =+ROUND(IF(H76>0,H76*E74,0),4) -> 0 | L76: =IFERROR(H76-'Nátok z PRDS'!H76,"N/A") -> 0
A77: Odberatelia elektriny v domácnosti pripojení na napäťovú úroveň nízkeho napätia | B77: Súčet | C77: prístup do distribučnej sústavy | D77: n.a. | E77: n.a. | F77: n.a. | G77: n.a. | H77: n.a. | I77: =+I5+I9+I10+I14+I21+I22+I29+I36+I43+I50+I57+I64 -> 0 | L77: =IFERROR(H77-'Nátok z PRDS'!H77,"N/A") -> N/A
C78: distribúcia elektriny + straty | E78: =SUM(E6,E11,E15,E18,E23,E26,E30,E33,E37,E40,E44,E47,E51,E54,E58,E61,E65,E68,E71,E74) -> 0 | F78: n.a. | G78: n.a. | H78: n.a. | I78: =+I8+I13+I17+I20+I25+I28+I32+I35+I39+I42+I46+I49+I53+I56+I60+I63+I67+I70+I73+I76 -> 0 | L78: =IFERROR(H78-'Nátok z PRDS'!H78,"N/A") -> N/A
A79: Ostatní koncoví odberatelia elektriny pripojení na napäťovú úroveň nízkeho napätia | B79: C1 | C79: prístup do distribučnej sústavy v A | D79: A | F79: 0.0678 | G79: 0.0814 | H79: =+G79-F79 -> 0.0136 | I79: =+ROUND(IF(H79>0,H79*E79,0),4) -> 0 | L79: =IFERROR(H79-'Nátok z PRDS'!H79,"N/A") -> 0.0136
C80: prístup do distribučnej sústavy v kW | D80: kW | F80: 0.3103 | G80: 0.3725 | H80: =+G80-F80 -> 0.0622 | I80: =+ROUND(IF(H80>0,H80*E80,0),4) -> 0 | L80: =IFERROR(H80-'Nátok z PRDS'!H80,"N/A") -> 0.0622
C81: distribúcia elektriny | D81: MWh | F81: 59.27 | G81: 59.27 | H81: n.a. | I81: n.a. | L81: =IFERROR(H81-'Nátok z PRDS'!H81,"N/A") -> N/A
C82: straty | F82: 10.915 | G82: 19.911 | H82: n.a. | I82: n.a. | L82: =IFERROR(H82-'Nátok z PRDS'!H82,"N/A") -> N/A
C83: distribúcia elektriny + straty | F83: =+F81+F82 -> 70.185 | G83: =+G81+G82 -> 79.181 | H83: =+G83-F83 -> 8.996 | I83: =+ROUND(IF(H83>0,H83*E81,0),4) -> 0 | L83: =IFERROR(H83-'Nátok z PRDS'!H83,"N/A") -> 8.996
A84: Ostatní koncoví odberatelia elektriny pripojení na napäťovú úroveň nízkeho napätia | B84: C2 | C84: prístup do distribučnej sústavy v A | D84: A | F84: 0.1186 | G84: 0.1305 | H84: =+G84-F84 -> 0.0119 | I84: =+ROUND(IF(H84>0,H84*E84,0),4) -> 0 | L84: =IFERROR(H84-'Nátok z PRDS'!H84,"N/A") -> 0.0119
C85: prístup do distribučnej sústavy v kW | D85: kW | F85: 0.5428 | G85: 0.5973 | H85: =+G85-F85 -> 0.0545 | I85: =+ROUND(IF(H85>0,H85*E85,0),4) -> 0 | L85: =IFERROR(H85-'Nátok z PRDS'!H85,"N/A") -> 0.0545
C86: distribúcia elektriny | D86: MWh | F86: 53.23 | G86: 45.17 | H86: n.a. | I86: n.a. | L86: =IFERROR(H86-'Nátok z PRDS'!H86,"N/A") -> N/A
C87: straty | F87: 10.915 | G87: 19.911 | H87: n.a. | I87: n.a. | L87: =IFERROR(H87-'Nátok z PRDS'!H87,"N/A") -> N/A
C88: distribúcia elektriny + straty | F88: =+F86+F87 -> 64.145 | G88: =+G86+G87 -> 65.081 | H88: =+G88-F88 -> 0.936 | I88: =+ROUND(IF(H88>0,H88*E86,0),4) -> 0 | L88: =IFERROR(H88-'Nátok z PRDS'!H88,"N/A") -> 0.936
A89: Ostatní koncoví odberatelia elektriny pripojení na napäťovú úroveň nízkeho napätia | B89: C3 | C89: prístup do distribučnej sústavy v A | D89: A | F89: 0.3853 | G89: 0.2248 | H89: =+G89-F89 -> -0.1605 | I89: =+ROUND(IF(H89>0,H89*E89,0),4) -> 0 | L89: =IFERROR(H89-'Nátok z PRDS'!H89,"N/A") -> -0.1605
C90: prístup do distribučnej sústavy v kW | D90: kW | F90: 1.7634 | G90: 1.0288 | H90: =+G90-F90 -> -0.7346 | I90: =+ROUND(IF(H90>0,H90*E90,0),4) -> 0 | L90: =IFERROR(H90-'Nátok z PRDS'!H90,"N/A") -> -0.7346
C91: distribúcia elektriny | D91: MWh | F91: 37.91 | G91: 45.17 | H91: n.a. | I91: n.a. | L91: =IFERROR(H91-'Nátok z PRDS'!H91,"N/A") -> N/A
C92: straty | F92: 10.915 | G92: 19.911 | H92: n.a. | I92: n.a. | L92: =IFERROR(H92-'Nátok z PRDS'!H92,"N/A") -> N/A
C93: distribúcia elektriny + straty | F93: =+F91+F92 -> 48.825 | G93: =+G91+G92 -> 65.081 | H93: =+G93-F93 -> 16.256 | I93: =+ROUND(IF(H93>0,H93*E91,0),4) -> 0 | L93: =IFERROR(H93-'Nátok z PRDS'!H93,"N/A") -> 16.256
A94: Ostatní koncoví odberatelia elektriny pripojení na napäťovú úroveň nízkeho napätia | B94: C4 | C94: prístup do distribučnej sústavy v A | D94: A | F94: 0.162 | G94: 0.2248 | H94: =+G94-F94 -> 0.0628 | I94: =+ROUND(IF(H94>0,H94*E94,0),4) -> 0 | L94: =IFERROR(H94-'Nátok z PRDS'!H94,"N/A") -> 0.0628
C95: prístup do distribučnej sústavy v kW | D95: kW | F95: 0.7414 | G95: 1.0288 | H95: =+G95-F95 -> 0.2874 | I95: =+ROUND(IF(H95>0,H95*E95,0),4) -> 0 | L95: =IFERROR(H95-'Nátok z PRDS'!H95,"N/A") -> 0.2874
C96: distribúcia elektriny VT | D96: MWh | F96: 63.01 | G96: 54.1 | H96: n.a. | I96: n.a. | L96: =IFERROR(H96-'Nátok z PRDS'!H96,"N/A") -> N/A
C97: straty | F97: 10.915 | G97: 19.911 | H97: n.a. | I97: n.a. | L97: =IFERROR(H97-'Nátok z PRDS'!H97,"N/A") -> N/A
C98: distribúcia elektriny VT + straty | F98: =+F96+F97 -> 73.925 | G98: =+G96+G97 -> 74.011 | H98: =+G98-F98 -> 0.086 | I98: =+ROUND(IF(H98>0,H98*E96,0),4) -> 0 | L98: =IFERROR(H98-'Nátok z PRDS'!H98,"N/A") -> 0.086
C99: distribúcia elektriny NT | D99: MWh | F99: 5.5 | G99: 5.5 | H99: n.a. | I99: n.a. | L99: =IFERROR(H99-'Nátok z PRDS'!H99,"N/A") -> N/A
C100: straty | F100: 10.915 | G100: 19.911 | H100: n.a. | I100: n.a. | L100: =IFERROR(H100-'Nátok z PRDS'!H100,"N/A") -> N/A
...

Sheet VSD
A1: Príloha k žiadosti o ročné zúčtovanie kompenzácií vybraných druhov taríf pre odberateľov elektriny v domácnosti a pre ostatných koncových odberateľov elektriny za rok 2024 | K1: Skryt | L1: Rozdiel nadradena formular vs uvedena v natoku
A2: Mesiac: 01-12/2024 PRDS: VSD, a.s. | B2: Sadzba | C2: Tarifa | D2: m.j. 2 | E2: Množstvo | F2: Tarifa na rok 2022 podľa rozhodnutia ÚRSO č. XXXX | G2: Tarifa na rok 2024 podľa rozhodnutia ÚRSO č. XXXX | H2: rozdiel ziadost | I2: rozdiel v eur
E3: [m.j.] | F3: [€/m.j.] | G3: [€/m.j.] | H3: [€/m.j.] | I3: [€]
E4: [1] | F4: [2] | G4: [3] | H4: [4] | I4: [5]
A5: Odberatelia elektriny v domácnosti pripojení na napäťovú úroveň nízkeho napätia | B5: D1 | C5: prístup do distribučnej sústavy | F5: 1.3 | G5: 1.59 | H5: =+G5-F5 -> 0.29 | I5: =+ROUND(IF(H5>0,H5*E5,0),4) -> 0 | L5: =IFERROR(H5-'Nátok z PRDS'!H5,"N/A") -> 0.29
C6: distribúcia elektriny | D6: MWh | F6: 47 | G6: 51.8 | H6: n.a. | I6: n.a. | L6: =IFERROR(H6-'Nátok z PRDS'!H6,"N/A") -> N/A
C7: straty | F7: 12.413 | G7: 16.244 | H7: n.a. | I7: n.a. | L7: =IFERROR(H7-'Nátok z PRDS'!H7,"N/A") -> N/A
C8: distribúcia elektriny + straty | F8: =+F6+F7 -> 59.413 | G8: =+G6+G7 -> 68.044 | H8: =+G8-F8 -> 8.631 | I8: =+ROUND(IF(H8>0,H8*E6,0),4) -> 0 | L8: =IFERROR(H8-'Nátok z PRDS'!H8,"N/A") -> 8.631
A9: Odberatelia elektriny v domácnosti pripojení na napäťovú úroveň nízkeho napätia | B9: D2 | C9: prístup do distribučnej sústavy | F9: 4.8211 | G9: 5.4189 | H9: =+G9-F9 -> 0.5978 | I9: =+ROUND(IF(H9>0,H9*E9,0),4) -> 0 | L9: =IFERROR(H9-'Nátok z PRDS'!H9,"N/A") -> 0.5978
C10: prístup do distribučnej sústavy (nevidiaci) | F10: 2.0986 | G10: 2.7095 | H10: =+G10-F10 -> 0.6109 | I10: =+ROUND(IF(H10>0,H10*E10,0),4) -> 0 | L10: =IFERROR(H10-'Nátok z PRDS'!H10,"N/A") -> 0.6109
C11: distribúcia elektriny | D11: MWh | F11: 19.7 | G11: 21.6 | H11: n.a. | I11: n.a. | L11: =IFERROR(H11-'Nátok z PRDS'!H11,"N/A") -> N/A
C12: straty | F12: 12.413 | G12: 16.244 | H12: n.a. | I12: n.a. | L12: =IFERROR(H12-'Nátok z PRDS'!H12,"N/A") -> N/A
C13: distribúcia elektriny + straty | F13: =+F11+F12 -> 32.113 | G13: =+G11+G12 -> 37.844 | H13: =+G13-F13 -> 5.731 | I13: =+ROUND(IF(H13>0,H13*E11,0),4) -> 0 | L13: =IFERROR(H13-'Nátok z PRDS'!H13,"N/A") -> 5.731
A14: Odberatelia elektriny v domácnosti pripojení na napäťovú úroveň nízkeho napätia | B14: D3 | C14: prístup do distribučnej sústavy | F14: 0.2954 | G14: 0.3486 | H14: =+G14-F14 -> 0.0532 | I14: =+ROUND(IF(H14>0,H14*E14,0),4) -> 0 | L14: =IFERROR(H14-'Nátok z PRDS'!H14,"N/A") -> 0.0532
C15: distribúcia elektriny VT | D15: MWh | E15: 0 | F15: 5.2 | G15: 5.1 | H15: n.a. | I15: n.a. | L15: =IFERROR(H15-'Nátok z PRDS'!H15,"N/A") -> N/A
C16: straty | F16: 12.413 | G16: 16.244 | H16: n.a. | I16: n.a. | L16: =IFERROR(H16-'Nátok z PRDS'!H16,"N/A") -> N/A
C17: distribúcia elektriny VT + straty | F17: =+F15+F16 -> 17.613 | G17: =+G15+G16 -> 21.344 | H17: =+G17-F17 -> 3.731 | I17: =+ROUND(IF(H17>0,H17*E15,0),4) -> 0 | L17: =IFERROR(H17-'Nátok z PRDS'!H17,"N/A") -> 3.731
C18: distribúcia elektriny NT | D18: MWh | E18: 0 | H18: n.a. | I18: n.a. | L18: =IFERROR(H18-'Nátok z PRDS'!H18,"N/A") -> N/A
C19: straty | H19: n.a. | I19: n.a. | L19: =IFERROR(H19-'Nátok z PRDS'!H19,"N/A") -> N/A
C20: distribúcia elektriny NT + straty | F20: =+F18+F19 -> 0 | G20: =+G18+G19 -> 0 | H20: =+G20-F20 -> 0 | I20: =+ROUND(IF(H20>0,H20*E18,0),4) -> 0 | L20: =IFERROR(H20-'Nátok z PRDS'!H20,"N/A") -> 0
A21: Odberatelia elektriny v domácnosti pripojení na napäťovú úroveň nízkeho napätia | B21: D4 | C21: prístup do distribučnej sústavy | F21: 0.2954 | G21: 0.3486 | H21: =+G21-F21 -> 0.0532 | I21: =+ROUND(IF(H21>0,H21*E21,0),4) -> 0 | L21: =IFERROR(H21-'Nátok z PRDS'!H21,"N/A") -> 0.0532
C22: prístup do distribučnej sústavy (nevidiaci) | F22: 0.1651 | G22: 0.1743 | H22: =+G22-F22 -> 0.0092 | I22: =+ROUND(IF(H22>0,H22*E22,0),4) -> 0 | L22: =IFERROR(H22-'Nátok z PRDS'!H22,"N/A") -> 0.0092
C23: distribúcia elektriny VT | D23: MWh | E23: 0 | F23: 5.2 | G23: 5.1 | H23: n.a. | I23: n.a. | L23: =IFERROR(H23-'Nátok z PRDS'!H23,"N/A") -> N/A
C24: straty | F24: 12.413 | G24: 16.244 | H24: n.a. | I24: n.a. | L24: =IFERROR(H24-'Nátok z PRDS'!H24,"N/A") -> N/A
C25: distribúcia elektriny VT + straty | F25: =+F23+F24 -> 17.613 | G25: =+G23+G24 -> 21.344 | H25: =+G25-F25 -> 3.731 | I25: =+ROUND(IF(H25>0,H25*E23,0),4) -> 0 | L25: =IFERROR(H25-'Nátok z PRDS'!H25,"N/A") -> 3.731
C26: distribúcia elektriny NT | D26: MWh | H26: n.a. | I26: n.a. | L26: =IFERROR(H26-'Nátok z PRDS'!H26,"N/A") -> N/A
C27: straty | H27: n.a. | I27: n.a. | L27: =IFERROR(H27-'Nátok z PRDS'!H27,"N/A") -> N/A
C28: distribúcia elektriny NT + straty | F28: =+F26+F27 -> 0 | G28: =+G26+G27 -> 0 | H28: =+G28-F28 -> 0 | I28: =+ROUND(IF(H28>0,H28*E26,0),4) -> 0 | L28: =IFERROR(H28-'Nátok z PRDS'!H28,"N/A") -> 0
A29: Odberatelia elektriny v domácnosti pripojení na napäťovú úroveň nízkeho napätia | B29: D5 | C29: prístup do distribučnej sústavy | F29: 0.2954 | G29: 0.3486 | H29: =+G29-F29 -> 0.0532 | I29: =+ROUND(IF(H29>0,H29*E29,0),4) -> 0 | L29: =IFERROR(H29-'Nátok z PRDS'!H29,"N/A") -> 0.0532
C30: distribúcia elektriny VT | D30: MWh | E30: 0 | F30: 5.2 | G30: 5.1 | H30: n.a. | I30: n.a. | L30: =IFERROR(H30-'Nátok z PRDS'!H30,"N/A") -> N/A
C31: straty | F31: 12.413 | G31: 16.244 | H31: n.a. | I31: n.a. | L31: =IFERROR(H31-'Nátok z PRDS'!H31,"N/A") -> N/A
C32: distribúcia elektriny VT + straty | F32: =+F30+F31 -> 17.613 | G32: =+G30+G31 -> 21.344 | H32: =+G32-F32 -> 3.731 | I32: =+ROUND(IF(H32>0,H32*E30,0),4) -> 0 | L32: =IFERROR(H32-'Nátok z PRDS'!H32,"N/A") -> 3.731
C33: distribúcia elektriny NT | D33: MWh | E33: 0 | H33: n.a. | I33: n.a. | L33: =IFERROR(H33-'Nátok z PRDS'!H33,"N/A") -> N/A
C34: straty | H34: n.a. | I34: n.a. | L34: =IFERROR(H34-'Nátok z PRDS'!H34,"N/A") -> N/A
C35: distribúcia elektriny NT + straty | F35: =+F33+F34 -> 0 | G35: =+G33+G34 -> 0 | H35: =+G35-F35 -> 0 | I35: =+ROUND(IF(H35>0,H35*E33,0),4) -> 0 | L35: =IFERROR(H35-'Nátok z PRDS'!H35,"N/A") -> 0
A36: Odberatelia elektriny v domácnosti pripojení na napäťovú úroveň nízkeho napätia | B36: D6 | C36: prístup do distribučnej sústavy | F36: 0.2954 | G36: 0.3486 | H36: =+G36-F36 -> 0.0532 | I36: =+ROUND(IF(H36>0,H36*E36,0),4) -> 0 | L36: =IFERROR(H36-'Nátok z PRDS'!H36,"N/A") -> 0.0532
C37: distribúcia elektriny VT | D37: MWh | E37: 0 | F37: 5.2 | G37: 5.1 | H37: n.a. | I37: n.a. | L37: =IFERROR(H37-'Nátok z PRDS'!H37,"N/A") -> N/A
C38: straty | F38: 12.413 | G38: 16.244 | H38: n.a. | I38: n.a. | L38: =IFERROR(H38-'Nátok z PRDS'!H38,"N/A") -> N/A
C39: distribúcia elektriny VT + straty | F39: =+F37+F38 -> 17.613 | G39: =+G37+G38 -> 21.344 | H39: =+G39-F39 -> 3.731 | I39: =+ROUND(IF(H39>0,H39*E37,0),4) -> 0 | L39: =IFERROR(H39-'Nátok z PRDS'!H39,"N/A") -> 3.731
C40: distribúcia elektriny NT | D40: MWh | E40: 0 | H40: n.a. | I40: n.a. | L40: =IFERROR(H40-'Nátok z PRDS'!H40,"N/A") -> N/A
C41: straty | H41: n.a. | I41: n.a. | L41: =IFERROR(H41-'Nátok z PRDS'!H41,"N/A") -> N/A
C42: distribúcia elektriny NT + straty | F42: =+F40+F41 -> 0 | G42: =+G40+G41 -> 0 | H42: =+G42-F42 -> 0 | I42: =+ROUND(IF(H42>0,H42*E40,0),4) -> 0 | L42: =IFERROR(H42-'Nátok z PRDS'!H42,"N/A") -> 0
A43: Odberatelia elektriny v domácnosti pripojení na napäťovú úroveň nízkeho napätia | B43: D7 | C43: prístup do distribučnej sústavy | H43: =+G43-F43 -> 0 | I43: =+ROUND(IF(H43>0,H43*E43,0),4) -> 0 | L43: =IFERROR(H43-'Nátok z PRDS'!H43,"N/A") -> 0
C44: distribúcia elektriny VT | D44: MWh | E44: 0 | H44: n.a. | I44: n.a. | L44: =IFERROR(H44-'Nátok z PRDS'!H44,"N/A") -> N/A
C45: straty | H45: n.a. | I45: n.a. | L45: =IFERROR(H45-'Nátok z PRDS'!H45,"N/A") -> N/A
C46: distribúcia elektriny VT + straty | F46: =+F44+F45 -> 0 | G46: =+G44+G45 -> 0 | H46: =+G46-F46 -> 0 | I46: =+ROUND(IF(H46>0,H46*E44,0),4) -> 0 | L46: =IFERROR(H46-'Nátok z PRDS'!H46,"N/A") -> 0
C47: distribúcia elektriny NT | D47: MWh | E47: 0 | H47: n.a. | I47: n.a. | L47: =IFERROR(H47-'Nátok z PRDS'!H47,"N/A") -> N/A
C48: straty | H48: n.a. | I48: n.a. | L48: =IFERROR(H48-'Nátok z PRDS'!H48,"N/A") -> N/A
C49: distribúcia elektriny NT + straty | F49: =+F47+F48 -> 0 | G49: =+G47+G48 -> 0 | H49: =+G49-F49 -> 0 | I49: =+ROUND(IF(H49>0,H49*E47,0),4) -> 0 | L49: =IFERROR(H49-'Nátok z PRDS'!H49,"N/A") -> 0
A50: Odberatelia elektriny v domácnosti pripojení na napäťovú úroveň nízkeho napätia | B50: D8 | C50: prístup do distribučnej sústavy | H50: =+G50-F50 -> 0 | I50: =+ROUND(IF(H50>0,H50*E50,0),4) -> 0 | L50: =IFERROR(H50-'Nátok z PRDS'!H50,"N/A") -> 0
C51: distribúcia elektriny VT | D51: MWh | E51: 0 | H51: n.a. | I51: n.a. | L51: =IFERROR(H51-'Nátok z PRDS'!H51,"N/A") -> N/A
C52: straty | H52: n.a. | I52: n.a. | L52: =IFERROR(H52-'Nátok z PRDS'!H52,"N/A") -> N/A
C53: distribúcia elektriny VT + straty | F53: =+F51+F52 -> 0 | G53: =+G51+G52 -> 0 | H53: =+G53-F53 -> 0 | I53: =+ROUND(IF(H53>0,H53*E51,0),4) -> 0 | L53: =IFERROR(H53-'Nátok z PRDS'!H53,"N/A") -> 0
C54: distribúcia elektriny NT | D54: MWh | E54: 0 | H54: n.a. | I54: n.a. | L54: =IFERROR(H54-'Nátok z PRDS'!H54,"N/A") -> N/A
C55: straty | H55: n.a. | I55: n.a. | L55: =IFERROR(H55-'Nátok z PRDS'!H55,"N/A") -> N/A
C56: distribúcia elektriny NT + straty | F56: =+F54+F55 -> 0 | G56: =+G54+G55 -> 0 | H56: =+G56-F56 -> 0 | I56: =+ROUND(IF(H56>0,H56*E54,0),4) -> 0 | L56: =IFERROR(H56-'Nátok z PRDS'!H56,"N/A") -> 0
A57: Odberatelia elektriny v domácnosti pripojení na napäťovú úroveň nízkeho napätia | B57: D9 | C57: prístup do distribučnej sústavy | H57: =+G57-F57 -> 0 | I57: =+ROUND(IF(H57>0,H57*E57,0),4) -> 0 | L57: =IFERROR(H57-'Nátok z PRDS'!H57,"N/A") -> 0
C58: distribúcia elektriny VT | D58: MWh | E58: 0 | H58: n.a. | I58: n.a. | L58: =IFERROR(H58-'Nátok z PRDS'!H58,"N/A") -> N/A
C59: straty | H59: n.a. | I59: n.a. | L59: =IFERROR(H59-'Nátok z PRDS'!H59,"N/A") -> N/A
C60: distribúcia elektriny VT + straty | F60: =+F58+F59 -> 0 | G60: =+G58+G59 -> 0 | H60: =+G60-F60 -> 0 | I60: =+ROUND(IF(H60>0,H60*E58,0),4) -> 0 | L60: =IFERROR(H60-'Nátok z PRDS'!H60,"N/A") -> 0
C61: distribúcia elektriny NT | D61: MWh | E61: 0 | H61: n.a. | I61: n.a. | L61: =IFERROR(H61-'Nátok z PRDS'!H61,"N/A") -> N/A
C62: straty | H62: n.a. | I62: n.a. | L62: =IFERROR(H62-'Nátok z PRDS'!H62,"N/A") -> N/A
C63: distribúcia elektriny NT + straty | F63: =+F61+F62 -> 0 | G63: =+G61+G62 -> 0 | H63: =+G63-F63 -> 0 | I63: =+ROUND(IF(H63>0,H63*E61,0),4) -> 0 | L63: =IFERROR(H63-'Nátok z PRDS'!H63,"N/A") -> 0
A64: Odberatelia elektriny v domácnosti pripojení na napäťovú úroveň nízkeho napätia | B64: D10 | C64: prístup do distribučnej sústavy | H64: =+G64-F64 -> 0 | I64: =+ROUND(IF(H64>0,H64*E64,0),4) -> 0 | L64: =IFERROR(H64-'Nátok z PRDS'!H64,"N/A") -> 0
C65: distribúcia elektriny VVT | D65: MWh | E65: 0 | H65: n.a. | I65: n.a. | L65: =IFERROR(H65-'Nátok z PRDS'!H65,"N/A") -> N/A
C66: straty | H66: n.a. | I66: n.a. | L66: =IFERROR(H66-'Nátok z PRDS'!H66,"N/A") -> N/A
C67: distribúcia elektriny VVT + straty | F67: =+F65+F66 -> 0 | G67: =+G65+G66 -> 0 | H67: =+G67-F67 -> 0 | I67: =+ROUND(IF(H67>0,H67*E65,0),4) -> 0 | L67: =IFERROR(H67-'Nátok z PRDS'!H67,"N/A") -> 0
C68: distribúcia elektriny VT | D68: MWh | E68: 0 | H68: n.a. | I68: n.a. | L68: =IFERROR(H68-'Nátok z PRDS'!H68,"N/A") -> N/A
C69: straty | H69: n.a. | I69: n.a. | L69: =IFERROR(H69-'Nátok z PRDS'!H69,"N/A") -> N/A
C70: distribúcia elektriny VT + straty | F70: =+F68+F69 -> 0 | G70: =+G68+G69 -> 0 | H70: =+G70-F70 -> 0 | I70: =+ROUND(IF(H70>0,H70*E68,0),4) -> 0 | L70: =IFERROR(H70-'Nátok z PRDS'!H70,"N/A") -> 0
C71: distribúcia elektriny NT | D71: MWh | E71: 0 | H71: n.a. | I71: n.a. | L71: =IFERROR(H71-'Nátok z PRDS'!H71,"N/A") -> N/A
C72: straty | H72: n.a. | I72: n.a. | L72: =IFERROR(H72-'Nátok z PRDS'!H72,"N/A") -> N/A
C73: distribúcia elektriny NT + straty | F73: =+F71+F72 -> 0 | G73: =+G71+G72 -> 0 | H73: =+G73-F73 -> 0 | I73: =+ROUND(IF(H73>0,H73*E71,0),4) -> 0 | L73: =IFERROR(H73-'Nátok z PRDS'!H73,"N/A") -> 0
C74: distribúcia elektriny VNT | D74: MWh | E74: 0 | H74: n.a. | I74: n.a. | L74: =IFERROR(H74-'Nátok z PRDS'!H74,"N/A") -> N/A
C75: straty | H75: n.a. | I75: n.a. | L75: =IFERROR(H75-'Nátok z PRDS'!H75,"N/A") -> N/A
C76: distribúcia elektriny VNT + straty | F76: =+F74+F75 -> 0 | G76: =+G74+G75 -> 0 | H76: =+G76-F76 -> 0 | I76: =+ROUND(IF(H76>0,H76*E74,0),4) -> 0 | L76: =IFERROR(H76-'Nátok z PRDS'!H76,"N/A") -> 0
A77: Odberatelia elektriny v domácnosti pripojení na napäťovú úroveň nízkeho napätia | B77: Súčet | C77: prístup do distribučnej sústavy | D77: n.a. | E77: n.a. | F77: n.a. | G77: n.a. | H77: n.a. | I77: =+I5+I9+I10+I14+I21+I22+I29+I36+I43+I50+I57+I64 -> 0 | L77: =IFERROR(H77-'Nátok z PRDS'!H77,"N/A") -> N/A
C78: distribúcia elektriny + straty | E78: =SUM(E6,E11,E15,E18,E23,E26,E30,E33,E37,E40,E44,E47,E51,E54,E58,E61,E65,E68,E71,E74) -> 0 | F78: n.a. | G78: n.a. | H78: n.a. | I78: =+I8+I13+I17+I20+I25+I28+I32+I35+I39+I42+I46+I49+I53+I56+I60+I63+I67+I70+I73+I76 -> 0 | L78: =IFERROR(H78-'Nátok z PRDS'!H78,"N/A") -> N/A
A79: Ostatní koncoví odberatelia elektriny pripojení na napäťovú úroveň nízkeho napätia | B79: C1 | C79: prístup do distribučnej sústavy v A | D79: A | H79: =+G79-F79 -> 0 | I79: =+ROUND(IF(H79>0,H79*E79,0),4) -> 0 | L79: =IFERROR(H79-'Nátok z PRDS'!H79,"N/A") -> 0
C80: prístup do distribučnej sústavy v kW | D80: kW | H80: =+G80-F80 -> 0 | I80: =+ROUND(IF(H80>0,H80*E80,0),4) -> 0 | L80: =IFERROR(H80-'Nátok z PRDS'!H80,"N/A") -> 0
C81: distribúcia elektriny | D81: MWh | E81: =+E82 -> 0 | H81: n.a. | I81: n.a. | L81: =IFERROR(H81-'Nátok z PRDS'!H81,"N/A") -> N/A
C82: straty | H82: n.a. | I82: n.a. | L82: =IFERROR(H82-'Nátok z PRDS'!H82,"N/A") -> N/A
C83: distribúcia elektriny + straty | F83: =+F81+F82 -> 0 | G83: =+G81+G82 -> 0 | H83: =+G83-F83 -> 0 | I83: =+ROUND(IF(H83>0,H83*E81,0),4) -> 0 | L83: =IFERROR(H83-'Nátok z PRDS'!H83,"N/A") -> 0
A84: Ostatní koncoví odberatelia elektriny pripojení na napäťovú úroveň nízkeho napätia | B84: C2 | C84: prístup do distribučnej sústavy v A | D84: A | F84: 0.6909 | G84: 0.7576 | H84: =+G84-F84 -> 0.0667 | I84: =+ROUND(IF(H84>0,H84*E84,0),4) -> 0 | L84: =IFERROR(H84-'Nátok z PRDS'!H84,"N/A") -> 0.0667
C85: prístup do distribučnej sústavy v kW | D85: kW | F85: 1.0497 | G85: 1.1511 | H85: =+G85-F85 -> 0.1014 | I85: =+ROUND(IF(H85>0,H85*E85,0),4) -> 0 | L85: =IFERROR(H85-'Nátok z PRDS'!H85,"N/A") -> 0.1014
C86: distribúcia elektriny | D86: MWh | E86: =+E87 -> 0 | F86: 30.3 | G86: 32.9 | H86: n.a. | I86: n.a. | L86: =IFERROR(H86-'Nátok z PRDS'!H86,"N/A") -> N/A
C87: straty | F87: 12.413 | G87: 16.244 | H87: n.a. | I87: n.a. | L87: =IFERROR(H87-'Nátok z PRDS'!H87,"N/A") -> N/A
C88: distribúcia elektriny + straty | F88: =+F86+F87 -> 42.713 | G88: =+G86+G87 -> 49.144 | H88: =+G88-F88 -> 6.431 | I88: =+ROUND(IF(H88>0,H88*E86,0),4) -> 0 | L88: =IFERROR(H88-'Nátok z PRDS'!H88,"N/A") -> 6.431
A89: Ostatní koncoví odberatelia elektriny pripojení na napäťovú úroveň nízkeho napätia | B89: C3 | C89: prístup do distribučnej sústavy v A | D89: A | H89: =+G89-F89 -> 0 | I89: =+ROUND(IF(H89>0,H89*E89,0),4) -> 0 | L89: =IFERROR(H89-'Nátok z PRDS'!H89,"N/A") -> 0
C90: prístup do distribučnej sústavy v kW | D90: kW | H90: =+G90-F90 -> 0 | I90: =+ROUND(IF(H90>0,H90*E90,0),4) -> 0 | L90: =IFERROR(H90-'Nátok z PRDS'!H90,"N/A") -> 0
C91: distribúcia elektriny | D91: MWh | E91: =+E92 -> 0 | H91: n.a. | I91: n.a. | L91: =IFERROR(H91-'Nátok z PRDS'!H91,"N/A") -> N/A
C92: straty | H92: n.a. | I92: n.a. | L92: =IFERROR(H92-'Nátok z PRDS'!H92,"N/A") -> N/A
C93: distribúcia elektriny + straty | F93: =+F91+F92 -> 0 | G93: =+G91+G92 -> 0 | H93: =+G93-F93 -> 0 | I93: =+ROUND(IF(H93>0,H93*E91,0),4) -> 0 | L93: =IFERROR(H93-'Nátok z PRDS'!H93,"N/A") -> 0
A94: Ostatní koncoví odberatelia elektriny pripojení na napäťovú úroveň nízkeho napätia | B94: C4 | C94: prístup do distribučnej sústavy v A | D94: A | H94: =+G94-F94 -> 0 | I94: =+ROUND(IF(H94>0,H94*E94,0),4) -> 0 | L94: =IFERROR(H94-'Nátok z PRDS'!H94,"N/A") -> 0
C95: prístup do distribučnej sústavy v kW | D95: kW | H95: =+G95-F95 -> 0 | I95: =+ROUND(IF(H95>0,H95*E95,0),4) -> 0 | L95: =IFERROR(H95-'Nátok z PRDS'!H95,"N/A") -> 0
C96: distribúcia elektriny VT | D96: MWh | E96: 0 | H96: n.a. | I96: n.a. | L96: =IFERROR(H96-'Nátok z PRDS'!H96,"N/A") -> N/A
C97: straty | H97: n.a. | I97: n.a. | L97: =IFERROR(H97-'Nátok z PRDS'!H97,"N/A") -> N/A
C98: distribúcia elektriny VT + straty | F98: =+F96+F97 -> 0 | G98: =+G96+G97 -> 0 | H98: =+G98-F98 -> 0 | I98: =+ROUND(IF(H98>0,H98*E96,0),4) -> 0 | L98: =IFERROR(H98-'Nátok z PRDS'!H98,"N/A") -> 0
C99: distribúcia elektriny NT | D99: MWh | E99: 0 | H99: n.a. | I99: n.a. | L99: =IFERROR(H99-'Nátok z PRDS'!H99,"N/A") -> N/A
C100: straty | H100: n.a. | I100: n.a. | L100: =IFERROR(H100-'Nátok z PRDS'!H100,"N/A") -> N/A
...

Sheet Okresy
A1: Bánovce nad Bebravou
A2: Banská Bystrica
A3: Banská Štiavnica
A4: Bardejov
A5: Bratislava I
A6: Bratislava II
A7: Bratislava III
A8: Bratislava IV
A9: Bratislava V
A10: Brezno
A11: Bytča
A12: Čadca
... A79: Žilina

Sheet Output
A1: Číslo spisu Fabasoft | B1: Názov alebo obchodné meno | C1: Ulica | D1: Orientačné číslo | E1: PSČ | F1: Obec | G1: IČO | H1: DIČ | I1: IČ DPH | J1: Bankové spojenie (IBAN) | K1: Variabilný symbol | L1: Ekonomická klasifikácia | M1: Číslo cenového rozhodnutia URSO | N1: Výška kompenzácie s DPH | O1: Vyplnené všetky čestné prehlásenia | P1: Priložené všetky prílohy | Q1: Výzva na doplnenie | R1: Zaslané oznámenie o schválení dotácie | S1: Meno kontrolujúceho pracovníka
B2: ='PDS-PPS-OKTE'!B9 -> 0 | C2: ='PDS-PPS-OKTE'!B16 -> 0 | D2: ='PDS-PPS-OKTE'!F16 -> 0 | E2: ='PDS-PPS-OKTE'!B19 -> 0 | F2: ='PDS-PPS-OKTE'!D19 -> 0 | G2: ='PDS-PPS-OKTE'!B6 -> 0 | H2: ='PDS-PPS-OKTE'!D6 -> 0 | I2: ='PDS-PPS-OKTE'!F6 -> 0 | J2: ='PDS-PPS-OKTE'!B33 -> 0 | K2: číslo žiadosti | L2: zistiť | M2: ='PDS-PPS-OKTE'!B48 -> 0 | N2: =#REF! -> #REF! | O2: =IF('PDS-PPS-OKTE'!B103="","ÁNO","NIE") -> NIE | P2: Zvoliť možnosť | Q2: Zvoliť možnosť | R2: Zvoliť možnosť
