Workbook

Sheet PDS-PPS-OKTE
B1: Žiadosť o poskytnutie kompenzácie vybraných taríf pre odberateľov elektriny v domácnosti a pre ostatných koncových odberateľov elektriny
A3: Údaje o žiadateľovi
B5: IČO | D5: DIČ | F5: IČ DPH (ak je žiadateľ platca DPH)
B8: Názov alebo obchodné meno
B11: Právna forma
B14: Adresa sídla/miesta podnikania
B15: Ulica | D15: Súpisné číslo | F15: Orientačné číslo
B18: PSČ | D18: Obec | F18: Okres
B21: Osoba s právom konať v mene žiadateľa
B22: Meno | D22: Priezvisko | F22: Typ
B26: Kontaktná osoba žiadateľa
B27: Meno | D27: Priezvisko
B29: E-mailová adresa
B32: Bankové spojenie (IBAN)
A36: Rozhodnutie ÚRSO na rok 2023 (podľa Nariadenia vlády SR č. 465/2022 Z.z.)
B38: Číslo cenového rozhodnutia
B41: Cenové rozhodnutie zo dňa
A45: Cenové rozhodnutie ÚRSO na rok 2022
B47: Číslo cenového rozhodnutia
B50: Cenové rozhodnutie zo dňa
A53: Údaje konečného užívateľa výhod, ak výška dotácie presahuje 100 000 EUR
B55: Meno 1 | D55: Priezvisko 1
B58: Meno 2 | D58: Priezvisko 2
B61: Meno 3 | D61: Priezvisko 3
B64: Meno 4 | D64: Priezvisko 4
B67: Meno 5 | D67: Priezvisko 5
B70: Meno 6 | D70: Priezvisko 6
B73: Meno 7 | D73: Priezvisko 7
B76: Meno 8 | D76: Priezvisko 8
B79: Meno 9 | D79: Priezvisko 9
B82: Meno 10 | D82: Priezvisko 10
B85: Vyhlásenie žiadateľa o splnení podmienok
B87: Nie je voči mne vedené konkurzné konanie, nie som v konkurze, v reštrukturalizácii a nebol proti mne zamietnutý návrh na vyhlásenie konkurzu pre nedostatok majetku. | G87: Zvoliť možnosť
B89: Vyhlasujem, že údaje uvedené v žiadosti, vrátane údajov pre výpočet kompenzácie, sú pravdivé, presné a úplné a spĺňam podmienky pre kompenzácie stanovené v Nariadení vlády č. 465/2022 Z.z. | G89: Zvoliť možnosť
B91: Vyhlasujem, že nemám právoplatne uložený trest zákazu prijímať dotácie alebo subvencie. | G91: Zvoliť možnosť
B93: Vyhlasujem, že nemám právoplatne uložený trest zákazu prijímať pomoc a podporu poskytovanú z fondov EÚ. | G93: Zvoliť možnosť
B95: Potvrdzujem, že spoločnosť je zapísaná do regfistra partnerov verjného sektora. | G95: Zvoliť možnosť
B97: Som si vedomý právnych dôsledkov nepravdivého vyhlásenia o skutočnostiach uvedených v žiadosti podľa zákona č. 372/1990 Z. z. o priestupkoch v znení neskorších predpisov vrátane trestnoprávnych dôsledkov podľa zákona č. 300/2005 Z. z. Trestného zákona v znení neskorších predpisov. | G97: Zvoliť možnosť
B99: Som si vedomý, že v prípade preukázania nepravdivosti údajov uvedených v žiadosti som povinný kompenzáciu bezodkladne vrátiť poskytovateľovi. | G99: Zvoliť možnosť
B101: Súhlasím so spracovaním osobných údajov podľa Zákona č. 18/2018 Z. z. o ochrane osobných údajov a o zmene a doplnení niektorých zákonov. | G101: Zvoliť možnosť
...

Sheet Návod
A1: Návod na ročné zúčtovanie kompenzácie cien vybraných druhov taríf za odberateľov elektriny za rok 2024
B3: Oprávnený žiadateľ o ročné zúčtovanie 2024 je iba subjekt, ktorý v roku 2024 spĺňal všetky
B4: podmienky vyplývajúce z Nariadenia vlády Slovenskej republiky č. 472/2023 Z. z. (ďalej ako
B5: ,,nariadenie vlády") a príslušných usmernení k nariadeniu vlády.
B8: Do formulára o ročné zúčtovanie zadajte hodnoty:
B9: Hárok "Údaje o žiadateľovi"
A17: 01 | B17: Do jednotlivých buniek vyplňte údaje o Vašej spoločnosti
A20: 02 | B20: Do jednotlivých buniek vyplňte údaje o Vašej spoločnosti
B38: Do formulára o ročné zúčtovanie zadajte hodnoty:
B39: Hárok "Výsledok RZ 2024 Tarify"
A41: 01 | B41: Názov PMDS (lokality) žiadajúcej o ročné zúčtovanie za rok 2024
A47: 02 | B47: Hodnota prijatých kompenzácií za rok 2024
A54: 03 | B54: Údaj sa vyplní automaticky
A57: 04 | B57: Údaj sa vyplní automaticky
A60: 05 | B60: Údaj sa vyplní automaticky
B68: Do formulára o ročné zúčtovanie zadajte hodnoty:
B69: Hárok "Nátok z PRDS"
A71: 06 | B71: Názov PRDS (nadradenej sústavy)
A76: 07 | B76: Do jednotlivých buniek zadajte čísla rozhodnutí ÚRSO za rok
B77: 2022 a 2024 a hodnoty za rok 2022 a 2024
A81: 08 | B81: Hodnota nátoku z PRDS (nadradenej sústavy) za rok 2024
B82: podľa príslušnej napäťovej úrovne
A89: 09 | B89: EIC hraničné odber susedná sústava
B94: Do formulára o ročné zúčtovanie zadajte hodnoty:
B95: Hárok "Distribúcia KS v PMDS"
A97: 10 | B97: Názov PMDS (lokality) žiadajúcej o ročné zúčtovanie za rok 2024
A102: 11 | B102: Do jednotlivých buniek zadajte čísla rozhodnutí ÚRSO za rok
B103: 2022 a 2024 a hodnoty za rok 2022 a 2024
A107: 12 | B107: Hodnota distribuovaného množstva elektriny za rok 2024
B108: podľa príslušnej napäťovej úrovne
A114: 13 | B114: EIC hraničné odber susedná sústava
A118: *) | B118: Jednotlivé hárky/karty je potrebné podpísať, opečiatkovať, naskenovať do PDF formátu
B119: a následne zaslať s prílohou vo formáte MS excel na e-mailovú adresu poplatky.kompenzacia@mhsr.sk
B120: - hárok "Údaje o žiadateľovi"
B121: - hárok "Výsledok RZ 2024 Tarify"
B122: - hárok "Nátok PRDS"
B123: - hárok "Distribúcia KS v PMDS"

Sheet Údaje o žiadateľovi
B1: Žiadosť o ročné zúčtovanie kompenzíácií ročné zúčtovanie kompenzácií cien vybraných druhov taríf za odberateľov elektriny za rok 2024
A3: Údaje o žiadateľovi
B5: IČO | D5: DIČ | F5: IČ DPH (ak je žiadateľ platca DPH)
B8: Názov alebo obchodné meno
B11: Právna forma
B14: Adresa sídla/miesta podnikania
B15: Ulica | D15: Súpisné číslo | F15: Orientačné číslo
B18: PSČ | D18: Obec | F18: Okres
B21: Osoba s právom konať v mene žiadateľa
B22: Meno | D22: Priezvisko
B25: E-mailová adresa
B28: Bankové spojenie (IBAN)
A32: Údaje o konečnom užívateľovi výhod, ak výška kompenzácie presahuje 100 000 EUR
B33: Meno 1 | D33: Priezvisko 1
B36: Meno 2 | D36: Priezvisko 2
B39: Meno 3 | D39: Priezvisko 3
B42: Meno 4 | D42: Priezvisko 4
B45: Meno 5 | D45: Priezvisko 5
B48: Meno 6 | D48: Priezvisko 6
B51: Meno 7 | D51: Priezvisko 7
B54: Meno 8 | D54: Priezvisko 8
B57: Meno 9 | D57: Priezvisko 9
B60: Meno 10 | D60: Priezvisko 10
A63: Vyhlásenie žiadateľa o splnení podmienok
B65: Nie je voči mne vedené konkurzné konanie, nie som v konkurze, v reštrukturalizácii a nebol proti mne zamietnutý návrh na vyhlásenie konkurzu pre nedostatok majetku. | G65: Zvoliť možnosť
B66: Nemám právoplatne uložený trest zákazu prijímať dotácie alebo subvencie. | G66: Zvoliť možnosť
B67: Nemám právoplatne uložený trest zákazu prijímať pomoc a podporu poskytovanú z fondov Európskej únie. | G67: Zvoliť možnosť
B68: Vyhlasujem, že údaje uvedené v žiadosti, vrátane údajov pre výpočet kompenzácie, sú pravdivé, presné a úplné, a spĺňam podmienky oprávnenosti prijatia kompenzácie. | G68: Zvoliť možnosť
B69: Som si vedomý právnych dôsledkov nepravdivého vyhlásenia o skutočnostiach uvedených v žiadosti podľa zákona č. 372/1990 Z. z. o priestupkoch v znení neskorších predpisov vrátane trestnoprávnych dôsledkov podľa zákona č. 300/2005 Z. z. Trestného zákona v znení neskorších predpisov. | G69: Zvoliť možnosť
B70: Som si vedomý, že v prípade preukázania nepravdivosti údajov uvedených v žiadosti, som povinný kompenzáciu bezodkladne vrátiť poskytovateľovi. | G70: Zvoliť možnosť
B71: Vyjadrujem výslovný súhlas s verifikáciou údajov uvedených v žiadosti u príslušných subjektoch. | G71: Zvoliť možnosť
B72: Súhlasím so spracovaním osobných údajov podľa Zákona č. 18/2018 Z. z. o ochrane osobných údajov a o zmene a doplnení niektorých zákonov. | G72: Zvoliť možnosť
B73: Nie je voči mne vedený výkon rozhodnutia. | G73: Zvoliť možnosť
B74: Neporušil som v predchádzajúcich troch rokoch zákaz nelegálneho zamestnávania podľa osobitného predpisu. | G74: Zvoliť možnosť
B75: Mám vysporiadané finančné vzťahy so štátnym rozpočtom. | G75: Zvoliť možnosť
B76: Nemám evidované nedoplatky na poistnom na sociálne poistenie a zdravotná poisťovňa voči mne neeviduje pohľadávky po splatnosti podľa osobitných predpisov. | G76: Zvoliť možnosť
... B81: Som zapísaný v registri partnerov verejného sektora. | G81: Zvoliť možnosť
B83: =IF(AND(G76="ÁNO",G77="ÁNO",G78="ÁNO",G79="ÁNO",G80="ÁNO",G81="ÁNO",G65="ÁNO",G67="ÁNO",G72="ÁNO",G73="ÁNO",G74="ÁNO",G75="ÁNO"),"","NIE SÚ VYPLNENÉ VŠETKY ČESTNÉ PREHLÁSENIA") -> NIE SÚ VYPLNENÉ VŠETKY ČESTNÉ PREHLÁSENIA

Sheet Výsledok RZ 2024 Tarify 
A1: Príloha k žiadosti o ročné zúčtovanie kompenzácií cien vybraných druhov taríf za odberateľov elektriny za rok 2024
A2: Názov PMDS: | B2: xxxx
A4: Prijaté kompenzácie za rok 2024 | B4: obdobie 01-12/2024 | C4: obdobie 01-12/2024
B5: suma v eur bez DPH | C5: suma v eur s DPH
A6: január | B6: =C6/1.2 -> 0 | C6: 0
A7: február | B7: =C7/1.2 -> 0 | C7: 0
A8: marec | B8: =C8/1.2 -> 0 | C8: 0
A9: apríl | B9: =C9/1.2 -> 0 | C9: 0
A10: máj | B10: =C10/1.2 -> 0 | C10: 0
A11: jún | B11: =C11/1.2 -> 0 | C11: 0 | G11: prijaté kompenzácie za rok 2024
A12: júl | B12: =C12/1.2 -> 0 | C12: 0
A13: august | B13: =C13/1.2 -> 0 | C13: 0
A14: september | B14: =C14/1.2 -> 0 | C14: 0
A15: október | B15: =C15/1.2 -> 0 | C15: 0
A16: november | B16: =C16/1.2 -> 0 | C16: 0
A17: december | B17: =C17/1.2 -> 0 | C17: 0
A18: Spolu za rok 2024 | B18: =SUM(B6:B17) -> 0 | C18: =SUM(C6:C17) -> 0
A20: Nárok na kompenzáciu za rok 2024 | B20: suma v eur bez DPH | C20: suma v eur s DPH | G20: údaje z hárku Distribúcia KS v PMDS
A21: Spolu | B21: ='Distribúcia KS v PMDS'!H227 -> 0 | C21: ='Distribúcia KS v PMDS'!J227 -> 0
A23: Rozdiel vysporiadania ročného zúčtovania za rok 2024 | B23: suma v eur bez DPH | C23: suma v eur s DPH | G23: Výsledná hodnota ročného zúčtovania za 01-12/2024
A24: Spolu | B24: =IF(B21<0,B18,-1*(B18-B21)) -> 0 | C24: =IF(C21<0,C18,-1*(C18-C21)) -> 0
A26: Distribuované množstvo elektriny (podliehajúce kompenzácii) | B26: ='Distribúcia KS v PMDS'!H228 -> 0 | C26: [MWh]

Sheet Nátok z PRDS
A1: Príloha k žiadosti o ročné zúčtovanie kompenzácií cien vybraných druhov taríf za odberateľov elektriny za rok 2024 | J1: EIC hraničné odber susedná sústava | K1: Link URSO
A2: Mesiac: 01-12/2024 PRDS: | B2: Sadzba | C2: Tarifa | D2: m.j. 2 | E2: Množstvo | F2: Tarifa na rok 2022 podľa rozhodnutia ÚRSO č. XXXX/2022/E | G2: Tarifa na rok 2024 podľa rozhodnutia ÚRSO č. XXXX/2024/E | H2: Rozdiel 3 [3]-[2] | I2: Kompenzácia 4 [1]x[4]
E3: [m.j.] | F3: [€/m.j.] | G3: [€/m.j.] | H3: [€/m.j.] | I3: [€]
E4: [1] | F4: [2] | G4: [3] | H4: [4] | I4: [5]
A5: Odberatelia elektriny v domácnosti pripojení na napäťovú úroveň nízkeho napätia | B5: D1 | C5: prístup do distribučnej sústavy | H5: =+G5-F5 -> 0 | I5: =+ROUND(IF(H5>0,H5*E5,0),4) -> 0
C6: distribúcia elektriny | D6: MWh | H6: n.a. | I6: n.a.
C7: straty | H7: n.a. | I7: n.a.
C8: distribúcia elektriny + straty | F8: =+F6+F7 -> 0 | G8: =+G6+G7 -> 0 | H8: =+G8-F8 -> 0 | I8: =+ROUND(IF(H8>0,H8*E6,0),4) -> 0
A9: Odberatelia elektriny v domácnosti pripojení na napäťovú úroveň nízkeho napätia | B9: D2 | C9: prístup do distribučnej sústavy | H9: =+G9-F9 -> 0 | I9: =+ROUND(IF(H9>0,H9*E9,0),4) -> 0
C10: prístup do distribučnej sústavy (nevidiaci) | H10: =+G10-F10 -> 0 | I10: =+ROUND(IF(H10>0,H10*E10,0),4) -> 0
C11: distribúcia elektriny | D11: MWh | H11: n.a. | I11: n.a.
C12: straty | H12: n.a. | I12: n.a.
C13: distribúcia elektriny + straty | F13: =+F11+F12 -> 0 | G13: =+G11+G12 -> 0 | H13: =+G13-F13 -> 0 | I13: =+ROUND(IF(H13>0,H13*E11,0),4) -> 0
A14: Odberatelia elektriny v domácnosti pripojení na napäťovú úroveň nízkeho napätia | B14: D3 | C14: prístup do distribučnej sústavy | H14: =+G14-F14 -> 0 | I14: =+ROUND(IF(H14>0,H14*E14,0),4) -> 0
C15: distribúcia elektriny VT | D15: MWh | H15: n.a. | I15: n.a.
C16: straty | H16: n.a. | I16: n.a.
C17: distribúcia elektriny VT + straty | F17: =+F15+F16 -> 0 | G17: =+G15+G16 -> 0 | H17: =+G17-F17 -> 0 | I17: =+ROUND(IF(H17>0,H17*E15,0),4) -> 0
C18: distribúcia elektriny NT | D18: MWh | H18: n.a. | I18: n.a.
C19: straty | H19: n.a. | I19: n.a.
C20: distribúcia elektriny NT + straty | F20: =+F18+F19 -> 0 | G20: =+G18+G19 -> 0 | H20: =+G20-F20 -> 0 | I20: =+ROUND(IF(H20>0,H20*E18,0),4) -> 0
A21: Odberatelia elektriny v domácnosti pripojení na napäťovú úroveň nízkeho napätia | B21: D4 | C21: prístup do distribučnej sústavy | H21: =+G21-F21 -> 0 | I21: =+ROUND(IF(H21>0,H21*E21,0),4) -> 0
C22: prístup do distribučnej sústavy (nevidiaci) | H22: =+G22-F22 -> 0 | I22: =+ROUND(IF(H22>0,H22*E22,0),4) -> 0
C23: distribúcia elektriny VT | D23: MWh | H23: n.a. | I23: n.a.
C24: straty | H24: n.a. | I24: n.a.
C25: distribúcia elektriny VT + straty | F25: =+F23+F24 -> 0 | G25: =+G23+G24 -> 0 | H25: =+G25-F25 -> 0 | I25: =+ROUND(IF(H25>0,H25*E23,0),4) -> 0
C26: distribúcia elektriny NT | D26: MWh | H26: n.a. | I26: n.a.
C27: straty | H27: n.a. | I27: n.a.
C28: distribúcia elektriny NT + straty | F28: =+F26+F27 -> 0 | G28: =+G26+G27 -> 0 | H28: =+G28-F28 -> 0 | I28: =+ROUND(IF(H28>0,H28*E26,0),4) -> 0
A29: Odberatelia elektriny v domácnosti pripojení na napäťovú úroveň nízkeho napätia | B29: D5 | C29: prístup do distribučnej sústavy | H29: =+G29-F29 -> 0 | I29: =+ROUND(IF(H29>0,H29*E29,0),4) -> 0
C30: distribúcia elektriny VT | D30: MWh | H30: n.a. | I30: n.a.
C31: straty | H31: n.a. | I31: n.a.
C32: distribúcia elektriny VT + straty | F32: =+F30+F31 -> 0 | G32: =+G30+G31 -> 0 | H32: =+G32-F32 -> 0 | I32: =+ROUND(IF(H32>0,H32*E30,0),4) -> 0
C33: distribúcia elektriny NT | D33: MWh | H33: n.a. | I33: n.a.
C34: straty | H34: n.a. | I34: n.a.
C35: distribúcia elektriny NT + straty | F35: =+F33+F34 -> 0 | G35: =+G33+G34 -> 0 | H35: =+G35-F35 -> 0 | I35: =+ROUND(IF(H35>0,H35*E33,0),4) -> 0
A36: Odberatelia elektriny v domácnosti pripojení na napäťovú úroveň nízkeho napätia | B36: D6 | C36: prístup do distribučnej sústavy | H36: =+G36-F36 -> 0 | I36: =+ROUND(IF(H36>0,H36*E36,0),4) -> 0
C37: distribúcia elektriny VT | D37: MWh | H37: n.a. | I37: n.a.
C38: straty | H38: n.a. | I38: n.a.
C39: distribúcia elektriny VT + straty | F39: =+F37+F38 -> 0 | G39: =+G37+G38 -> 0 | H39: =+G39-F39 -> 0 | I39: =+ROUND(IF(H39>0,H39*E37,0),4) -> 0
C40: distribúcia elektriny NT | D40: MWh | H40: n.a. | I40: n.a.
...

Sheet Distribúcia KS v PMDS
A1: Príloha k žiadosti o ročné zúčtovanie kompenzácií cien vybraných druhov taríf za odberateľov elektriny za rok 2024 | J1: EIC hraničné odber susedná sústava | K1: Link URSO
A2: Mesiac: 01-12/2024 PMDS: | B2: Sadzba | C2: Tarifa | D2: m.j. 2 | E2: Množstvo | F2: Tarifa na rok 2022 podľa rozhodnutia ÚRSO č. XXXX/2022/E | G2: Tarifa na rok 2024 podľa rozhodnutia ÚRSO č. XXXX/2024/E | H2: Rozdiel 3 [3]-[2] | I2: Kompenzácia 4 [1]x[4]
E3: [m.j.] | F3: [€/m.j.] | G3: [€/m.j.] | H3: [€/m.j.] | I3: [€]
E4: [1] | F4: [2] | G4: [3] | H4: [4] | I4: [5]
A5: Odberatelia elektriny v domácnosti pripojení na napäťovú úroveň nízkeho napätia | B5: D1 | C5: prístup do distribučnej sústavy | H5: =+G5-F5 -> 0 | I5: =+ROUND(IF(H5>0,H5*E5,0),4) -> 0
C6: distribúcia elektriny | D6: MWh | H6: n.a. | I6: n.a.
C7: straty | H7: n.a. | I7: n.a.
C8: distribúcia elektriny + straty | F8: =+F6+F7 -> 0 | G8: =+G6+G7 -> 0 | H8: =+G8-F8 -> 0 | I8: =+ROUND(IF(H8>0,H8*E6,0),4) -> 0
A9: Odberatelia elektriny v domácnosti pripojení na napäťovú úroveň nízkeho napätia | B9: D2 | C9: prístup do distribučnej sústavy | H9: =+G9-F9 -> 0 | I9: =+ROUND(IF(H9>0,H9*E9,0),4) -> 0
C10: prístup do distribučnej sústavy (nevidiaci) | H10: =+G10-F10 -> 0 | I10: =+ROUND(IF(H10>0,H10*E10,0),4) -> 0
C11: distribúcia elektriny | D11: MWh | H11: n.a. | I11: n.a.
C12: straty | H12: n.a. | I12: n.a.
C13: distribúcia elektriny + straty | F13: =+F11+F12 -> 0 | G13: =+G11+G12 -> 0 | H13: =+G13-F13 -> 0 | I13: =+ROUND(IF(H13>0,H13*E11,0),4) -> 0
A14: Odberatelia elektriny v domácnosti pripojení na napäťovú úroveň nízkeho napätia | B14: D3 | C14: prístup do distribučnej sústavy | H14: =+G14-F14 -> 0 | I14: =+ROUND(IF(H14>0,H14*E14,0),4) -> 0
C15: distribúcia elektriny VT | D15: MWh | H15: n.a. | I15: n.a.
C16: straty | H16: n.a. | I16: n.a.
C17: distribúcia elektriny VT + straty | F17: =+F15+F16 -> 0 | G17: =+G15+G16 -> 0 | H17: =+G17-F17 -> 0 | I17: =+ROUND(IF(H17>0,H17*E15,0),4) -> 0
C18: distribúcia elektriny NT | D18: MWh | H18: n.a. | I18: n.a.
C19: straty | H19: n.a. | I19: n.a.
C20: distribúcia elektriny NT + straty | F20: =+F18+F19 -> 0 | G20: =+G18+G19 -> 0 | H20: =+G20-F20 -> 0 | I20: =+ROUND(IF(H20>0,H20*E18,0),4) -> 0
A21: Odberatelia elektriny v domácnosti pripojení na napäťovú úroveň nízkeho napätia | B21: D4 | C21: prístup do distribučnej sústavy | H21: =+G21-F21 -> 0 | I21: =+ROUND(IF(H21>0,H21*E21,0),4) -> 0
C22: prístup do distribučnej sústavy (nevidiaci) | H22: =+G22-F22 -> 0 | I22: =+ROUND(IF(H22>0,H22*E22,0),4) -> 0
C23: distribúcia elektriny VT | D23: MWh | H23: n.a. | I23: n.a.
C24: straty | H24: n.a. | I24: n.a.
C25: distribúcia elektriny VT + straty | F25: =+F23+F24 -> 0 | G25: =+G23+G24 -> 0 | H25: =+G25-F25 -> 0 | I25: =+ROUND(IF(H25>0,H25*E23,0),4) -> 0
C26: distribúcia elektriny NT | D26: MWh | H26: n.a. | I26: n.a.
C27: straty | H27: n.a. | I27: n.a.
C28: distribúcia elektriny NT + straty | F28: =+F26+F27 -> 0 | G28: =+G26+G27 -> 0 | H28: =+G28-F28 -> 0 | I28: =+ROUND(IF(H28>0,H28*E26,0),4) -> 0
A29: Odberatelia elektriny v domácnosti pripojení na napäťovú úroveň nízkeho napätia | B29: D5 | C29: prístup do distribučnej sústavy | H29: =+G29-F29 -> 0 | I29: =+ROUND(IF(H29>0,H29*E29,0),4) -> 0
C30: distribúcia elektriny VT | D30: MWh | H30: n.a. | I30: n.a.
C31: straty | H31: n.a. | I31: n.a.
C32: distribúcia elektriny VT + straty | F32: =+F30+F31 -> 0 | G32: =+G30+G31 -> 0 | H32: =+G32-F32 -> 0 | I32: =+ROUND(IF(H32>0,H32*E30,0),4) -> 0
C33: distribúcia elektriny NT | D33: MWh | H33: n.a. | I33: n.a.
C34: straty | H34: n.a. | I34: n.a.
C35: distribúcia elektriny NT + straty | F35: =+F33+F34 -> 0 | G35: =+G33+G34 -> 0 | H35: =+G35-F35 -> 0 | I35: =+ROUND(IF(H35>0,H35*E33,0),4) -> 0
A36: Odberatelia elektriny v domácnosti pripojení na napäťovú úroveň nízkeho napätia | B36: D6 | C36: prístup do distribučnej sústavy | H36: =+G36-F36 -> 0 | I36: =+ROUND(IF(H36>0,H36*E36,0),4) -> 0
C37: distribúcia elektriny VT | D37: MWh | H37: n.a. | I37: n.a.
C38: straty | H38: n.a. | I38: n.a.
C39: distribúcia elektriny VT + straty | F39: =+F37+F38 -> 0 | G39: =+G37+G38 -> 0 | H39: =+G39-F39 -> 0 | I39: =+ROUND(IF(H39>0,H39*E37,0),4) -> 0
C40: distribúcia elektriny NT | D40: MWh | H40: n.a. | I40: n.a.
...

Sheet ZSD
A1: Príloha k žiadosti o ročné zúčtovanie kompenzácií vybraných druhov taríf pre odberateľov elektriny v domácnosti a pre ostatných koncových odberateľov elektriny za rok 2024 | K1: Skryt | L1: Rozdiel nadradena formular vs uvedena v natoku
A2: Mesiac: 01-12/2024 PRDS: ZSD, a.s. | B2: Sadzba | C2: Tarifa | D2: m.j. 2 | E2: Množstvo | F2: Tarifa na rok 2022 podľa rozhodnutia ÚRSO č. XXXX | G2: Tarifa na rok 2024 podľa rozhodnutia ÚRSO č. XXXX | H2: rozdiel ziadost | I2: rozdiel v eur
E3: [m.j.] | F3: [€/m.j.] | G3: [€/m.j.] | H3: [€/m.j.] | I3: [€]
E4: [1] | F4: [2] | G4: [3] | H4: [4] | I4: [5]
A5: Odberatelia elektriny v domácnosti pripojení na napäťovú úroveň nízkeho napätia | B5: D1 | C5: prístup do distribučnej sústavy | D5: OM | F5: 1.3206 | G5: 1.4527 | H5: =+G5-F5 -> 0.1321 | I5: =+ROUND(IF(H5>0,H5*E5,0),4) -> 0 | L5: =IFERROR(H5-'Nátok z PRDS'!H5,"N/A") -> 0.1321 | M5: =IFERROR(H5-'Distribúcia KS v PMDS'!H5,0) -> 0.1321
C6: distribúcia elektriny | D6: MWh | F6: 38.904 | G6: 40.426 | H6: n.a. | I6: n.a. | L6: =IFERROR(H6-'Nátok z PRDS'!H6,"N/A") -> N/A | M6: =IFERROR(H6-'Distribúcia KS v PMDS'!H6,0) -> 0
C7: straty | F7: 11.466 | G7: 16.826 | H7: n.a. | I7: n.a. | L7: =IFERROR(H7-'Nátok z PRDS'!H7,"N/A") -> N/A | M7: =IFERROR(H7-'Distribúcia KS v PMDS'!H7,0) -> 0
C8: distribúcia elektriny + straty | F8: =+F6+F7 -> 50.37 | G8: =+G6+G7 -> 57.252 | H8: =+G8-F8 -> 6.882 | I8: =+ROUND(IF(H8>0,H8*E6,0),4) -> 0 | L8: =IFERROR(H8-'Nátok z PRDS'!H8,"N/A") -> 6.882 | M8: =IFERROR(H8-'Distribúcia KS v PMDS'!H8,0) -> 6.882
A9: Odberatelia elektriny v domácnosti pripojení na napäťovú úroveň nízkeho napätia | B9: D2 | C9: prístup do distribučnej sústavy | D9: OM | F9: 4.5807 | G9: 5.0387 | H9: =+G9-F9 -> 0.458 | I9: =+ROUND(IF(H9>0,H9*E9,0),4) -> 0 | L9: =IFERROR(H9-'Nátok z PRDS'!H9,"N/A") -> 0.458 | M9: =IFERROR(H9-'Distribúcia KS v PMDS'!H9,0) -> 0.458
C10: prístup do distribučnej sústavy (nevidiaci) | H10: =+G10-F10 -> 0 | I10: =+ROUND(IF(H10>0,H10*E10,0),4) -> 0 | L10: =IFERROR(H10-'Nátok z PRDS'!H10,"N/A") -> 0 | M10: =IFERROR(H10-'Distribúcia KS v PMDS'!H10,0) -> 0
C11: distribúcia elektriny | D11: MWh | F11: 13.005 | G11: 13.044 | H11: n.a. | I11: n.a. | L11: =IFERROR(H11-'Nátok z PRDS'!H11,"N/A") -> N/A | M11: =IFERROR(H11-'Distribúcia KS v PMDS'!H11,0) -> 0
C12: straty | F12: 11.466 | G12: 16.826 | H12: n.a. | I12: n.a. | L12: =IFERROR(H12-'Nátok z PRDS'!H12,"N/A") -> N/A | M12: =IFERROR(H12-'Distribúcia KS v PMDS'!H12,0) -> 0
C13: distribúcia elektriny + straty | F13: =+F11+F12 -> 24.471 | G13: =+G11+G12 -> 29.87 | H13: =+G13-F13 -> 5.399 | I13: =+ROUND(IF(H13>0,H13*E11,0),4) -> 0 | L13: =IFERROR(H13-'Nátok z PRDS'!H13,"N/A") -> 5.399 | M13: =IFERROR(H13-'Distribúcia KS v PMDS'!H13,0) -> 5.399
A14: Odberatelia elektriny v domácnosti pripojení na napäťovú úroveň nízkeho napätia | B14: D3 | C14: prístup do distribučnej sústavy | D14: OM | F14: 7.2595 | G14: 7.9854 | H14: =+G14-F14 -> 0.7259 | I14: =+ROUND(IF(H14>0,H14*E14,0),4) -> 0 | L14: =IFERROR(H14-'Nátok z PRDS'!H14,"N/A") -> 0.7259 | M14: =IFERROR(H14-'Distribúcia KS v PMDS'!H14,0) -> 0.7259
C15: distribúcia elektriny VT | D15: MWh | E15: 0 | F15: 13.005 | G15: 13.044 | H15: n.a. | I15: n.a. | L15: =IFERROR(H15-'Nátok z PRDS'!H15,"N/A") -> N/A | M15: =IFERROR(H15-'Distribúcia KS v PMDS'!H15,0) -> 0
C16: straty | F16: 11.466 | G16: 16.826 | H16: n.a. | I16: n.a. | L16: =IFERROR(H16-'Nátok z PRDS'!H16,"N/A") -> N/A | M16: =IFERROR(H16-'Distribúcia KS v PMDS'!H16,0) -> 0
C17: distribúcia elektriny VT + straty | F17: =+F15+F16 -> 24.471 | G17: =+G15+G16 -> 29.87 | H17: =+G17-F17 -> 5.399 | I17: =+ROUND(IF(H17>0,H17*E15,0),4) -> 0 | L17: =IFERROR(H17-'Nátok z PRDS'!H17,"N/A") -> 5.399 | M17: =IFERROR(H17-'Distribúcia KS v PMDS'!H17,0) -> 5.399
C18: distribúcia elektriny NT | D18: MWh | E18: 0 | H18: n.a. | I18: n.a. | L18: =IFERROR(H18-'Nátok z PRDS'!H18,"N/A") -> N/A | M18: =IFERROR(H18-'Distribúcia KS v PMDS'!H18,0) -> 0
C19: straty | H19: n.a. | I19: n.a. | L19: =IFERROR(H19-'Nátok z PRDS'!H19,"N/A") -> N/A | M19: =IFERROR(H19-'Distribúcia KS v PMDS'!H19,0) -> 0
C20: distribúcia elektriny NT + straty | F20: =+F18+F19 -> 0 | G20: =+G18+G19 -> 0 | H20: =+G20-F20 -> 0 | I20: =+ROUND(IF(H20>0,H20*E18,0),4) -> 0 | L20: =IFERROR(H20-'Nátok z PRDS'!H20,"N/A") -> 0 | M20: =IFERROR(H20-'Distribúcia KS v PMDS'!H20,0) -> 0
A21: Odberatelia elektriny v domácnosti pripojení na napäťovú úroveň nízkeho napätia | B21: D4 | C21: prístup do distribučnej sústavy | D21: A | F21: 0.1508 | G21: 0.1961 | H21: =+G21-F21 -> 0.0453 | I21: =+ROUND(IF(H21>0,H21*E21,0),4) -> 0 | L21: =IFERROR(H21-'Nátok z PRDS'!H21,"N/A") -> 0.0453 | M21: =IFERROR(H21-'Distribúcia KS v PMDS'!H21,0) -> 0.0453
C22: prístup do distribučnej sústavy (nevidiaci) | H22: =+G22-F22 -> 0 | I22: =+ROUND(IF(H22>0,H22*E22,0),4) -> 0 | L22: =IFERROR(H22-'Nátok z PRDS'!H22,"N/A") -> 0 | M22: =IFERROR(H22-'Distribúcia KS v PMDS'!H22,0) -> 0
C23: distribúcia elektriny VT | D23: MWh | E23: 0 | F23: 3.984 | G23: 3.507 | H23: n.a. | I23: n.a. | L23: =IFERROR(H23-'Nátok z PRDS'!H23,"N/A") -> N/A | M23: =IFERROR(H23-'Distribúcia KS v PMDS'!H23,0) -> 0
C24: straty | F24: 11.466 | G24: 16.826 | H24: n.a. | I24: n.a. | L24: =IFERROR(H24-'Nátok z PRDS'!H24,"N/A") -> N/A | M24: =IFERROR(H24-'Distribúcia KS v PMDS'!H24,0) -> 0
C25: distribúcia elektriny VT + straty | F25: =+F23+F24 -> 15.45 | G25: =+G23+G24 -> 20.333 | H25: =+G25-F25 -> 4.883 | I25: =+ROUND(IF(H25>0,H25*E23,0),4) -> 0 | L25: =IFERROR(H25-'Nátok z PRDS'!H25,"N/A") -> 4.883 | M25: =IFERROR(H25-'Distribúcia KS v PMDS'!H25,0) -> 4.883
C26: distribúcia elektriny NT | D26: MWh | E26: 0 | H26: n.a. | I26: n.a. | L26: =IFERROR(H26-'Nátok z PRDS'!H26,"N/A") -> N/A | M26: =IFERROR(H26-'Distribúcia KS v PMDS'!H26,0) -> 0
C27: straty | H27: n.a. | I27: n.a. | L27: =IFERROR(H27-'Nátok z PRDS'!H27,"N/A") -> N/A | M27: =IFERROR(H27-'Distribúcia KS v PMDS'!H27,0) -> 0
C28: distribúcia elektriny NT + straty | F28: =+F26+F27 -> 0 | G28: =+G26+G27 -> 0 | H28: =+G28-F28 -> 0 | I28: =+ROUND(IF(H28>0,H28*E26,0),4) -> 0 | L28: =IFERROR(H28-'Nátok z PRDS'!H28,"N/A") -> 0 | M28: =IFERROR(H28-'Distribúcia KS v PMDS'!H28,0) -> 0
A29: Odberatelia elektriny v domácnosti pripojení na napäťovú úroveň nízkeho napätia | B29: D5 | C29: prístup do distribučnej sústavy | D29: A | F29: 0.1508 | G29: 0.1961 | H29: =+G29-F29 -> 0.0453 | I29: =+ROUND(IF(H29>0,H29*E29,0),4) -> 0 | L29: =IFERROR(H29-'Nátok z PRDS'!H29,"N/A") -> 0.0453 | M29: =IFERROR(H29-'Distribúcia KS v PMDS'!H29,0) -> 0.0453
C30: distribúcia elektriny VT | D30: MWh | E30: 0 | F30: 3.984 | G30: 3.507 | H30: n.a. | I30: n.a. | L30: =IFERROR(H30-'Nátok z PRDS'!H30,"N/A") -> N/A | M30: =IFERROR(H30-'Distribúcia KS v PMDS'!H30,0) -> 0
C31: straty | F31: 11.466 | G31: 16.826 | H31: n.a. | I31: n.a. | L31: =IFERROR(H31-'Nátok z PRDS'!H31,"N/A") -> N/A | M31: =IFERROR(H31-'Distribúcia KS v PMDS'!H31,0) -> 0
C32: distribúcia elektriny VT + straty | F32: =+F30+F31 -> 15.45 | G32: =+G30+G31 -> 20.333 | H32: =+G32-F32 -> 4.883 | I32: =+ROUND(IF(H32>0,H32*E30,0),4) -> 0 | L32: =IFERROR(H32-'Nátok z PRDS'!H32,"N/A") -> 4.883 | M32: =IFERROR(H32-'Distribúcia KS v PMDS'!H32,0) -> 4.883
C33: distribúcia elektriny NT | D33: MWh | E33: 0 | H33: n.a. | I33: n.a. | L33: =IFERROR(H33-'Nátok z PRDS'!H33,"N/A") -> N/A | M33: =IFERROR(H33-'Distribúcia KS v PMDS'!H33,0) -> 0
C34: straty | H34: n.a. | I34: n.a. | L34: =IFERROR(H34-'Nátok z PRDS'!H34,"N/A") -> N/A | M34: =IFERROR(H34-'Distribúcia KS v PMDS'!H34,0) -> 0
C35: distribúcia elektriny NT + straty | F35: =+F33+F34 -> 0 | G35: =+G33+G34 -> 0 | H35: =+G35-F35 -> 0 | I35: =+ROUND(IF(H35>0,H35*E33,0),4) -> 0 | L35: =IFERROR(H35-'Nátok z PRDS'!H35,"N/A") -> 0 | M35: =IFERROR(H35-'Distribúcia KS v PMDS'!H35,0) -> 0
A36: Odberatelia elektriny v domácnosti pripojení na napäťovú úroveň nízkeho napätia | B36: D6 | C36: prístup do distribučnej sústavy | H36: =+G36-F36 -> 0 | I36: =+ROUND(IF(H36>0,H36*E36,0),4) -> 0 | L36: =IFERROR(H36-'Nátok z PRDS'!H36,"N/A") -> 0 | M36: =IFERROR(H36-'Distribúcia KS v PMDS'!H36,0) -> 0
C37: distribúcia elektriny VT | D37: MWh | E37: 0 | H37: n.a. | I37: n.a. | L37: =IFERROR(H37-'Nátok z PRDS'!H37,"N/A") -> N/A | M37: =IFERROR(H37-'Distribúcia KS v PMDS'!H37,0) -> 0
C38: straty | H38: n.a. | I38: n.a. | L38: =IFERROR(H38-'Nátok z PRDS'!H38,"N/A") -> N/A | M38: =IFERROR(H38-'Distribúcia KS v PMDS'!H38,0) -> 0
C39: distribúcia elektriny VT + straty | F39: =+F37+F38 -> 0 | G39: =+G37+G38 -> 0 | H39: =+G39-F39 -> 0 | I39: =+ROUND(IF(H39>0,H39*E37,0),4) -> 0 | L39: =IFERROR(H39-'Nátok z PRDS'!H39,"N/A") -> 0 | M39: =IFERROR(H39-'Distribúcia KS v PMDS'!H39,0) -> 0
C40: distribúcia elektriny NT | D40: MWh | E40: 0 | H40: n.a. | I40: n.a. | L40: =IFERROR(H40-'Nátok z PRDS'!H40,"N/A") -> N/A | M40: =IFERROR(H40-'Distribúcia KS v PMDS'!H40,0) -> 0
...

Sheet SSD
A1: Príloha k žiadosti o ročné zúčtovanie kompenzácií vybraných druhov taríf pre odberateľov elektriny v domácnosti a pre ostatných koncových odberateľov elektriny za rok 2024 | K1: Skryt | L1: Rozdiel nadradena formular vs uvedena v natoku
A2: Mesiac: 01-12/2024 PRDS: SSD, a.s. | B2: Sadzba | C2: Tarifa | D2: m.j. 2 | E2: Množstvo | F2: Tarifa na rok 2022 podľa rozhodnutia ÚRSO č. XXXX | G2: Tarifa na rok 2024 podľa rozhodnutia ÚRSO č. XXXX | H2: rozdiel ziadost | I2: rozdiel v eur
E3: [m.j.] | F3: [€/m.j.] | G3: [€/m.j.] | H3: [€/m.j.] | I3: [€]
E4: [1] | F4: [2] | G4: [3] | H4: [4] | I4: [5]
A5: Odberatelia elektriny v domácnosti pripojení na napäťovú úroveň nízkeho napätia | B5: D1 | C5: prístup do distribučnej sústavy | D5: OM | F5: 1.12 | G5: 1.15 | H5: =+G5-F5 -> 0.03 | I5: =+ROUND(IF(H5>0,H5*E5,0),4) -> 0 | L5: =IFERROR(H5-'Nátok z PRDS'!H5,"N/A") -> 0.03
C6: distribúcia elektriny | D6: MWh | F6: 51.05 | G6: 42.37 | H6: n.a. | I6: n.a. | L6: =IFERROR(H6-'Nátok z PRDS'!H6,"N/A") -> N/A
C7: straty | F7: 10.915 | G7: 19.911 | H7: n.a. | I7: n.a. | L7: =IFERROR(H7-'Nátok z PRDS'!H7,"N/A") -> N/A
C8: distribúcia elektriny + straty | F8: =+F6+F7 -> 61.965 | G8: =+G6+G7 -> 62.281 | H8: =+G8-F8 -> 0.316 | I8: =+ROUND(IF(H8>0,H8*E6,0),4) -> 0 | L8: =IFERROR(H8-'Nátok z PRDS'!H8,"N/A") -> 0.316
A9: Odberatelia elektriny v domácnosti pripojení na napäťovú úroveň nízkeho napätia | B9: D2 | C9: prístup do distribučnej sústavy | D9: OM | F9: 6.31 | G9: 6.49 | H9: =+G9-F9 -> 0.18 | I9: =+ROUND(IF(H9>0,H9*E9,0),4) -> 0 | L9: =IFERROR(H9-'Nátok z PRDS'!H9,"N/A") -> 0.18
C10: prístup do distribučnej sústavy (nevidiaci) | D10: OM | H10: =+G10-F10 -> 0 | I10: =+ROUND(IF(H10>0,H10*E10,0),4) -> 0 | L10: =IFERROR(H10-'Nátok z PRDS'!H10,"N/A") -> 0
C11: distribúcia elektriny | D11: MWh | F11: 13.24 | G11: 10.74 | H11: n.a. | I11: n.a. | L11: =IFERROR(H11-'Nátok z PRDS'!H11,"N/A") -> N/A
C12: straty | F12: 10.915 | G12: 19.911 | H12: n.a. | I12: n.a. | L12: =IFERROR(H12-'Nátok z PRDS'!H12,"N/A") -> N/A
C13: distribúcia elektriny + straty | F13: =+F11+F12 -> 24.155 | G13: =+G11+G12 -> 30.651 | H13: =+G13-F13 -> 6.496 | I13: =+ROUND(IF(H13>0,H13*E11,0),4) -> 0 | L13: =IFERROR(H13-'Nátok z PRDS'!H13,"N/A") -> 6.496
A14: Odberatelia elektriny v domácnosti pripojení na napäťovú úroveň nízkeho napätia | B14: D3 | C14: prístup do distribučnej sústavy | D14: OM | F14: 10.87 | G14: 11.19 | H14: =+G14-F14 -> 0.32 | I14: =+ROUND(IF(H14>0,H14*E14,0),4) -> 0 | L14: =IFERROR(H14-'Nátok z PRDS'!H14,"N/A") -> 0.32
C15: distribúcia elektriny VT | D15: MWh | F15: 4.32 | G15: 3.5 | H15: n.a. | I15: n.a. | L15: =IFERROR(H15-'Nátok z PRDS'!H15,"N/A") -> N/A
C16: straty | F16: 10.915 | G16: 19.911 | H16: n.a. | I16: n.a. | L16: =IFERROR(H16-'Nátok z PRDS'!H16,"N/A") -> N/A
C17: distribúcia elektriny VT + straty | F17: =+F15+F16 -> 15.235 | G17: =+G15+G16 -> 23.411 | H17: =+G17-F17 -> 8.176 | I17: =+ROUND(IF(H17>0,H17*E15,0),4) -> 0 | L17: =IFERROR(H17-'Nátok z PRDS'!H17,"N/A") -> 8.176
C18: distribúcia elektriny NT | D18: MWh | F18: 0.65 | G18: 0.53 | H18: n.a. | I18: n.a. | L18: =IFERROR(H18-'Nátok z PRDS'!H18,"N/A") -> N/A
C19: straty | F19: 10.915 | G19: 19.911 | H19: n.a. | I19: n.a. | L19: =IFERROR(H19-'Nátok z PRDS'!H19,"N/A") -> N/A
C20: distribúcia elektriny NT + straty | F20: =+F18+F19 -> 11.565 | G20: =+G18+G19 -> 20.441 | H20: =+G20-F20 -> 8.876 | I20: =+ROUND(IF(H20>0,H20*E18,0),4) -> 0 | L20: =IFERROR(H20-'Nátok z PRDS'!H20,"N/A") -> 8.876
A21: Odberatelia elektriny v domácnosti pripojení na napäťovú úroveň nízkeho napätia | B21: D4 | C21: prístup do distribučnej sústavy | D21: OM | F21: 6.65 | G21: 6.84 | H21: =+G21-F21 -> 0.19 | I21: =+ROUND(IF(H21>0,H21*E21,0),4) -> 0 | L21: =IFERROR(H21-'Nátok z PRDS'!H21,"N/A") -> 0.19
C22: prístup do distribučnej sústavy (nevidiaci) | D22: OM | H22: =+G22-F22 -> 0 | I22: =+ROUND(IF(H22>0,H22*E22,0),4) -> 0 | L22: =IFERROR(H22-'Nátok z PRDS'!H22,"N/A") -> 0
C23: distribúcia elektriny VT | D23: MWh | F23: 24.78 | G23: 20.1 | H23: n.a. | I23: n.a. | L23: =IFERROR(H23-'Nátok z PRDS'!H23,"N/A") -> N/A
C24: straty | F24: 10.915 | G24: 19.911 | H24: n.a. | I24: n.a. | L24: =IFERROR(H24-'Nátok z PRDS'!H24,"N/A") -> N/A
C25: distribúcia elektriny VT + straty | F25: =+F23+F24 -> 35.695 | G25: =+G23+G24 -> 40.011 | H25: =+G25-F25 -> 4.316 | I25: =+ROUND(IF(H25>0,H25*E23,0),4) -> 0 | L25: =IFERROR(H25-'Nátok z PRDS'!H25,"N/A") -> 4.316
C26: distribúcia elektriny NT | D26: MWh | F26: 6.03 | G26: 4.89 | H26: n.a. | I26: n.a. | L26: =IFERROR(H26-'Nátok z PRDS'!H26,"N/A") -> N/A
C27: straty | F27: 10.915 | G27: 19.911 | H27: n.a. | I27: n.a. | L27: =IFERROR(H27-'Nátok z PRDS'!H27,"N/A") -> N/A
C28: distribúcia elektriny NT + straty | F28: =+F26+F27 -> 16.945 | G28: =+G26+G27 -> 24.801 | H28: =+G28-F28 -> 7.856 | I28: =+ROUND(IF(H28>0,H28*E26,0),4) -> 0 | L28: =IFERROR(H28-'Nátok z PRDS'!H28,"N/A") -> 7.856
A29: Odberatelia elektriny v domácnosti pripojení na napäťovú úroveň nízkeho napätia | B29: D5 | C29: prístup do distribučnej sústavy | D29: OM | F29: 10.3 | G29: 10.6 | H29: =+G29-F29 -> 0.3 | I29: =+ROUND(IF(H29>0,H29*E29,0),4) -> 0 | L29: =IFERROR(H29-'Nátok z PRDS'!H29,"N/A") -> 0.3
C30: distribúcia elektriny VT | D30: MWh | F30: 0.65 | G30: 0.53 | H30: n.a. | I30: n.a. | L30: =IFERROR(H30-'Nátok z PRDS'!H30,"N/A") -> N/A
C31: straty | F31: 10.915 | G31: 19.911 | H31: n.a. | I31: n.a. | L31: =IFERROR(H31-'Nátok z PRDS'!H31,"N/A") -> N/A
C32: distribúcia elektriny VT + straty | F32: =+F30+F31 -> 11.565 | G32: =+G30+G31 -> 20.441 | H32: =+G32-F32 -> 8.876 | I32: =+ROUND(IF(H32>0,H32*E30,0),4) -> 0 | L32: =IFERROR(H32-'Nátok z PRDS'!H32,"N/A") -> 8.876
C33: distribúcia elektriny NT | D33: MWh | F33: 0.65 | G33: 0.53 | H33: n.a. | I33: n.a. | L33: =IFERROR(H33-'Nátok z PRDS'!H33,"N/A") -> N/A
C34: straty | F34: 10.915 | G34: 19.911 | H34: n.a. | I34: n.a. | L34: =IFERROR(H34-'Nátok z PRDS'!H34,"N/A") -> N/A
C35: distribúcia elektriny NT + straty | F35: =+F33+F34 -> 11.565 | G35: =+G33+G34 -> 20.441 | H35: =+G35-F35 -> 8.876 | I35: =+ROUND(IF(H35>0,H35*E33,0),4) -> 0 | L35: =IFERROR(H35-'Nátok z PRDS'!H35,"N/A") -> 8.876
A36: Odberatelia elektriny v domácnosti pripojení na napäťovú úroveň nízkeho napätia | B36: D6 | C36: prístup do distribučnej sústavy | D36: OM | F36: 10.3 | G36: 10.6 | H36: =+G36-F36 -> 0.3 | I36: =+ROUND(IF(H36>0,H36*E36,0),4) -> 0 | L36: =IFERROR(H36-'Nátok z PRDS'!H36,"N/A") -> 0.3
C37: distribúcia elektriny VT | D37: MWh | F37: 0.65 | G37: 0.53 | H37: n.a. | I37: n.a. | L37: =IFERROR(H37-'Nátok z PRDS'!H37,"N/A") -> N/A
C38: straty | F38: 10.915 | G38: 19.911 | H38: n.a. | I38: n.a. | L38: =IFERROR(H38-'Nátok z PRDS'!H38,"N/A") -> N/A
C39: distribúcia elektriny VT + straty | F39: =+F37+F38 -> 11.565 | G39: =+G37+G38 -> 20.441 | H39: =+G39-F39 -> 8.876 | I39: =+ROUND(IF(H39>0,H39*E37,0),4) -> 0 | L39: =IFERROR(H39-'Nátok z PRDS'!H39,"N/A") -> 8.876
C40: distribúcia elektriny NT | D40: MWh | F40: 0.65 | G40: 0.53 | H40: n.a. | I40: n.a. | L40: =IFERROR(H40-'Nátok z PRDS'!H40,"N/A") -> N/A
...

Sheet VSD
A1: Príloha k žiadosti o ročné zúčtovanie kompenzácií vybraných druhov taríf pre odberateľov elektriny v domácnosti a pre ostatných koncových odberateľov elektriny za rok 2024 | K1: Skryt | L1: Rozdiel nadradena formular vs uvedena v natoku
A2: Mesiac: 01-12/2024 PRDS: VSD, a.s. | B2: Sadzba | C2: Tarifa | D2: m.j. 2 | E2: Množstvo | F2: Tarifa na rok 2022 podľa rozhodnutia ÚRSO č. XXXX | G2: Tarifa na rok 2024 podľa rozhodnutia ÚRSO č. XXXX | H2: rozdiel ziadost | I2: rozdiel v eur
E3: [m.j.] | F3: [€/m.j.] | G3: [€/m.j.] | H3: [€/m.j.] | I3: [€]
E4: [1] | F4: [2] | G4: [3] | H4: [4] | I4: [5]
A5: Odberatelia elektriny v domácnosti pripojení na napäťovú úroveň nízkeho napätia | B5: D1 | C5: prístup do distribučnej sústavy | F5: 1.3 | G5: 1.59 | H5: =+G5-F5 -> 0.29 | I5: =+ROUND(IF(H5>0,H5*E5,0),4) -> 0 | L5: =IFERROR(H5-'Nátok z PRDS'!H5,"N/A") -> 0.29
C6: distribúcia elektriny | D6: MWh | F6: 47 | G6: 51.8 | H6: n.a. | I6: n.a. | L6: =IFERROR(H6-'Nátok z PRDS'!H6,"N/A") -> N/A
C7: straty | F7: 12.413 | G7: 16.244 | H7: n.a. | I7: n.a. | L7: =IFERROR(H7-'Nátok z PRDS'!H7,"N/A") -> N/A
C8: distribúcia elektriny + straty | F8: =+F6+F7 -> 59.413 | G8: =+G6+G7 -> 68.044 | H8: =+G8-F8 -> 8.631 | I8: =+ROUND(IF(H8>0,H8*E6,0),4) -> 0 | L8: =IFERROR(H8-'Nátok z PRDS'!H8,"N/A") -> 8.631
A9: Odberatelia elektriny v domácnosti pripojení na napäťovú úroveň nízkeho napätia | B9: D2 | C9: prístup do distribučnej sústavy | F9: 4.8211 | G9: 5.4189 | H9: =+G9-F9 -> 0.5978 | I9: =+ROUND(IF(H9>0,H9*E9,0),4) -> 0 | L9: =IFERROR(H9-'Nátok z PRDS'!H9,"N/A") -> 0.5978
C10: prístup do distribučnej sústavy (nevidiaci) | F10: 2.0986 | G10: 2.7095 | H10: =+G10-F10 -> 0.6109 | I10: =+ROUND(IF(H10>0,H10*E10,0),4) -> 0 | L10: =IFERROR(H10-'Nátok z PRDS'!H10,"N/A") -> 0.6109
C11: distribúcia elektriny | D11: MWh | F11: 19.7 | G11: 21.6 | H11: n.a. | I11: n.a. | L11: =IFERROR(H11-'Nátok z PRDS'!H11,"N/A") -> N/A
C12: straty | F12: 12.413 | G12: 16.244 | H12: n.a. | I12: n.a. | L12: =IFERROR(H12-'Nátok z PRDS'!H12,"N/A") -> N/A
C13: distribúcia elektriny + straty | F13: =+F11+F12 -> 32.113 | G13: =+G11+G12 -> 37.844 | H13: =+G13-F13 -> 5.731 | I13: =+ROUND(IF(H13>0,H13*E11,0),4) -> 0 | L13: =IFERROR(H13-'Nátok z PRDS'!H13,"N/A") -> 5.731
A14: Odberatelia elektriny v domácnosti pripojení na napäťovú úroveň nízkeho napätia | B14: D3 | C14: prístup do distribučnej sústavy | F14: 0.2954 | G14: 0.3486 | H14: =+G14-F14 -> 0.0532 | I14: =+ROUND(IF(H14>0,H14*E14,0),4) -> 0 | L14: =IFERROR(H14-'Nátok z PRDS'!H14,"N/A") -> 0.0532
C15: distribúcia elektriny VT | D15: MWh | E15: 0 | F15: 5.2 | G15: 5.1 | H15: n.a. | I15: n.a. | L15: =IFERROR(H15-'Nátok z PRDS'!H15,"N/A") -> N/A
C16: straty | F16: 12.413 | G16: 16.244 | H16: n.a. | I16: n.a. | L16: =IFERROR(H16-'Nátok z PRDS'!H16,"N/A") -> N/A
C17: distribúcia elektriny VT + straty | F17: =+F15+F16 -> 17.613 | G17: =+G15+G16 -> 21.344 | H17: =+G17-F17 -> 3.731 | I17: =+ROUND(IF(H17>0,H17*E15,0),4) -> 0 | L17: =IFERROR(H17-'Nátok z PRDS'!H17,"N/A") -> 3.731
C18: distribúcia elektriny NT | D18: MWh | E18: 0 | H18: n.a. | I18: n.a. | L18: =IFERROR(H18-'Nátok z PRDS'!H18,"N/A") -> N/A
C19: straty | H19: n.a. | I19: n.a. | L19: =IFERROR(H19-'Nátok z PRDS'!H19,"N/A") -> N/A
C20: distribúcia elektriny NT + straty | F20: =+F18+F19 -> 0 | G20: =+G18+G19 -> 0 | H20: =+G20-F20 -> 0 | I20: =+ROUND(IF(H20>0,H20*E18,0),4) -> 0 | L20: =IFERROR(H20-'Nátok z PRDS'!H20,"N/A") -> 0
A21: Odberatelia elektriny v domácnosti pripojení na napäťovú úroveň nízkeho napätia | B21: D4 | C21: prístup do distribučnej sústavy | F21: 0.2954 | G21: 0.3486 | H21: =+G21-F21 -> 0.0532 | I21: =+ROUND(IF(H21>0,H21*E21,0),4) -> 0 | L21: =IFERROR(H21-'Nátok z PRDS'!H21,"N/A") -> 0.0532
C22: prístup do distribučnej sústavy (nevidiaci) | F22: 0.1651 | G22: 0.1743 | H22: =+G22-F22 -> 0.0092 | I22: =+ROUND(IF(H22>0,H22*E22,0),4) -> 0 | L22: =IFERROR(H22-'Nátok z PRDS'!H22,"N/A") -> 0.0092
C23: distribúcia elektriny VT | D23: MWh | E23: 0 | F23: 5.2 | G23: 5.1 | H23: n.a. | I23: n.a. | L23: =IFERROR(H23-'Nátok z PRDS'!H23,"N/A") -> N/A
C24: straty | F24: 12.413 | G24: 16.244 | H24: n.a. | I24: n.a. | L24: =IFERROR(H24-'Nátok z PRDS'!H24,"N/A") -> N/A
C25: distribúcia elektriny VT + straty | F25: =+F23+F24 -> 17.613 | G25: =+G23+G24 -> 21.344 | H25: =+G25-F25 -> 3.731 | I25: =+ROUND(IF(H25>0,H25*E23,0),4) -> 0 | L25: =IFERROR(H25-'Nátok z PRDS'!H25,"N/A") -> 3.731
C26: distribúcia elektriny NT | D26: MWh | H26: n.a. | I26: n.a. | L26: =IFERROR(H26-'Nátok z PRDS'!H26,"N/A") -> N/A
C27: straty | H27: n.a. | I27: n.a. | L27: =IFERROR(H27-'Nátok z PRDS'!H27,"N/A") -> N/A
C28: distribúcia elektriny NT + straty | F28: =+F26+F27 -> 0 | G28: =+G26+G27 -> 0 | H28: =+G28-F28 -> 0 | I28: =+ROUND(IF(H28>0,H28*E26,0),4) -> 0 | L28: =IFERROR(H28-'Nátok z PRDS'!H28,"N/A") -> 0
A29: Odberatelia elektriny v domácnosti pripojení na napäťovú úroveň nízkeho napätia | B29: D5 | C29: prístup do distribučnej sústavy | F29: 0.2954 | G29: 0.3486 | H29: =+G29-F29 -> 0.0532 | I29: =+ROUND(IF(H29>0,H29*E29,0),4) -> 0 | L29: =IFERROR(H29-'Nátok z PRDS'!H29,"N/A") -> 0.0532
C30: distribúcia elektriny VT | D30: MWh | E30: 0 | F30: 5.2 | G30: 5.1 | H30: n.a. | I30: n.a. | L30: =IFERROR(H30-'Nátok z PRDS'!H30,"N/A") -> N/A
C31: straty | F31: 12.413 | G31: 16.244 | H31: n.a. | I31: n.a. | L31: =IFERROR(H31-'Nátok z PRDS'!H31,"N/A") -> N/A
C32: distribúcia elektriny VT + straty | F32: =+F30+F31 -> 17.613 | G32: =+G30+G31 -> 21.344 | H32: =+G32-F32 -> 3.731 | I32: =+ROUND(IF(H32>0,H32*E30,0),4) -> 0 | L32: =IFERROR(H32-'Nátok z PRDS'!H32,"N/A") -> 3.731
C33: distribúcia elektriny NT | D33: MWh | E33: 0 | H33: n.a. | I33: n.a. | L33: =IFERROR(H33-'Nátok z PRDS'!H33,"N/A") -> N/A
C34: straty | H34: n.a. | I34: n.a. | L34: =IFERROR(H34-'Nátok z PRDS'!H34,"N/A") -> N/A
C35: distribúcia elektriny NT + straty | F35: =+F33+F34 -> 0 | G35: =+G33+G34 -> 0 | H35: =+G35-F35 -> 0 | I35: =+ROUND(IF(H35>0,H35*E33,0),4) -> 0 | L35: =IFERROR(H35-'Nátok z PRDS'!H35,"N/A") -> 0
A36: Odberatelia elektriny v domácnosti pripojení na napäťovú úroveň nízkeho napätia | B36: D6 | C36: prístup do distribučnej sústavy | F36: 0.2954 | G36: 0.3486 | H36: =+G36-F36 -> 0.0532 | I36: =+ROUND(IF(H36>0,H36*E36,0),4) -> 0 | L36: =IFERROR(H36-'Nátok z PRDS'!H36,"N/A") -> 0.0532
C37: distribúcia elektriny VT | D37: MWh | E37: 0 | F37: 5.2 | G37: 5.1 | H37: n.a. | I37: n.a. | L37: =IFERROR(H37-'Nátok z PRDS'!H37,"N/A") -> N/A
C38: straty | F38: 12.413 | G38: 16.244 | H38: n.a. | I38: n.a. | L38: =IFERROR(H38-'Nátok z PRDS'!H38,"N/A") -> N/A
C39: distribúcia elektriny VT + straty | F39: =+F37+F38 -> 17.613 | G39: =+G37+G38 -> 21.344 | H39: =+G39-F39 -> 3.731 | I39: =+ROUND(IF(H39>0,H39*E37,0),4) -> 0 | L39: =IFERROR(H39-'Nátok z PRDS'!H39,"N/A") -> 3.731
C40: distribúcia elektriny NT | D40: MWh | E40: 0 | H40: n.a. | I40: n.a. | L40: =IFERROR(H40-'Nátok z PRDS'!H40,"N/A") -> N/A
...

Sheet Okresy
A1: Bánovce nad Bebravou
A2: Banská Bystrica
A3: Banská Štiavnica
A4: Bardejov
A5: Bratislava I
A6: Bratislava II
A7: Bratislava III
A8: Bratislava IV
A9: Bratislava V
A10: Brezno
A11: Bytča
A12: Čadca
... A79: Žilina

Sheet Output
A1: Číslo spisu Fabasoft | B1: Názov alebo obchodné meno | C1: Ulica | D1: Orientačné číslo | E1: PSČ | F1: Obec | G1: IČO | H1: DIČ | I1: IČ DPH | J1: Bankové spojenie (IBAN) | K1: Variabilný symbol | L1: Ekonomická klasifikácia | M1: Číslo cenového rozhodnutia URSO | N1: Výška kompenzácie s DPH | O1: Vyplnené všetky čestné prehlásenia | P1: Priložené všetky prílohy | Q1: Výzva na doplnenie | R1: Zaslané oznámenie o schválení dotácie | S1: Meno kontrolujúceho pracovníka
B2: ='PDS-PPS-OKTE'!B9 -> 0 | C2: ='PDS-PPS-OKTE'!B16 -> 0 | D2: ='PDS-PPS-OKTE'!F16 -> 0 | E2: ='PDS-PPS-OKTE'!B19 -> 0 | F2: ='PDS-PPS-OKTE'!D19 -> 0 | G2: ='PDS-PPS-OKTE'!B6 -> 0 | H2: ='PDS-PPS-OKTE'!D6 -> 0 | I2: ='PDS-PPS-OKTE'!F6 -> 0 | J2: ='PDS-PPS-OKTE'!B33 -> 0 | K2: číslo žiadosti | L2: zistiť | M2: ='PDS-PPS-OKTE'!B48 -> 0 | N2: =#REF! -> #REF! | O2: =IF('PDS-PPS-OKTE'!B103="","ÁNO","NIE") -> NIE | P2: Zvoliť možnosť | Q2: Zvoliť možnosť | R2: Zvoliť možnosť
