Workbook
Name TM1REBUILDOPTION: 0

Sheet ID spoločnosti
B2: Subjekt (obchodné meno právnickej osoby, meno a priezvisko fyzickej osoby)
B5: IČO | P5: DIČ
B7: Adresa sídla (PO) / trvalého pobytu (FO):
B8: Ulica | V8: Číslo
B10: PSČ | K10: Obec
B12: Meno a priezvisko osoby, ktorá je oprávnená konať za subjekt podávajúci správu
B15: Tel. kontakt | N15: Emailová adresa
B17: Poznámky

Sheet Ročná správa-sumár
I1: ver 6.13
B2: Ročná správa o plnení referenčných hodnôt pri uvádzaní pohonných látok na trh
B4: podľa § 14a ods. 4 písm. d) zákona č. 309/2009 Z. z. o podpore obnoviteľných zdrojov energie a vysoko účinnej kombinovanej výroby a o zmene a doplnení niektorých zákonov
D6: Kalkulácia pre rok: | E6: 2026
B7: Energia z udržateľných pohonných látok nedodaná na trh
E8: Množstvo energie | G8: Potenciálna pokuta
C9: Energia z udržateľných pohonných látok podľa § 14a ods. 1: | E9: =G75-G74 -> 0 | F9: =IF(E9<-0.1,"Chýbajúca energia",IF(E9>0.1,"Energia nad cieľ","-")) -> - | G9: =MIN(ROUND(IF(E9<0.16,G76*0.05,G76*0.02),2),50000000) -> 0
C10: Energia z pokročilých udržateľných pohonných látok a biopalív podľa § 14a ods. 11 a § 14f ods. 2: | E10: =G78-G77 -> 0 | F10: =IF(E10<-0.1,"Chýbajúca energia",IF(E10>0.1,"Energia nad cieľ","-")) -> - | G10: =ROUND(G79*0.05,2) -> 0
C11: Energia z udržateľných pohonných látok z obnoviteľných zdrojov nebiologického pôvodu podľa § 14a ods. 10: | E11: =G81-G80 -> 0 | F11: =IF(E11<-0.1,"Chýbajúca energia",IF(E11>0.1,"Energia nad cieľ","-")) -> - | G11: =ROUND(G80*0.05,2) -> 0
C12: Objem metylesteru mastných kyselín podľa § 14a ods. 3 písm. a): | E12: Kvartálna povinnosť | G12: ='§14a ods. 1 písm.a) - BA a MN'!I117 -> 0
C13: Objem bioetanolovej zložky podľa §14a ods. 3 písm. b): | G13: ='§14a ods. 1 písm.a) - BA a MN'!I76 -> 0
E14: Výška obmedzenia | F14: Dosiahnuté plnenie | G14: Celková energia uvedená na trh | H14: Do obmedzenia | I14: Nad obmedzenie
C15: Obmedzenie podľa § 14a ods. 9 písm. c) [potravinárske a krmovinárske plodiny]: | E15: 0.065 | F15: =IFERROR((E51+E62)/E59,"-") -> - | G15: =E24+E30+E36+E43 -> 0 | H15: =IF((E15*E59)-G15>0,(E15*E59)-G15,0) -> 0 | I15: =IF(G15-(E15*E59)<0,0,G15-(E15*E59)) -> 0
C16: Obmedzenie podľa § 14a ods. 9 písm. b) [suroviny podľa prílohy č. 1 časti B]: | E16: 0.0176 | F16: =IFERROR((E54+E65)/E59,"-") -> - | G16: =E27+E33+E39+E46 -> 0 | H16: =IF((E16*E59)-G16>0,(E16*E59)-G16,0) -> 0 | I16: =IF(G16-(E16*E59)<0,0,G16-(E16*E59)) -> 0
B18: Množstvo energie udržateľných pohonných látok podľa § 14a ods. 9 písm. d) a h) zákona č. 309/2009 Z. z.
B19: Množstvo energie RFNBO/e-fuels podľa § 14a ods. 9 písm. d) | E19: ='RFNBO z výroby+SAF'!G4+'RFNBO z výroby+SAF'!G5 -> 0
B20: Množstvo energie udržateľných pohonných látok dodávaných leteckej a námornej doprave podľa § 14a ods. 9 písm. h) | E20: ='RFNBO z výroby+SAF'!G7+'RFNBO z výroby+SAF'!G8 -> 0
B21: Množstvo energie z kreditov podľa § 14cb a z prevodu časti plnenia referenčných hodnôt podľa § 14cc zákona č. 309/2009 Z. z.
B22: Množstvo nakúpenej/uplatnenej energie
B23: Množstvo energie z kreditov podľa § 14cb (obnoviteľná elektrina) | E23: ='Kredity z E+prevod podľa §14cc'!E7 -> 0
B24: Množstvo energie z udržateľných pohonných látok z potravinárskych a krmovinárskych plodín | E24: ='Kredity z E+prevod podľa §14cc'!E8 -> 0
B25: Množstvo energie z iných udržateľných pohonných látok | E25: ='Kredity z E+prevod podľa §14cc'!E9 -> 0
B26: Množstvo energie z udržateľných pohonných látok zo surovín podľa prílohy č. 1 časti A | E26: ='Kredity z E+prevod podľa §14cc'!E10 -> 0
B27: Množstvo energie z udržateľných pohonných látok zo surovín podľa prílohy č. 1 časti B | E27: ='Kredity z E+prevod podľa §14cc'!E11 -> 0
B28: Množstvo energie z RFNBO/e-fuels | E28: ='Kredity z E+prevod podľa §14cc'!E12 -> 0
B29: Množstvo predanej energie
B30: Množstvo energie z udržateľných pohonných látok z potravinárskych a krmovinárskych plodín | E30: ='Kredity z E+prevod podľa §14cc'!E21 -> 0
B31: Množstvo energie z iných udržateľných pohonných látok | E31: ='Kredity z E+prevod podľa §14cc'!E22 -> 0
B32: Množstvo energie z udržateľných pohonných látok zo surovín podľa prílohy č. 1 časti A | E32: ='Kredity z E+prevod podľa §14cc'!E23 -> 0
B33: Množstvo energie z udržateľných pohonných látok zo surovín podľa prílohy č. 1 časti B | E33: ='Kredity z E+prevod podľa §14cc'!E24 -> 0
B34: Množstvo energie z RFNBO/e-fuels | E34: ='Kredity z E+prevod podľa §14cc'!E25 -> 0
B35: Energetický obsah udržateľných pohonných látok podľa § 14a ods. 1 písm. a) zákona č. 309/2009 Z. z. (motorový benzín a motorová nafta)
B36: Energetický obsah udržateľných pohonných látok z potravinárskych a krmovinárskych plodín | E36: ='§14a ods. 1 písm.a) - BA a MN'!J152 -> 0 | H36: Cieľ / obmedzenie | I36: Dosiahnuté plnenie
B37: Energetický obsah iných udržateľných pohonných látok | E37: ='§14a ods. 1 písm.a) - BA a MN'!J153 -> 0 | G37: Energetický obsah podľa § 14a ods. 1 písm. a): | H37: ='§14a ods. 1 písm.a) - BA a MN'!F8 -> 0.095 | I37: ='§14a ods. 1 písm.a) - BA a MN'!G8 -> -
B38: Energetický obsah udržateľných pohonných látok zo surovín podľa prílohy č. 1 časti A | E38: ='§14a ods. 1 písm.a) - BA a MN'!J154 -> 0 | G38: Energetický obsah pokročilého biopaliva podľa § 14f ods. 2: | H38: ='§14a ods. 1 písm.a) - BA a MN'!F11 -> 0.0105 | I38: ='§14a ods. 1 písm.a) - BA a MN'!G11 -> -
B39: Energetický obsah udržateľných pohonných látok zo surovín podľa prílohy č. 1 časti B | E39: ='§14a ods. 1 písm.a) - BA a MN'!J155 -> 0 | G39: Energetický obsah podľa § 14a ods. 10): | H39: =VLOOKUP(E6,Ciele!A3:I7,5,0) -> 0
B40: Energetický obsah RFNBO/e-fuels | E40: ='§14a ods. 1 písm.a) - BA a MN'!J156 -> 0 | G40: Obmedzenie podľa § 14a ods. 9 písm. b): | H40: =VLOOKUP(E6,Ciele!A2:I7,9,0) -> 0.0176 | I40: =IFERROR((E39)/E41,"-") -> -
B41: Energetický obsah pohonných látok SPOLU | E41: ='§14a ods. 1 písm.a) - BA a MN'!J159 -> 0 | G41: Obmedzenie podľa § 14a ods. 9 písm. c): | H41: =VLOOKUP(E6,Ciele!A2:I7,8,0) -> 0.065 | I41: =IFERROR((E36)/E41,"-") -> -
B42: Energetický obsah udržateľných pohonných látok podľa § 14a ods. 1 písm. b) zákona č. 309/2009 Z. z. (stlačený a skvapalnený zemný plyn)
B43: Energetický obsah udržateľných pohonných látok z potravinárskych a krmovinárskych plodín | E43: ='§14a ods. 1 písm.b) - CNG a LNG'!I48 -> 0 | H43: Cieľ / obmedzenie | I43: Dosiahnuté plnenie
B44: Energetický obsah iných udržateľných pohonných látok | E44: ='§14a ods. 1 písm.b) - CNG a LNG'!I49 -> 0 | G44: Energetický obsah podľa § 14a ods. 1 písm. b): | H44: ='§14a ods. 1 písm.b) - CNG a LNG'!E8 -> 0.06 | I44: ='§14a ods. 1 písm.b) - CNG a LNG'!F8 -> -
B45: Energetický obsah udržateľných pohonných látok zo surovín podľa prílohy č. 1 časti A | E45: ='§14a ods. 1 písm.b) - CNG a LNG'!I50 -> 0 | G45: Energetický obsah pokročilého biopaliva podľa § 14a ods. 11 | H45: ='§14a ods. 1 písm.b) - CNG a LNG'!E9 -> 0.0105 | I45: ='§14a ods. 1 písm.b) - CNG a LNG'!F9 -> -
B46: Energetický obsah udržateľných pohonných látok zo surovín podľa prílohy č. 1 časti B | E46: ='§14a ods. 1 písm.b) - CNG a LNG'!I51 -> 0
B47: Energetický obsah RFNBO/e-fuels | E47: ='§14a ods. 1 písm.b) - CNG a LNG'!I52 -> 0 | G47: Obmedzenie podľa § 14a ods. 9 písm. b): | H47: =VLOOKUP(E6,Ciele!A2:I7,9,0) -> 0.0176 | I47: =IFERROR((E46)/E48,"-") -> -
B48: Energetický obsah pohonných látok SPOLU | E48: ='§14a ods. 1 písm.b) - CNG a LNG'!I55 -> 0 | G48: Obmedzenie podľa § 14a ods. 9 písm. c): | H48: =VLOOKUP(E6,Ciele!A2:I7,8,0) -> 0.065 | I48: =IFERROR((E43)/E48,"-") -> -
E49: Celkové množstvo energie
B50: Energetický obsah udržateľných pohonných látok podľa § 14a ods. 1 zákona č. 309/2009 Z. z.
B51: Energetický obsah udržateľných pohonných látok z potravinárskych a krmovinárskych plodín | E51: =E43+E36 -> 0
B52: Energetický obsah iných udržateľných pohonných látok | E52: =E44+E37 -> 0
B53: Energetický obsah udržateľných pohonných látok zo surovín podľa prílohy č. 1 časti A | E53: =E45+E38 -> 0
B54: Energetický obsah udržateľných pohonných látok zo surovín podľa prílohy č. 1 časti B | E54: =E46+E39 -> 0
B55: Energetický obsah RFNBO/e-fuels | E55: =E47+E40+E19 -> 0
B56: Energetický obsah udržateľných pohonných látok dodávaných leteckej a námornej doprave podľa § 14a ods. 9 písm. h) | E56: =E20 -> 0
B57: Energetický obsah udržateľných pohonných látok (BIO energia) | E57: =SUM(E51:E56) -> 0
B58: Energetický obsah fosílnych pohonných látok (FOSIL energia) | E58: ='§14a ods. 1 písm.a) - BA a MN'!J158+'§14a ods. 1 písm.b) - CNG a LNG'!I54 -> 0
B59: Energetický obsah pohonných látok SPOLU | E59: =E41+E48 -> 0
B60: Množstvo energie z kreditov podľa § 14cb a z prevodu časti plnenia referenčných hodnôt podľa § 14cc zákona č. 309/2009 Z. z.
B61: Množstvo energie z kreditov podľa § 14cb (obnoviteľná elektrina) | E61: =E23*2 -> 0
B62: Množstvo energie z udržateľných pohonných látok z potravinárskych a krmovinárskych plodín | E62: =E24+E30 -> 0
B63: Množstvo energie z iných udržateľných pohonných látok | E63: =E25+E31 -> 0
B64: Množstvo energie z udržateľných pohonných látok zo surovín podľa prílohy č. 1 časti A | E64: =E26+E32 -> 0
B65: Množstvo energie z udržateľných pohonných látok zo surovín podľa prílohy č. 1 časti B | E65: =E27+E33 -> 0
B66: Množstvo energie z RFNBO/e-fuels | E66: =E28+E34 -> 0
B68: Obmedzenia podľa § 14a ods. 9 písm. b) a c) zákona č. 309/2009 Z. z. [suroviny podľa prílohy č. 1 časti B a potravinárske a krmovinárske plodiny]
B69: MAXIMÁLNY energetický obsah udržateľných pohonných látok vyrobených z potravinárskych a krmovinárskych plodín | G69: =MIN(SUM(E51,E62),E59*H41) -> 0
B70: Množstvo energie nad MAXIMÁLNY energetický obsah udržateľných pohonných látok vyrobených z potravinárskych a krmovinárskych plodín | G70: =(E51+E62)-G69 -> 0
B71: MAXIMÁLNY energetický obsah udržateľných pohonných látok vyrobených zo surovín podľa prílohy č. 1 časti B | G71: =MIN(SUM(E54,E65),E59*H40) -> 0
B72: Množstvo energie nad MAXIMÁLNY energetický obsah udržateľných pohonných látok vyrobených zo surovín podľa prílohy č. 1 časti B | G72: =(E54+E65)-G71 -> 0
B73: Energetický obsah udržateľných pohonných látok zo surovín podľa prílohy č. 1 a RFNBO (dvojnásobne započítateľné) | G73: =(G71+E53+E55+E64+E66)*2 -> 0
B74: MINIMÁLNY energetický obsah udržateľných pohonných látok, ktorý musí byť uvedený na trh podľa § 14a ods. 1 v príslušnom kalendárnom roku: | G74: =H37*E41+H44*E48 -> 0
B75: Energetický obsah udržateľných pohonných látok uvedených na trh podľa § 14a ods. 1 v príslušnom kalendárnom roku: | G75: =G69+G73+E52+E63+E61+E56 -> 0
B76: Množstvo energie z udržateľných pohonných látok, ktoré nebolo uvedené na trh podľa § 14a ods. 1 v príslušnom kalendárnom roku: | G76: =IF((G74-G75)>0,G74-G75,0) -> 0
B77: MINIMÁLNY energetický obsah udržateľných pohonných látok zo surovín podľa prílohy č. 1 časti A, ktorý musí byť uvedený na trh podľa § 14a ods. 11 a § 14f ods. 2 v príslušnom kalendárnom roku: | G77: =H38*E41+H45*E48 -> 0
B78: Energetický obsah udržateľných pohonných látok zo surovín podľa prílohy č. 1 časti A uvedených na trh podľa § 14a ods. 11 a § 14f ods. 2 v príslušnom kalendárnom roku: | G78: =E53+E64 -> 0
B79: Množstvo energie z udržateľných pohonných látok zo surovín podľa prílohy č. 1 časti A, ktoré nebolo uvedené na trh podľa § 14a ods. 11 a § 14f ods. 2 v príslušnom kalendárnom roku: | G79: =IF((G77-G78)>0,G77-G78,0) -> 0
B80: MINIMÁLNY energetický obsah udržateľných pohonných látok nebiologického pôvodu, ktorý musí byť uvedený na trh podľa § 14a ods. 10 v príslušnom kalendárnom roku: | G80: =E41*H39 -> 0
B81: Energetický obsah udržateľných pohonných látok z nebiologických surovín podľa § 14a ods. 10 v príslušnom kalendárnom roku: | G81: =E55 -> 0

Sheet §14a ods. 1 písm.a) - BA a MN
B2: Výpočet energetického obsahu udržateľných pohonných látok z celkového energetického obsahu motorovej nafty a motorového benzínu
B4: podľa § 14a ods. 1 písm. a) zákona č. 309/2009 Z. z.
E6: Kalkulácia pre rok: | F6: ='Ročná správa-sumár'!E6 -> 2026
F7: Požadovaný cieľ | G7: Dosiahnuté plnenie
E8: Energetický obsah podľa § 14a ods. 1 písm. a): | F8: =VLOOKUP(F6,Ciele!A2:I7,7,0) -> 0.095 | G8: =IFERROR((J164)/J159,"-") -> - | H8: =J164-J166 -> 0 | I8: =IF(H8<-0.1,"Chýbajúca energia",IF(H8>0.1,"Energia nad cieľ",IF(H8=0,"-"))) -> -
E9: Objem metylesteru mastných kyselín podľa § 14a ods. 3 písm. a): | F9: =VLOOKUP(F6,Ciele!A2:I7,3,0) -> 0.069 | G9: Kvartálna povinnosť
E10: Objem bioetanolovej zložky podľa §14a ods. 3 písm. b): | F10: =VLOOKUP(F6,Ciele!A2:I7,2,0) -> 0.09 | G10: Kvartálna povinnosť
E11: Energetický obsah pokročilých biopalív podľa § 14f ods. 2: | F11: =VLOOKUP(F6,Ciele!A2:I7,4,0) -> 0.0105 | G11: =IFERROR((J154/J159),"-") -> - | H11: =J154-J167 -> 0 | I11: =IF(H11<-0.1,"Chýbajúca energia",IF(H11>0.1,"Energia nad cieľ",IF(H11=0,"-"))) -> -
E13: Obmedzenie podľa § 14a ods. 9 písm. b) [suroviny podľa prílohy č. 1 časti B]: | F13: =VLOOKUP(F6,Ciele!A2:I7,9,0) -> 0.0176 | G13: =IFERROR((J155/J159),"-") -> - | H13: =ABS((F13*J159)-J155) -> 0 | I13: =IF((F13*J159)-J155<0,"Energia nad obmedzenie",IF((F13*J159)-J155>0.1,"Energia do obmedzenia",IF((F13*J159)-J155=0,"-"))) -> -
E14: Obmedzenie podľa § 14a ods. 9 písm. c) [potravinárske a krmovinárske plodiny]: | F14: =VLOOKUP(F6,Ciele!A2:I7,8,0) -> 0.065 | G14: =IFERROR((J152/J159),"-") -> - | H14: =ABS((F14*J159)-J152) -> 0 | I14: =IF((F14*J159)-J152<0,"Energia nad obmedzenie",IF((F14*J159)-J152>0.1,"Energia do obmedzenia",IF((F14*J159)-J152=0,"-"))) -> -
B16: MOTOROVÝ BENZÍN | D16: MJ/l | E16: 1. štvrťrok | F16: 2. štvrťrok | G16: 3. štvrťrok | H16: 4. štvrťrok | I16: Množstvo v litroch za kalendárny rok | J16: Množstvo v MJ za kalendárny rok
E17: v litroch
C18: Benzín celkom | I18: =SUM(E18:H18) -> 0
C19: Bioetanol celkom, z toho: | E19: =SUM(E20:E23) -> 0 | F19: =SUM(F20:F23) -> 0 | G19: =SUM(G20:G23) -> 0 | H19: =SUM(H20:H23) -> 0
C20: Bioetanol z potravinárskych a krmovinárskych plodín | D20: 21 | I20: =SUM(E20:H20) -> 0 | J20: =I20*D20 -> 0
C21: Bioetanol iné | D21: 21 | I21: =SUM(E21:H21) -> 0 | J21: =I21*D21 -> 0
C22: Bioetanol zo surovín podľa prílohy č. 1 časti A | D22: 21 | I22: =SUM(E22:H22) -> 0 | J22: =I22*D22 -> 0
C23: Bioetanol zo surovín podľa prílohy č. 1 časti B | D23: 21 | I23: =SUM(E23:H23) -> 0 | J23: =I23*D23 -> 0
C24: ETBE (obnoviteľná časť) celkom, z toho: | E24: =SUM(E25:E48) -> 0 | F24: =SUM(F25:F48) -> 0 | G24: =SUM(G25:G48) -> 0 | H24: =SUM(H25:H48) -> 0 | I24: =SUM(E24:H24) -> 0 | J24: =I24*D24 -> 0
B25: 42 % obj. 33 % E RED III (od 1.3.2026) | C25: ETBE (obn. časť) z potravinárskych a krmovinárskych plodín | D25: 21 | I25: =SUM(E25:H25) -> 0 | J25: =I25*D25 -> 0
C26: ETBE (obn. časť) iné | D26: 21 | I26: =SUM(E26:H26) -> 0 | J26: =I26*D26 -> 0
C27: ETBE (obn. časť) zo surovín podľa prílohy č. 1 časti A | D27: 21 | I27: =SUM(E27:H27) -> 0 | J27: =I27*D27 -> 0
C28: ETBE (obn. časť) zo surovín podľa prílohy č. 1 časti B | D28: 21 | I28: =SUM(E28:H28) -> 0 | J28: =I28*D28 -> 0
B29: 47 % obj. 37 % E RED II (do 28.2.2026) | C29: ETBE (obn. časť) z potravinárskych a krmovinárskych plodín | D29: 21 | I29: =SUM(E29:H29) -> 0 | J29: =I29*D29 -> 0
C30: ETBE (obn. časť) iné | D30: 21 | I30: =SUM(E30:H30) -> 0 | J30: =I30*D30 -> 0
C31: ETBE (obn. časť) zo surovín podľa prílohy č. 1 časti A | D31: 21 | I31: =SUM(E31:H31) -> 0 | J31: =I31*D31 -> 0
C32: ETBE (obn. časť) zo surovín podľa prílohy č. 1 časti B | D32: 21 | I32: =SUM(E32:H32) -> 0 | J32: =I32*D32 -> 0
B33: Iné % | C33: ETBE (obn. časť) z potravinárskych a krmovinárskych plodín | D33: 21 | I33: =SUM(E33:H33) -> 0 | J33: =I33*D33 -> 0
B34: hodnota z POS: | C34: ETBE (obn. časť) iné | D34: 21 | I34: =SUM(E34:H34) -> 0 | J34: =I34*D34 -> 0
C35: ETBE (obn. časť) zo surovín podľa prílohy č. 1 časti A | D35: 21 | I35: =SUM(E35:H35) -> 0 | J35: =I35*D35 -> 0
C36: ETBE (obn. časť) zo surovín podľa prílohy č. 1 časti B | D36: 21 | I36: =SUM(E36:H36) -> 0 | J36: =I36*D36 -> 0
B37: Iné % | C37: ETBE (obn. časť) z potravinárskych a krmovinárskych plodín | D37: 21 | I37: =SUM(E37:H37) -> 0 | J37: =I37*D37 -> 0
B38: hodnota z POS: | C38: ETBE (obn. časť) iné | D38: 21 | I38: =SUM(E38:H38) -> 0 | J38: =I38*D38 -> 0
C39: ETBE (obn. časť) zo surovín podľa prílohy č. 1 časti A | D39: 21 | I39: =SUM(E39:H39) -> 0 | J39: =I39*D39 -> 0
C40: ETBE (obn. časť) zo surovín podľa prílohy č. 1 časti B | D40: 21 | I40: =SUM(E40:H40) -> 0 | J40: =I40*D40 -> 0
B41: Iné % | C41: ETBE (obn. časť) z potravinárskych a krmovinárskych plodín | D41: 21 | I41: =SUM(E41:H41) -> 0 | J41: =I41*D41 -> 0
B42: hodnota z POS: | C42: ETBE (obn. časť) iné | D42: 21 | I42: =SUM(E42:H42) -> 0 | J42: =I42*D42 -> 0
C43: ETBE (obn. časť) zo surovín podľa prílohy č. 1 časti A | D43: 21 | I43: =SUM(E43:H43) -> 0 | J43: =I43*D43 -> 0
C44: ETBE (obn. časť) zo surovín podľa prílohy č. 1 časti B | D44: 21 | I44: =SUM(E44:H44) -> 0 | J44: =I44*D44 -> 0
B45: Iné % | C45: ETBE (obn. časť) z potravinárskych a krmovinárskych plodín | D45: 21 | I45: =SUM(E45:H45) -> 0 | J45: =I45*D45 -> 0
B46: hodnota z POS: | C46: ETBE (obn. časť) iné | D46: 21 | I46: =SUM(E46:H46) -> 0 | J46: =I46*D46 -> 0
C47: ETBE (obn. časť) zo surovín podľa prílohy č. 1 časti A | D47: 21 | I47: =SUM(E47:H47) -> 0 | J47: =I47*D47 -> 0
C48: ETBE (obn. časť) zo surovín podľa prílohy č. 1 časti B | D48: 21 | I48: =SUM(E48:H48) -> 0 | J48: =I48*D48 -> 0
C49: ETBE 100% celkom, z toho: | E49: =SUM(E50:E53) -> 0 | F49: =SUM(F50:F53) -> 0 | G49: =SUM(G50:G53) -> 0 | H49: =SUM(H50:H53) -> 0 | I49: =SUM(I50:I53) -> 0 | J49: =SUM(J50:J53) -> 0
C50: ETBE 100% z potravinárskych a krmovinárskych plodín | D50: 27 | E50: =(E25/(0.33*27/21))+(E29/(0.37*27/21))+IFERROR(E41/B43,"0")+IFERROR(E45/B47,"0")+IFERROR(E33/B35,"0")+IFERROR(E37/B39,"0") -> 0 | F50: =(F25/(0.33*27/21))+(F29/(0.37*27/21))+IFERROR(F41/B43,"0")+IFERROR(F45/B47,"0")+IFERROR(F33/B35,"0")+IFERROR(F37/B39,"0") -> 0 | G50: =(G25/(0.33*27/21))+(G29/(0.37*27/21))+IFERROR(G41/B43,"0")+IFERROR(G45/B47,"0")+IFERROR(G33/B35,"0")+IFERROR(G37/B39,"0") -> 0 | H50: =(H25/(0.33*27/21))+(H29/(0.37*27/21))+IFERROR(H41/B43,"0")+IFERROR(H45/B47,"0")+IFERROR(H33/B35,"0")+IFERROR(H37/B39,"0") -> 0 | I50: =SUM(E50:H50) -> 0 | J50: =I50*D50 -> 0
C51: ETBE 100% iné | D51: 27 | E51: =(E26/(0.33*27/21))+(E30/(0.37*27/21))+IFERROR(E42/B43,"0")+IFERROR(E46/B47,"0")+IFERROR(E34/B35,"0")+IFERROR(E38/B39,"0") -> 0 | F51: =(F26/(0.33*27/21))+(F30/(0.37*27/21))+IFERROR(F42/B43,"0")+IFERROR(F46/B47,"0")+IFERROR(F34/B35,"0")+IFERROR(F38/B39,"0") -> 0 | G51: =(G26/(0.33*27/21))+(G30/(0.37*27/21))+IFERROR(G42/B43,"0")+IFERROR(G46/B47,"0")+IFERROR(G34/B35,"0")+IFERROR(G38/B39,"0") -> 0 | H51: =(H26/(0.33*27/21))+(H30/(0.37*27/21))+IFERROR(H42/B43,"0")+IFERROR(H46/B47,"0")+IFERROR(H34/B35,"0")+IFERROR(H38/B39,"0") -> 0 | I51: =SUM(E51:H51) -> 0 | J51: =I51*D51 -> 0
C52: ETBE 100% zo surovín podľa prílohy č. 1 časti A | D52: 27 | E52: =(E27/(0.33*27/21))+(E31/(0.37*27/21))+IFERROR(E43/B43,"0")+IFERROR(E47/B47,"0")+IFERROR(E35/B35,"0")+IFERROR(E39/B39,"0") -> 0 | F52: =(F27/(0.33*27/21))+(F31/(0.37*27/21))+IFERROR(F43/B43,"0")+IFERROR(F47/B47,"0")+IFERROR(F35/B35,"0")+IFERROR(F39/B39,"0") -> 0 | G52: =(G27/(0.33*27/21))+(G31/(0.37*27/21))+IFERROR(G43/B43,"0")+IFERROR(G47/B47,"0")+IFERROR(G35/B35,"0")+IFERROR(G39/B39,"0") -> 0 | H52: =(H27/(0.33*27/21))+(H31/(0.37*27/21))+IFERROR(H43/B43,"0")+IFERROR(H47/B47,"0")+IFERROR(H35/B35,"0")+IFERROR(H39/B39,"0") -> 0 | I52: =SUM(E52:H52) -> 0 | J52: =I52*D52 -> 0
C53: ETBE 100% zo surovín podľa prílohy č. 1 časti B | D53: 27 | E53: =(E28/(0.33*27/21))+(E32/(0.37*27/21))+IFERROR(E44/B43,"0")+IFERROR(E48/B47,"0")+IFERROR(E36/B35,"0")+IFERROR(E40/B39,"0") -> 0 | F53: =(F28/(0.33*27/21))+(F32/(0.37*27/21))+IFERROR(F44/B43,"0")+IFERROR(F48/B47,"0")+IFERROR(F36/B35,"0")+IFERROR(F40/B39,"0") -> 0 | G53: =(G28/(0.33*27/21))+(G32/(0.37*27/21))+IFERROR(G44/B43,"0")+IFERROR(G48/B47,"0")+IFERROR(G36/B35,"0")+IFERROR(G40/B39,"0") -> 0 | H53: =(H28/(0.33*27/21))+(H32/(0.37*27/21))+IFERROR(H44/B43,"0")+IFERROR(H48/B47,"0")+IFERROR(H36/B35,"0")+IFERROR(H40/B39,"0") -> 0 | I53: =SUM(E53:H53) -> 0 | J53: =I53*D53 -> 0
C54: RFNBO/e-fuels | I54: =SUM(E54:H54) -> 0 | J54: =I54*D54 -> 0
C55: RFNBO/e-fuels | D55: 120 | I55: =SUM(E55:H55) -> 0 | J55: =I55*D55 -> 0
C56: Iné biopalivá ako bioetanol a ETBE zo surovín bez dvojnásobného zohľadnenia energetického obsahu | E56: =SUM(E57:E59) -> 0 | F56: =SUM(F57:F59) -> 0 | G56: =SUM(G57:G59) -> 0 | H56: =SUM(H57:H59) -> 0
C57: alternatíva 1 | I57: =SUM(E57:H57) -> 0 | J57: =I57*D57 -> 0
C58: alternatíva 2 | I58: =SUM(E58:H58) -> 0 | J58: =I58*D58 -> 0
C59: alternatíva 3 | I59: =SUM(E59:H59) -> 0 | J59: =I59*D59 -> 0
C60: Iné biopalivá ako bioetanol a ETBE zo surovín bez obmedzenia podľa § 14a ods. 9 písm. b) a c) | E60: =SUM(E61:E63) -> 0 | F60: =SUM(F61:F63) -> 0 | G60: =SUM(G61:G63) -> 0 | H60: =SUM(H61:H63) -> 0
C61: alternatíva 1 | I61: =SUM(E61:H61) -> 0 | J61: =I61*D61 -> 0
C62: alternatíva 2 | I62: =SUM(E62:H62) -> 0 | J62: =I62*D62 -> 0
C63: alternatíva 3 | I63: =SUM(E63:H63) -> 0 | J63: =I63*D63 -> 0
C64: Iné biopalivá ako bioetanol a ETBE zo surovín podľa prílohy č. 1 časti A | E64: =SUM(E65:E67) -> 0 | F64: =SUM(F65:F67) -> 0 | G64: =SUM(G65:G67) -> 0 | H64: =SUM(H65:H67) -> 0
C65: alternatíva 1 | I65: =SUM(E65:H65) -> 0 | J65: =I65*D65 -> 0
C66: alternatíva 2 | I66: =SUM(E66:H66) -> 0 | J66: =I66*D66 -> 0
C67: alternatíva 3 | I67: =SUM(E67:H67) -> 0 | J67: =I67*D67 -> 0
C68: Iné biopalivá ako bioetanol a ETBE zo surovín podľa prílohy č. 1 časti B | E68: =SUM(E69:E71) -> 0 | F68: =SUM(F69:F71) -> 0 | G68: =SUM(G69:G71) -> 0 | H68: =SUM(H69:H71) -> 0
C69: alternatíva 1 | I69: =SUM(E69:H69) -> 0 | J69: =I69*D69 -> 0
C70: alternatíva 2 | I70: =SUM(E70:H70) -> 0 | J70: =I70*D70 -> 0
C71: alternatíva 3 | I71: =SUM(E71:H71) -> 0 | J71: =I71*D71 -> 0
C72: Celkovo bioetanolová zložka | E72: =E19+E24 -> 0 | F72: =F19+F24 -> 0 | G72: =G19+G24 -> 0 | H72: =H19+H24 -> 0 | I72: =SUM(E72:H72) -> 0
C73: Celkovo udržateľné pohonné látky | E73: =E19+E49+E56+E64+E60+E68+E55+E54 -> 0 | F73: =F19+F49+F56+F64+F60+F68+F55+F54 -> 0 | G73: =G19+G49+G56+G64+G60+G68+G55+G54 -> 0 | H73: =H19+H49+H56+H64+H60+H68+H55+H54 -> 0 | I73: =SUM(E73:H73) -> 0
C74: Benzín - fosílna časť | D74: 32 | E74: =IFERROR(IF(E18-E19-E49-E68-E64-E60-E56-E55-E54>-0.01,E18-E19-E49-E68-E64-E60-E56-E55-E54,"Error"),"-") -> 0 | F74: =IFERROR(IF(F18-F19-F49-F68-F64-F60-F56-F55-F54>-0.01,F18-F19-F49-F68-F64-F60-F56-F55-F54,"Error"),"-") -> 0 | G74: =IFERROR(IF(G18-G19-G49-G68-G64-G60-G56-G55-G54>-0.01,G18-G19-G49-G68-G64-G60-G56-G55-G54,"Error"),"-") -> 0 | H74: =IFERROR(IF(H18-H19-H49-H68-H64-H60-H56-H55-H54>-0.01,H18-H19-H49-H68-H64-H60-H56-H55-H54,"Error"),"-") -> 0 | I74: =SUM(E74:H74) -> 0 | J74: =I74*D74 -> 0
C75: Objem bioetanolová zložka % | E75: =IFERROR(E72/E18,"-") -> - | F75: =IFERROR(F72/F18,"-") -> - | G75: =IFERROR(G72/G18,"-") -> - | H75: =IFERROR(H72/H18,"-") -> -
C76: Potenciálna pokuta - bioetanolová zložka | E76: =IF(E75>=F10,"-",ROUND((2*((E18*F10)-E24-E19)),2)) -> - | F76: =IF(F75>=F10,"-",ROUND((2*((F18*F10)-F24-F19)),2)) -> - | G76: =IF(G75>=F10,"-",ROUND((2*((G18*F10)-G24-G19)),2)) -> - | H76: =IF(H75>=F10,"-",ROUND((2*((H18*F10)-H24-H19)),2)) -> - | I76: =SUM(E76:H76) -> 0
B78: MOTOROVÁ NAFTA | D78: MJ/l | E78: 1. štvrťrok | F78: 2. štvrťrok | G78: 3. štvrťrok | H78: 4. štvrťrok | I78: Množstvo v litroch za kalendárny rok | J78: Množstvo v MJ za kalendárny rok
E79: v litroch
C80: Nafta celkom | I80: =SUM(E80:H80) -> 0
C81: Metylester mastných kyselín (FAME) celkom, z toho: | E81: =SUM(E82:E85) -> 0 | F81: =SUM(F82:F85) -> 0 | G81: =SUM(G82:G85) -> 0 | H81: =SUM(H82:H85) -> 0 | I81: =SUM(E81:H81) -> 0
C82: FAME z potravinárskych a krmovinárskych plodín | D82: 33 | I82: =SUM(E82:H82) -> 0 | J82: =I82*D82 -> 0
C83: FAME iné | D83: 33 | I83: =SUM(E83:H83) -> 0 | J83: =I83*D83 -> 0
C84: FAME zo surovín podľa prílohy č. 1 časti A | D84: 33 | I84: =SUM(E84:H84) -> 0 | J84: =I84*D84 -> 0
C85: FAME zo surovín podľa prílohy č. 1 časti B | D85: 33 | I85: =SUM(E85:H85) -> 0 | J85: =I85*D85 -> 0
C86: HVO celkom, z toho: | E86: =SUM(E87:E94) -> 0 | F86: =SUM(F87:F94) -> 0 | G86: =SUM(G87:G94) -> 0 | H86: =SUM(H87:H94) -> 0
C87: HVO z potravinárskych a krmovinárskych plodín | D87: 34 | I87: =SUM(E87:H87) -> 0 | J87: =I87*D87 -> 0
C88: HVO iné | D88: 34 | I88: =SUM(E88:H88) -> 0 | J88: =I88*D88 -> 0
C89: HVO zo surovín podľa prílohy č. 1 časti A | D89: 34 | I89: =SUM(E89:H89) -> 0 | J89: =I89*D89 -> 0
C90: HVO zo surovín podľa prílohy č. 1 časti B | D90: 34 | I90: =SUM(E90:H90) -> 0 | J90: =I90*D90 -> 0
C91: HVO Co-processing z potravinárskych a krmovinárskych plodín | D91: 36 | I91: =SUM(E91:H91) -> 0 | J91: =I91*D91 -> 0
C92: HVO Co-processing iné | D92: 36 | I92: =SUM(E92:H92) -> 0 | J92: =I92*D92 -> 0
C93: HVO Co-processing zo surovín podľa prílohy č. 1 časti A | D93: 36 | I93: =SUM(E93:H93) -> 0 | J93: =I93*D93 -> 0
C94: HVO Co-processing zo surovín podľa prílohy č. 1 časti B | D94: 36 | I94: =SUM(E94:H94) -> 0 | J94: =I94*D94 -> 0
C95: RFNBO/e-fuels | I95: =SUM(E95:H95) -> 0 | J95: =I95*D95 -> 0
C96: RFNBO/e-fuels | D96: 120 | I96: =SUM(E96:H96) -> 0 | J96: =I96*D96 -> 0
C97: Iné biopalivá ako FAME a HVO zo surovín bez dvojnásobného zohľadnenia energetického obsahu | E97: =SUM(E98:E100) -> 0 | F97: =SUM(F98:F100) -> 0 | G97: =SUM(G98:G100) -> 0 | H97: =SUM(H98:H100) -> 0
C98: alternatíva 1 | I98: =SUM(E98:H98) -> 0 | J98: =I98*D98 -> 0
C99: alternatíva 2 | I99: =SUM(E99:H99) -> 0 | J99: =I99*D99 -> 0
C100: alternatíva 3 | I100: =SUM(E100:H100) -> 0 | J100: =I100*D100 -> 0
C101: Iné biopalivá ako FAME a HVO zo surovín bez obmedzenia podľa § 14a ods. 9 písm. b) a c) | E101: =SUM(E102:E104) -> 0 | F101: =SUM(F102:F104) -> 0 | G101: =SUM(G102:G104) -> 0 | H101: =SUM(H102:H104) -> 0
C102: alternatíva 1 | I102: =SUM(E102:H102) -> 0 | J102: =I102*D102 -> 0
C103: alternatíva 2 | I103: =SUM(E103:H103) -> 0 | J103: =I103*D103 -> 0
C104: alternatíva 3 | I104: =SUM(E104:H104) -> 0 | J104: =I104*D104 -> 0
C105: Iné biopalivá ako FAME a HVO zo surovín podľa prílohy č. 1 časti A | E105: =SUM(E106:E108) -> 0 | F105: =SUM(F106:F108) -> 0 | G105: =SUM(G106:G108) -> 0 | H105: =SUM(H106:H108) -> 0
C106: alternatíva 1 | I106: =SUM(E106:H106) -> 0 | J106: =I106*D106 -> 0
...

Sheet §14a ods. 1 písm.b) - CNG a LNG
B2: Výpočet energetického obsahu udržateľných pohonných látok z celkového energetického obsahu stlačeného zemného plynu a skvapalneného zemného plynu
B4: podľa § 14a ods. 1 písm. b) zákona č. 309/2009 Z. z.
D6: Kalkulácia pre rok: | E6: ='Ročná správa-sumár'!E6 -> 2026
E7: Požadovaný cieľ | F7: Dosiahnuté plnenie
D8: Energetický obsah podľa § 14a ods. 1 písm. b): | E8: =VLOOKUP(E6,Ciele!A2:O7,13,0) -> 0.06 | F8: =IFERROR((I60/I55),"-") -> - | G8: =I60-I62 -> 0 | H8: =IF(G8<-0.1,"Chýbajúca energia",IF(G8>0.1,"Energia nad cieľ","-")) -> -
D9: Energetický obsah pokročilých udržateľných pohonných látok podľa § 14a ods. 11: | E9: =VLOOKUP(E6,Ciele!A2:O7,10,0) -> 0.0105 | F9: =IFERROR((I50/I55),"-") -> - | G9: =I50-I63 -> 0 | H9: =IF(G9<-0.1,"Chýbajúca energia",IF(G9>0.1,"Energia nad cieľ","-")) -> -
D11: Obmedzenie podľa § 14a ods. 9 písm. b) [suroviny podľa prílohy č. 1 časti B]: | E11: =VLOOKUP(E6,Ciele!A2:O7,15,0) -> 0.0176 | F11: =IFERROR((I51/I55),"-") -> - | G11: =ABS((E11*I55)-I51) -> 0 | H11: =IF((E11*I55)-I51<0,"Energia nad obmedzenie",IF((E11*I55)-I51>0.1,"Energia do obmedzenia","-")) -> -
D12: Obmedzenie podľa § 14a ods. 9 písm. c) [potravinárske a krmovinárske plodiny]: | E12: =VLOOKUP(E6,Ciele!A2:O7,14,0) -> 0.065 | F12: =IFERROR((I48/I55),"-") -> - | G12: =ABS((E12*I55)-I48) -> 0 | H12: =IF((E12*I55)-I48<0,"Energia nad obmedzenie",IF((E12*I55)-I48>0.1,"Energia do obmedzenia","-")) -> -
B14: STLAČENÝ ZEMNÝ PLYN - CNG | C14: MJ/kg | D14: 1. štvrťrok | E14: 2. štvrťrok | F14: 3. štvrťrok | G14: 4. štvrťrok | H14: Množstvo v kilogramoch za kalendárny rok | I14: Množstvo v MJ za kalendárny rok
D15: v kilogramoch
B16: CNG celkom | H16: =SUM(D16:G16) -> 0
B17: Bioplyn z potravinárskych a krmovinárskych plodín | C17: 50 | H17: =SUM(D17:G17) -> 0 | I17: =H17*C17 -> 0
B18: Bioplyn iné | C18: 50 | H18: =SUM(D18:G18) -> 0 | I18: =H18*C18 -> 0
B19: Bioplyn zo surovín podľa prílohy č. 1 časti A | C19: 50 | H19: =SUM(D19:G19) -> 0 | I19: =H19*C19 -> 0
B20: Bioplyn zo surovín podľa prílohy č. 1 časti B | C20: 50 | H20: =SUM(D20:G20) -> 0 | I20: =H20*C20 -> 0
B21: RFNBO/e-fuels | C21: 120 | H21: =SUM(D21:G21) -> 0 | I21: =H21*C21 -> 0
B22: Celkovo udržateľné pohonné látky | D22: =SUM(D17:D21) -> 0 | E22: =SUM(E17:E21) -> 0 | F22: =SUM(F17:F21) -> 0 | G22: =SUM(G17:G21) -> 0 | H22: =SUM(D22:G22) -> 0
B23: Celkovo fosílna časť | C23: 45.1 | D23: =D16-D22 -> 0 | E23: =E16-E22 -> 0 | F23: =F16-F22 -> 0 | G23: =G16-G22 -> 0 | H23: =SUM(D23:G23) -> 0 | I23: =H23*C23 -> 0
B25: SKVAPALNENÝ ZEMNÝ PLYN - LNG | C25: MJ/kg | D25: 1. štvrťrok | E25: 2. štvrťrok | F25: 3. štvrťrok | G25: 4. štvrťrok | H25: Množstvo v kilogramoch za kalendárny rok | I25: Množstvo v MJ za kalendárny rok
D26: v kilogramoch
B27: LNG celkom | H27: =SUM(D27:G27) -> 0
B28: Bioplyn z potravinárskych a krmovinárskych plodín | C28: 50 | H28: =SUM(D28:G28) -> 0 | I28: =H28*C28 -> 0
B29: Bioplyn iné | C29: 50 | H29: =SUM(D29:G29) -> 0 | I29: =H29*C29 -> 0
B30: Bioplyn zo surovín podľa prílohy č. 1 časti A | C30: 50 | H30: =SUM(D30:G30) -> 0 | I30: =H30*C30 -> 0
B31: Bioplyn zo surovín podľa prílohy č. 1 časti B | C31: 50 | H31: =SUM(D31:G31) -> 0 | I31: =H31*C31 -> 0
B32: RFNBO/e-fuels | C32: 120 | H32: =SUM(D32:G32) -> 0 | I32: =H32*C32 -> 0
B33: Celkovo udržateľné pohonné látky | D33: =SUM(D28:D32) -> 0 | E33: =SUM(E28:E32) -> 0 | F33: =SUM(F28:F32) -> 0 | G33: =SUM(G28:G32) -> 0 | H33: =SUM(D33:G33) -> 0
B34: Celkovo fosílna časť | C34: 45.1 | D34: =D27-D33 -> 0 | E34: =E27-E33 -> 0 | F34: =F27-F33 -> 0 | G34: =G27-G33 -> 0 | H34: =SUM(D34:G34) -> 0 | I34: =H34*C34 -> 0
B36: Vodík | C36: MJ/kg | D36: 1. štvrťrok | E36: 2. štvrťrok | F36: 3. štvrťrok | G36: 4. štvrťrok | H36: Množstvo v kilogramoch za kalendárny rok | I36: Množstvo v MJ za kalendárny rok
D37: v kilogramoch
B38: Vodík celkom | H38: =SUM(D38:G38) -> 0
B39: Bioplyn z potravinárskych a krmovinárskych plodín | C39: 50 | H39: =SUM(D39:G39) -> 0 | I39: =H39*C39 -> 0
B40: Bioplyn iné | C40: 50 | H40: =SUM(D40:G40) -> 0 | I40: =H40*C40 -> 0
B41: Bioplyn zo surovín podľa prílohy č. 1 časti A | C41: 50 | H41: =SUM(D41:G41) -> 0 | I41: =H41*C41 -> 0
B42: Bioplyn zo surovín podľa prílohy č. 1 časti B | C42: 50 | H42: =SUM(D42:G42) -> 0 | I42: =H42*C42 -> 0
B43: RFNBO/e-fuels | C43: 120 | H43: =SUM(D43:G43) -> 0 | I43: =H43*C43 -> 0
B44: Celkovo udržateľné pohonné látky | D44: =SUM(D39:D43) -> 0 | E44: =SUM(E39:E43) -> 0 | F44: =SUM(F39:F43) -> 0 | G44: =SUM(G39:G43) -> 0 | H44: =SUM(D44:G44) -> 0
B45: Celkovo fosílna časť | C45: 45.1 | D45: =D38-D44 -> 0 | E45: =E38-E44 -> 0 | F45: =F38-F44 -> 0 | G45: =G38-G44 -> 0 | H45: =SUM(D45:G45) -> 0 | I45: =H45*C45 -> 0
B47: Energetické obsahy
B48: Energetický obsah udržateľných pohonných látok z potravinárskych a krmovinárskych plodín | I48: =I39+I28+I17 -> 0
B49: Energetický obsah iných udržateľných pohonných látok | I49: =I40+I29+I18 -> 0
B50: Energetický obsah udržateľných pohonných látok zo surovín podľa prílohy č. 1 časti A | I50: =I41+I30+I19 -> 0
B51: Energetický obsah udržateľných pohonných látok zo surovín podľa prílohy č. 1 časti B | I51: =I42+I31+I20 -> 0
B52: Energetický obsah RFNBO/e-fuels | I52: =I43+I32+I21 -> 0
B53: Energetický obsah udržateľných pohonných látok (BIO energia) | I53: =SUM(I48:I52) -> 0
B54: Energetický obsah fosílnych pohonných látok (FOSIL energia) | I54: =I45+I34+I23 -> 0
B55: Energetický obsah SPOLU | I55: =SUM(I53:I54) -> 0
B56: Obmedzenia podľa § 14a ods. 9 písm. b) a c) zákona č. 309/2009 Z. z. [suroviny podľa prílohy č. 1 časti B a potravinárske a krmovinárske plodiny]
B57: MAXIMÁLNY energetický obsah udržateľných pohonných látok vyrobených z potravinárskych a krmovinárskych plodín | I57: =MIN(I48,I55*E12) -> 0
B58: MAXIMÁLNY energetický obsah udržateľných pohonných látok vyrobených zo surovín podľa prílohy č. 1 časti B | I58: =MIN(I51,I55*E11) -> 0
B59: Energetický obsah udržateľných pohonných látok zo surovín podľa prílohy č. 1 a RFNBO (dvojnásobne započítateľné) | I59: =(I58+I50+I52)*2 -> 0
B60: Energetický obsah udržateľných pohonných látok (započítateľný) | I60: =I57+I59+I49 -> 0
B62: MINIMÁLNY energetický obsah udržateľných pohonných látok, ktorý musí byť uvedený na trh podľa § 14a ods. 1 písm. b) v príslušnom kalendárnom roku: | I62: =E8*I55 -> 0
B63: MINIMÁLNY energetický obsah udržateľných pohonných látok zo surovín podľa prílohy č. 1 časti A, ktorý musí byť uvedený na trh podľa § 14a ods. 11 v príslušnom kalendárnom roku: | I63: =E9*I55 -> 0

Sheet RFNBO z výroby+SAF
B2: Množstvo udržateľných pohonných látok podľa § 14a ods. 9 písm. d) a h) zákona č. 309/2009 Z. z.
B3: Palivá z obnoviteľných zdrojov nebiologického pôvodu (RFNBO) | E3: Množstvo (v litroch)
B4: Množstvo RFNBO podľa § 14a ods. 9 písm. d) | C4: 120 | G4: =E4*C4 -> 0
B5: Množstvo e-fuels podľa § 14a ods. 9 písm. d) | G5: =E5*C5 -> 0
B6: Množstvo udržateľných pohonných látok dodaných leteckej a námornej doprave podľa § 14a ods. 9 písm. h) | E6: Množstvo (v litroch)
B7: Udržateľné pohonné látky zo surovín podľa prílohy č. 1 časti A | C7: 48 | F7: =E7*C7 -> 0 | G7: =F7*1.2 -> 0
B8: Udržateľné pohonné látky, ktorými je RFNBO/e-fuels | C8: 35 | F8: =E8*C8 -> 0 | G8: =F8*1.5 -> 0

Sheet Kredity z E+prevod podľa §14cc
B2: Množstvo energie z kreditov podľa § 14cb a prevodu časti plnenia referenčných hodnôt podľa § 14cc zákona č. 309/2009 Z. z.
B3: Množstvo uplatnených kreditov a nakúpenej energie
E4: Množstvo energie
B5: Chýbajúce množstvo energie | C5: Celkové | E5: =IF('Ročná správa-sumár'!E9>0,"-",'Ročná správa-sumár'!E9) -> 0 | F5: Nákup
C6: z udržateľných pohonných látok zo surovín podľa prílohy č. 1 časti A | E6: =IF('Ročná správa-sumár'!E10>0,"-",'Ročná správa-sumár'!E10) -> 0 | F6: Predaj | H6: Po multiplikácii
B7: Uplatnené množstvo - SPOLU | C7: Množstvo kreditov podľa § 14cb (obnoviteľná elektrina) | D7: kWh | E7: =SUMIFS(F28:F357,B28:B357,B27,C28:C357,C7)*3.6 -> 0 | H7: =E7*2 -> 0
B8: Nakúpené množstvo - SPOLU | C8: Energia z udržateľných pohonných látok z potravinárskych a krmovinárskych plodín | D8: MJ | E8: =SUMIFS(F28:F349,B28:B349,F5,C28:C349,C8) -> 0
C9: Energia z iných udržateľných pohonných látok | D9: MJ | E9: =SUMIFS(F28:F349,B28:B349,F5,C28:C349,C9) -> 0
C10: Energia z udržateľných pohonných látok zo surovín podľa prílohy č. 1 časti A | D10: MJ | E10: =SUMIFS(F28:F349,B28:B349,F5,C28:C349,C10) -> 0 | H10: =E10*2 -> 0
C11: Energia z udržateľných pohonných látok zo surovín podľa prílohy č. 1 časti B | D11: MJ | E11: =SUMIFS(F28:F349,B28:B349,F5,C28:C349,C11) -> 0 | H11: =E11*2 -> 0
C12: Energia z RFNBO/e-fuels | D12: MJ | E12: =SUMIFS(F28:F349,B28:B349,F5,C28:C349,C12) -> 0 | H12: =E12*2 -> 0
B13: Množstvo predanej energie
E14: Množstvo energie
B15: Dostupné množstvo energie na predaj/prevod | C15: SPOLU | E15: =IF('Ročná správa-sumár'!E9<0,0,'Ročná správa-sumár'!E9) -> 0
C16: Nad obmedzenie - z udržateľných pohonných látok z potravinárskych a krmovinárskych plodín | E16: ='Ročná správa-sumár'!I15 -> 0
C17: Nad obmedzenie - z udržateľných pohonných látok zo surovín podľa prílohy č. 1 časti B | E17: ='Ročná správa-sumár'!I16 -> 0
C18: z udržateľných pohonných látok z potravinárskych a krmovinárskych plodín | E18: =MIN(E15,IF('Ročná správa-sumár'!G15<0,0,'Ročná správa-sumár'!G15)) -> 0
C19: z udržateľných pohonných látok zo surovín podľa prílohy č. 1 časti A | E19: =MIN(E15/2,IF('Ročná správa-sumár'!E10<0,0,'Ročná správa-sumár'!E10)) -> 0
C20: z udržateľných pohonných látok zo surovín podľa prílohy č. 1 časti B | E20: =MIN((E15/2),IF('Ročná správa-sumár'!G16<0,0,'Ročná správa-sumár'!G16)) -> 0
B21: Predané množstvo - SPOLU | C21: Energia z udržateľných pohonných látok z potravinárskych a krmovinárskych plodín | D21: MJ | E21: =SUMIFS(F28:F357,B28:B357,F6,C28:C357,C21) -> 0
C22: Energia z iných udržateľných pohonných látok | D22: MJ | E22: =SUMIFS(F28:F357,B28:B357,F6,C28:C357,C22) -> 0
C23: Energia z udržateľných pohonných látok zo surovín podľa prílohy č. 1 časti A | D23: MJ | E23: =SUMIFS(F28:F357,B28:B357,F6,C28:C357,C23) -> 0
C24: Energia z udržateľných pohonných látok zo surovín podľa prílohy č. 1 časti B | D24: MJ | E24: =SUMIFS(F28:F357,B28:B357,F6,C28:C357,C24) -> 0
C25: Energia z RFNBO/e-fuels | D25: MJ | E25: =SUMIFS(F28:F357,B28:B357,F6,C28:C357,C25) -> 0
B26: Druh pohybu | C26: Kredit z elektriny z obnoviteľných zdrojov
B27: Uplatnenie kreditov | C27: Druh | E27: Množstvo | G27: Evidenčné číslo vyradenia kreditov do spotreby
C28: =IF(B28=B27,C7,"") | D28: =IFERROR(VLOOKUP(C28,C7:D12,2,0),"") | F28: =E28 -> 0
C29: =IF(B29=B27,C7,"") | D29: =IFERROR(VLOOKUP(C29,C7:D12,2,0),"") | F29: =E29 -> 0
C30: =IF(B30=B27,C7,"") | D30: =IFERROR(VLOOKUP(C30,C7:D12,2,0),"") | F30: =E30 -> 0
C31: =IF(B31=B27,C7,"") | D31: =IFERROR(VLOOKUP(C31,C7:D12,2,0),"") | F31: =E31 -> 0
C32: =IF(B32=B27,C7,"") | D32: =IFERROR(VLOOKUP(C32,C7:D12,2,0),"") | F32: =E32 -> 0
C33: =IF(B33=B27,C7,"") | D33: =IFERROR(VLOOKUP(C33,C7:D12,2,0),"") | F33: =E33 -> 0
C34: =IF(B34=B27,C7,"") | D34: =IFERROR(VLOOKUP(C34,C7:D12,2,0),"") | F34: =E34 -> 0
C35: =IF(B35=B27,C7,"") | D35: =IFERROR(VLOOKUP(C35,C7:D12,2,0),"") | F35: =E35 -> 0
C36: =IF(B36=B27,C7,"") | D36: =IFERROR(VLOOKUP(C36,C7:D12,2,0),"") | F36: =E36 -> 0
C37: =IF(B37=B27,C7,"") | D37: =IFERROR(VLOOKUP(C37,C7:D12,2,0),"") | F37: =E37 -> 0
C38: =IF(B38=B27,C7,"") | D38: =IFERROR(VLOOKUP(C38,C7:D12,2,0),"") | F38: =E38 -> 0
D39: =IFERROR(VLOOKUP(C39,C7:D12,2,0),"") | F39: =E39 -> 0
C40: =IF(B40=B27,C7,"") | D40: =IFERROR(VLOOKUP(C40,C7:D12,2,0),"") | F40: =E40 -> 0
C41: =IF(B41=B27,C7,"") | D41: =IFERROR(VLOOKUP(C41,C7:D12,2,0),"") | F41: =E41 -> 0
C42: =IF(B42=B27,C7,"") | D42: =IFERROR(VLOOKUP(C42,C7:D12,2,0),"") | F42: =E42 -> 0
C43: =IF(B43=B27,C7,"") | D43: =IFERROR(VLOOKUP(C43,C7:D12,2,0),"") | F43: =E43 -> 0
C44: =IF(B44=B27,C7,"") | D44: =IFERROR(VLOOKUP(C44,C7:D12,2,0),"") | F44: =E44 -> 0
C45: =IF(B45=B27,C7,"") | D45: =IFERROR(VLOOKUP(C45,C7:D12,2,0),"") | F45: =E45 -> 0
C46: =IF(B46=B27,C7,"") | D46: =IFERROR(VLOOKUP(C46,C7:D12,2,0),"") | F46: =E46 -> 0
C47: =IF(B47=B27,C7,"") | D47: =IFERROR(VLOOKUP(C47,C7:D12,2,0),"") | F47: =E47 -> 0
C48: =IF(B48=B27,C7,"") | D48: =IFERROR(VLOOKUP(C48,C7:D12,2,0),"") | F48: =E48 -> 0
C49: =IF(B49=B27,C7,"") | D49: =IFERROR(VLOOKUP(C49,C7:D12,2,0),"") | F49: =E49 -> 0
B50: Druh pohybu | C50: Prevod časti plnenia referenčných hodnôt
B51: Nákup/Predaj | C51: Druh | E51: Množstvo | G51: Názov Spoločnosti | H51: IČO | I51: DIČ
D52: =IFERROR(VLOOKUP(C52,C21:D25,2,0),"") | F52: {=_xlfn.IFS(B52=F5,E52*1,B52=F6,E52*-1,B52=#REF!,E52*1,B52="",0)} -> #REF!
D53: =IFERROR(VLOOKUP(C53,C21:D25,2,0),"") | F53: {=_xlfn.IFS(B53=F5,E53*1,B53=F6,E53*-1,B53=#REF!,E53*1,B53="",0)} -> #REF!
D54: =IFERROR(VLOOKUP(C54,C21:D25,2,0),"") | F54: {=_xlfn.IFS(B54=F5,E54*1,B54=F6,E54*-1,B54=#REF!,E54*1,B54="",0)} -> #REF!
D55: =IFERROR(VLOOKUP(C55,C21:D25,2,0),"") | F55: {=_xlfn.IFS(B55=F5,E55*1,B55=F6,E55*-1,B55=#REF!,E55*1,B55="",0)} -> #REF!
D56: =IFERROR(VLOOKUP(C56,C21:D25,2,0),"") | F56: {=_xlfn.IFS(B56=F5,E56*1,B56=F6,E56*-1,B56=#REF!,E56*1,B56="",0)} -> #REF!
D57: =IFERROR(VLOOKUP(C57,C21:D25,2,0),"") | F57: {=_xlfn.IFS(B57=F5,E57*1,B57=F6,E57*-1,B57=#REF!,E57*1,B57="",0)} -> #REF!
D58: =IFERROR(VLOOKUP(C58,C21:D25,2,0),"") | F58: {=_xlfn.IFS(B58=F5,E58*1,B58=F6,E58*-1,B58=#REF!,E58*1,B58="",0)} -> #REF!
D59: =IFERROR(VLOOKUP(C59,C21:D25,2,0),"") | F59: {=_xlfn.IFS(B59=F5,E59*1,B59=F6,E59*-1,B59=#REF!,E59*1,B59="",0)} -> #REF!
D60: =IFERROR(VLOOKUP(C60,C21:D25,2,0),"") | F60: {=_xlfn.IFS(B60=F5,E60*1,B60=F6,E60*-1,B60=#REF!,E60*1,B60="",0)} -> #REF!
D61: =IFERROR(VLOOKUP(C61,C21:D25,2,0),"") | F61: {=_xlfn.IFS(B61=F5,E61*1,B61=F6,E61*-1,B61=#REF!,E61*1,B61="",0)} -> #REF!
D62: =IFERROR(VLOOKUP(C62,C21:D25,2,0),"") | F62: {=_xlfn.IFS(B62=F5,E62*1,B62=F6,E62*-1,B62=#REF!,E62*1,B62="",0)} -> #REF!
D63: =IFERROR(VLOOKUP(C63,C21:D25,2,0),"") | F63: {=_xlfn.IFS(B63=F5,E63*1,B63=F6,E63*-1,B63=#REF!,E63*1,B63="",0)} -> #REF!
D64: =IFERROR(VLOOKUP(C64,C21:D25,2,0),"") | F64: {=_xlfn.IFS(B64=F5,E64*1,B64=F6,E64*-1,B64=#REF!,E64*1,B64="",0)} -> #REF!
D65: =IFERROR(VLOOKUP(C65,C21:D25,2,0),"") | F65: {=_xlfn.IFS(B65=F5,E65*1,B65=F6,E65*-1,B65=#REF!,E65*1,B65="",0)} -> #REF!
D66: =IFERROR(VLOOKUP(C66,C21:D25,2,0),"") | F66: {=_xlfn.IFS(B66=F5,E66*1,B66=F6,E66*-1,B66=#REF!,E66*1,B66="",0)} -> #REF!
D67: =IFERROR(VLOOKUP(C67,C21:D25,2,0),"") | F67: {=_xlfn.IFS(B67=F5,E67*1,B67=F6,E67*-1,B67=#REF!,E67*1,B67="",0)} -> #REF!
D68: =IFERROR(VLOOKUP(C68,C21:D25,2,0),"") | F68: {=_xlfn.IFS(B68=F5,E68*1,B68=F6,E68*-1,B68=#REF!,E68*1,B68="",0)} -> #REF!
D69: =IFERROR(VLOOKUP(C69,C21:D25,2,0),"") | F69: {=_xlfn.IFS(B69=F5,E69*1,B69=F6,E69*-1,B69=#REF!,E69*1,B69="",0)} -> #REF!
D70: =IFERROR(VLOOKUP(C70,C21:D25,2,0),"") | F70: {=_xlfn.IFS(B70=F5,E70*1,B70=F6,E70*-1,B70=#REF!,E70*1,B70="",0)} -> #REF!
D71: =IFERROR(VLOOKUP(C71,C21:D25,2,0),"") | F71: {=_xlfn.IFS(B71=F5,E71*1,B71=F6,E71*-1,B71=#REF!,E71*1,B71="",0)} -> #REF!
D72: =IFERROR(VLOOKUP(C72,C21:D25,2,0),"") | F72: {=_xlfn.IFS(B72=F5,E72*1,B72=F6,E72*-1,B72=#REF!,E72*1,B72="",0)} -> #REF!
D73: =IFERROR(VLOOKUP(C73,C21:D25,2,0),"") | F73: {=_xlfn.IFS(B73=F5,E73*1,B73=F6,E73*-1,B73=#REF!,E73*1,B73="",0)} -> #REF!
D74: =IFERROR(VLOOKUP(C74,C21:D25,2,0),"") | F74: {=_xlfn.IFS(B74=F5,E74*1,B74=F6,E74*-1,B74=#REF!,E74*1,B74="",0)} -> #REF!
D75: =IFERROR(VLOOKUP(C75,C21:D25,2,0),"") | F75: {=_xlfn.IFS(B75=F5,E75*1,B75=F6,E75*-1,B75=#REF!,E75*1,B75="",0)} -> #REF!
D76: =IFERROR(VLOOKUP(C76,C21:D25,2,0),"") | F76: {=_xlfn.IFS(B76=F5,E76*1,B76=F6,E76*-1,B76=#REF!,E76*1,B76="",0)} -> #REF!
D77: =IFERROR(VLOOKUP(C77,C21:D25,2,0),"") | F77: {=_xlfn.IFS(B77=F5,E77*1,B77=F6,E77*-1,B77=#REF!,E77*1,B77="",0)} -> #REF!
D78: =IFERROR(VLOOKUP(C78,C21:D25,2,0),"") | F78: {=_xlfn.IFS(B78=F5,E78*1,B78=F6,E78*-1,B78=#REF!,E78*1,B78="",0)} -> #REF!
D79: =IFERROR(VLOOKUP(C79,C21:D25,2,0),"") | F79: {=_xlfn.IFS(B79=F5,E79*1,B79=F6,E79*-1,B79=#REF!,E79*1,B79="",0)} -> #REF!
D80: =IFERROR(VLOOKUP(C80,C21:D25,2,0),"") | F80: {=_xlfn.IFS(B80=F5,E80*1,B80=F6,E80*-1,B80=#REF!,E80*1,B80="",0)} -> #REF!
D81: =IFERROR(VLOOKUP(C81,C21:D25,2,0),"") | F81: {=_xlfn.IFS(B81=F5,E81*1,B81=F6,E81*-1,B81=#REF!,E81*1,B81="",0)} -> #REF!
D82: =IFERROR(VLOOKUP(C82,C21:D25,2,0),"") | F82: {=_xlfn.IFS(B82=F5,E82*1,B82=F6,E82*-1,B82=#REF!,E82*1,B82="",0)} -> #REF!
D83: =IFERROR(VLOOKUP(C83,C21:D25,2,0),"") | F83: {=_xlfn.IFS(B83=F5,E83*1,B83=F6,E83*-1,B83=#REF!,E83*1,B83="",0)} -> #REF!
D84: =IFERROR(VLOOKUP(C84,C21:D25,2,0),"") | F84: {=_xlfn.IFS(B84=F5,E84*1,B84=F6,E84*-1,B84=#REF!,E84*1,B84="",0)} -> #REF!
D85: =IFERROR(VLOOKUP(C85,C21:D25,2,0),"") | F85: {=_xlfn.IFS(B85=F5,E85*1,B85=F6,E85*-1,B85=#REF!,E85*1,B85="",0)} -> #REF!
D86: =IFERROR(VLOOKUP(C86,C21:D25,2,0),"") | F86: {=_xlfn.IFS(B86=F5,E86*1,B86=F6,E86*-1,B86=#REF!,E86*1,B86="",0)} -> #REF!
D87: =IFERROR(VLOOKUP(C87,C21:D25,2,0),"") | F87: {=_xlfn.IFS(B87=F5,E87*1,B87=F6,E87*-1,B87=#REF!,E87*1,B87="",0)} -> #REF!
D88: =IFERROR(VLOOKUP(C88,C21:D25,2,0),"") | F88: {=_xlfn.IFS(B88=F5,E88*1,B88=F6,E88*-1,B88=#REF!,E88*1,B88="",0)} -> #REF!
D89: =IFERROR(VLOOKUP(C89,C21:D25,2,0),"") | F89: {=_xlfn.IFS(B89=F5,E89*1,B89=F6,E89*-1,B89=#REF!,E89*1,B89="",0)} -> #REF!
D90: =IFERROR(VLOOKUP(C90,C21:D25,2,0),"") | F90: {=_xlfn.IFS(B90=F5,E90*1,B90=F6,E90*-1,B90=#REF!,E90*1,B90="",0)} -> #REF!
D91: =IFERROR(VLOOKUP(C91,C21:D25,2,0),"") | F91: {=_xlfn.IFS(B91=F5,E91*1,B91=F6,E91*-1,B91=#REF!,E91*1,B91="",0)} -> #REF!
D92: =IFERROR(VLOOKUP(C92,C21:D25,2,0),"") | F92: {=_xlfn.IFS(B92=F5,E92*1,B92=F6,E92*-1,B92=#REF!,E92*1,B92="",0)} -> #REF!
D93: =IFERROR(VLOOKUP(C93,C21:D25,2,0),"") | F93: {=_xlfn.IFS(B93=F5,E93*1,B93=F6,E93*-1,B93=#REF!,E93*1,B93="",0)} -> #REF!
D94: =IFERROR(VLOOKUP(C94,C21:D25,2,0),"") | F94: {=_xlfn.IFS(B94=F5,E94*1,B94=F6,E94*-1,B94=#REF!,E94*1,B94="",0)} -> #REF!
D95: =IFERROR(VLOOKUP(C95,C21:D25,2,0),"") | F95: {=_xlfn.IFS(B95=F5,E95*1,B95=F6,E95*-1,B95=#REF!,E95*1,B95="",0)} -> #REF!
D96: =IFERROR(VLOOKUP(C96,C21:D25,2,0),"") | F96: {=_xlfn.IFS(B96=F5,E96*1,B96=F6,E96*-1,B96=#REF!,E96*1,B96="",0)} -> #REF!
D97: =IFERROR(VLOOKUP(C97,C21:D25,2,0),"") | F97: {=_xlfn.IFS(B97=F5,E97*1,B97=F6,E97*-1,B97=#REF!,E97*1,B97="",0)} -> #REF!
D98: =IFERROR(VLOOKUP(C98,C21:D25,2,0),"") | F98: {=_xlfn.IFS(B98=F5,E98*1,B98=F6,E98*-1,B98=#REF!,E98*1,B98="",0)} -> #REF!
D99: =IFERROR(VLOOKUP(C99,C21:D25,2,0),"") | F99: {=_xlfn.IFS(B99=F5,E99*1,B99=F6,E99*-1,B99=#REF!,E99*1,B99="",0)} -> #REF!
D100: =IFERROR(VLOOKUP(C100,C21:D25,2,0),"") | F100: {=_xlfn.IFS(B100=F5,E100*1,B100=F6,E100*-1,B100=#REF!,E100*1,B100="",0)} -> #REF!
D101: =IFERROR(VLOOKUP(C101,C21:D25,2,0),"") | F101: {=_xlfn.IFS(B101=F5,E101*1,B101=F6,E101*-1,B101=#REF!,E101*1,B101="",0)} -> #REF!
...

Sheet Ciele
B1: § 14a ods. 1 písm. a) - motorová nafta a motorový benzín | J1: § 14a ods. 1 písm. b) - CNG a LNG
A2: ROK | B2: Bioetanolová zložka | C2: Objem FAME | D2: Referenčná hodnota podľa § 14f | E2: Referenčná hodnota podľa § 14a ods. 10 (RFNBO) | F2: Referenčná hodnota podľa § 14f + referenčná hodnota podľa § 14a ods. 10 (RFNBO) | G2: Referenčná hodnota podľa § 14a ods. 1 písm. a) | H2: Obmedzenie podľa § 14a ods. 9 písm. c) | I2: Obmedzenie podľa § 14a ods. 9 písm. b) | J2: Referenčná hodnota podľa § 14a ods. 11 | K2: Referenčná hodnota podľa § 14a ods. 10 (RFNBO) | L2: Referenčná hodnota podľa § 14f + referenčná hodnota podľa § 14a ods. 10 (RFNBO) | M2: Referenčná hodnota podľa § 14a ods. 1 písm. b) | N2: Obmedzenie podľa § 14a ods. 9 písm. c) | O2: Obmedzenie podľa § 14a ods. 9 písm. b)
A3: 2026 | B3: 0.09 | C3: 0.069 | D3: 0.0105 | E3: 0 | F3: =D3+E3 -> 0.0105 | G3: 0.095 | H3: 0.065 | I3: 0.0176 | J3: 0.0105 | K3: 0 | L3: =J3+K3 -> 0.0105 | M3: 0.06 | N3: 0.065 | O3: 0.0176
A4: 2027 | B4: 0.09 | C4: 0.069 | D4: 0.0125 | E4: 0 | F4: =D4+E4 -> 0.0125 | G4: 0.102 | H4: 0.065 | I4: 0.0176 | J4: 0.0125 | K4: 0 | L4: =J4+K4 -> 0.0125 | M4: 0.102 | N4: 0.065 | O4: 0.0176
A5: 2028 | B5: 0.09 | C5: 0.069 | D5: 0.0125 | E5: 0 | F5: =D5+E5 -> 0.0125 | G5: 0.115 | H5: 0.065 | I5: 0.0176 | J5: 0.0125 | K5: 0 | L5: =J5+K5 -> 0.0125 | M5: 0.115 | N5: 0.065 | O5: 0.0176
A6: 2029 | B6: 0.09 | C6: 0.069 | D6: 0.0175 | E6: 0 | F6: =D6+E6 -> 0.0175 | G6: 0.16 | H6: 0.065 | I6: 0.0176 | J6: 0.0175 | K6: 0 | L6: =J6+K6 -> 0.0175 | M6: 0.16 | N6: 0.065 | O6: 0.0176
A7: 2030 | B7: 0.09 | C7: 0.069 | D7: 0.0225 | E7: 0.005 | F7: =D7+E7 -> 0.0275 | G7: 0.27 | H7: 0.065 | I7: 0.0176 | J7: 0.0225 | K7: 0.005 | L7: =J7+K7 -> 0.0275 | M7: 0.27 | N7: 0.065 | O7: 0.0176
