Workbook
Name TM1REBUILDOPTION: 0

Sheet ID spoločnosti
B2: Subjekt (obchodné meno právnickej osoby, meno a priezvisko fyzickej osoby)
B5: IČO | P5: DIČ
B7: Adresa sídla (PO) / trvalého pobytu (FO):
B8: Ulica | V8: Číslo
B10: PSČ | K10: Obec
B12: Meno a priezvisko osoby, ktorá je oprávnená konať za subjekt podávajúci správu
B15: Tel. kontakt | N15: Emailová adresa
B17: Poznámky

Sheet Ročná správa-sumár
I1: ver 6.13
B2: Ročná správa o plnení referenčných hodnôt pri uvádzaní pohonných látok na trh
B4: podľa § 14a ods. 4 písm. d) zákona č. 309/2009 Z. z. o podpore obnoviteľných zdrojov energie a vysoko účinnej kombinovanej výroby a o zmene a doplnení niektorých zákonov
D6: Kalkulácia pre rok: | E6: 2026
B7: Energia z udržateľných pohonných látok nedodaná na trh
E8: Množstvo energie | G8: Potenciálna pokuta
C9: Energia z udržateľných pohonných látok podľa § 14a ods. 1: | E9: =G75-G74 -> 0 | F9: =IF(E9<-0.1,"Chýbajúca energia",IF(E9>0.1,"Energia nad cieľ","-")) -> - | G9: =MIN(ROUND(IF(E9<0.16,G76*0.05,G76*0.02),2),50000000) -> 0
C10: Energia z pokročilých udržateľných pohonných látok a biopalív podľa § 14a ods. 11 a § 14f ods. 2: | E10: =G78-G77 -> 0 | F10: =IF(E10<-0.1,"Chýbajúca energia",IF(E10>0.1,"Energia nad cieľ","-")) -> - | G10: =ROUND(G79*0.05,2) -> 0
C11: Energia z udržateľných pohonných látok z obnoviteľných zdrojov nebiologického pôvodu podľa § 14a ods. 10: | E11: =G81-G80 -> 0 | F11: =IF(E11<-0.1,"Chýbajúca energia",IF(E11>0.1,"Energia nad cieľ","-")) -> - | G11: =ROUND(G80*0.05,2) -> 0
C12: Objem metylesteru mastných kyselín podľa § 14a ods. 3 písm. a): | E12: Kvartálna povinnosť | G12: ='§14a ods. 1 písm.a) - BA a MN'!I117 -> 0
C13: Objem bioetanolovej zložky podľa §14a ods. 3 písm. b): | G13: ='§14a ods. 1 písm.a) - BA a MN'!I76 -> 0
E14: Výška obmedzenia | F14: Dosiahnuté plnenie | G14: Celková energia uvedená na trh | H14: Do obmedzenia | I14: Nad obmedzenie
C15: Obmedzenie podľa § 14a ods. 9 písm. c) [potravinárske a krmovinárske plodiny]: | E15: 0.065 | F15: =IFERROR((E51+E62)/E59,"-") -> - | G15: =E24+E30+E36+E43 -> 0 | H15: =IF((E15*E59)-G15>0,(E15*E59)-G15,0) -> 0 | I15: =IF(G15-(E15*E59)<0,0,G15-(E15*E59)) -> 0
C16: Obmedzenie podľa § 14a ods. 9 písm. b) [suroviny podľa prílohy č. 1 časti B]: | E16: 0.0176 | F16: =IFERROR((E54+E65)/E59,"-") -> - | G16: =E27+E33+E39+E46 -> 0 | H16: =IF((E16*E59)-G16>0,(E16*E59)-G16,0) -> 0 | I16: =IF(G16-(E16*E59)<0,0,G16-(E16*E59)) -> 0
B18: Množstvo energie udržateľných pohonných látok podľa § 14a ods. 9 písm. d) a h) zákona č. 309/2009 Z. z.
B19: Množstvo energie RFNBO/e-fuels podľa § 14a ods. 9 písm. d) | E19: ='RFNBO z výroby+SAF'!G4+'RFNBO z výroby+SAF'!G5 -> 0
B20: Množstvo energie udržateľných pohonných látok dodávaných leteckej a námornej doprave podľa § 14a ods. 9 písm. h) | E20: ='RFNBO z výroby+SAF'!G7+'RFNBO z výroby+SAF'!G8 -> 0
B21: Množstvo energie z kreditov podľa § 14cb a z prevodu časti plnenia referenčných hodnôt podľa § 14cc zákona č. 309/2009 Z. z.
B22: Množstvo nakúpenej/uplatnenej energie
B23: Množstvo energie z kreditov podľa § 14cb (obnoviteľná elektrina) | E23: ='Kredity z E+prevod podľa §14cc'!E7 -> 0
B24: Množstvo energie z udržateľných pohonných látok z potravinárskych a krmovinárskych plodín | E24: ='Kredity z E+prevod podľa §14cc'!E8 -> 0
B25: Množstvo energie z iných udržateľných pohonných látok | E25: ='Kredity z E+prevod podľa §14cc'!E9 -> 0
B26: Množstvo energie z udržateľných pohonných látok zo surovín podľa prílohy č. 1 časti A | E26: ='Kredity z E+prevod podľa §14cc'!E10 -> 0
B27: Množstvo energie z udržateľných pohonných látok zo surovín podľa prílohy č. 1 časti B | E27: ='Kredity z E+prevod podľa §14cc'!E11 -> 0
B28: Množstvo energie z RFNBO/e-fuels | E28: ='Kredity z E+prevod podľa §14cc'!E12 -> 0
B29: Množstvo predanej energie
B30: Množstvo energie z udržateľných pohonných látok z potravinárskych a krmovinárskych plodín | E30: ='Kredity z E+prevod podľa §14cc'!E21 -> 0
B31: Množstvo energie z iných udržateľných pohonných látok | E31: ='Kredity z E+prevod podľa §14cc'!E22 -> 0
B32: Množstvo energie z udržateľných pohonných látok zo surovín podľa prílohy č. 1 časti A | E32: ='Kredity z E+prevod podľa §14cc'!E23 -> 0
B33: Množstvo energie z udržateľných pohonných látok zo surovín podľa prílohy č. 1 časti B | E33: ='Kredity z E+prevod podľa §14cc'!E24 -> 0
B34: Množstvo energie z RFNBO/e-fuels | E34: ='Kredity z E+prevod podľa §14cc'!E25 -> 0
B35: Energetický obsah udržateľných pohonných látok podľa § 14a ods. 1 písm. a) zákona č. 309/2009 Z. z. (motorový benzín a motorová nafta)
B36: Energetický obsah udržateľných pohonných látok z potravinárskych a krmovinárskych plodín | E36: ='§14a ods. 1 písm.a) - BA a MN'!J152 -> 0 | H36: Cieľ / obmedzenie | I36: Dosiahnuté plnenie
B37: Energetický obsah iných udržateľných pohonných látok | E37: ='§14a ods. 1 písm.a) - BA a MN'!J153 -> 0 | G37: Energetický obsah podľa § 14a ods. 1 písm. a): | H37: ='§14a ods. 1 písm.a) - BA a MN'!F8 -> 0.095 | I37: ='§14a ods. 1 písm.a) - BA a MN'!G8 -> -
B38: Energetický obsah udržateľných pohonných látok zo surovín podľa prílohy č. 1 časti A | E38: ='§14a ods. 1 písm.a) - BA a MN'!J154 -> 0 | G38: Energetický obsah pokročilého biopaliva podľa § 14f ods. 2: | H38: ='§14a ods. 1 písm.a) - BA a MN'!F11 -> 0.0105 | I38: ='§14a ods. 1 písm.a) - BA a MN'!G11 -> -
B39: Energetický obsah udržateľných pohonných látok zo surovín podľa prílohy č. 1 časti B | E39: ='§14a ods. 1 písm.a) - BA a MN'!J155 -> 0 | G39: Energetický obsah podľa § 14a ods. 10): | H39: =VLOOKUP(E6,Ciele!A3:I7,5,0) -> 0
B40: Energetický obsah RFNBO/e-fuels | E40: ='§14a ods. 1 písm.a) - BA a MN'!J156 -> 0 | G40: Obmedzenie podľa § 14a ods. 9 písm. b): | H40: =VLOOKUP(E6,Ciele!A2:I7,9,0) -> 0.0176 | I40: =IFERROR((E39)/E41,"-") -> -
B41: Energetický obsah pohonných látok SPOLU | E41: ='§14a ods. 1 písm.a) - BA a MN'!J159 -> 0 | G41: Obmedzenie podľa § 14a ods. 9 písm. c): | H41: =VLOOKUP(E6,Ciele!A2:I7,8,0) -> 0.065 | I41: =IFERROR((E36)/E41,"-") -> -
B42: Energetický obsah udržateľných pohonných látok podľa § 14a ods. 1 písm. b) zákona č. 309/2009 Z. z. (stlačený a skvapalnený zemný plyn)
B43: Energetický obsah udržateľných pohonných látok z potravinárskych a krmovinárskych plodín | E43: ='§14a ods. 1 písm.b) - CNG a LNG'!I48 -> 0 | H43: Cieľ / obmedzenie | I43: Dosiahnuté plnenie
...

Sheet §14a ods. 1 písm.a) - BA a MN
B2: Výpočet energetického obsahu udržateľných pohonných látok z celkového energetického obsahu motorovej nafty a motorového benzínu
B4: podľa § 14a ods. 1 písm. a) zákona č. 309/2009 Z. z.
E6: Kalkulácia pre rok: | F6: ='Ročná správa-sumár'!E6 -> 2026
F7: Požadovaný cieľ | G7: Dosiahnuté plnenie
E8: Energetický obsah podľa § 14a ods. 1 písm. a): | F8: =VLOOKUP(F6,Ciele!A2:I7,7,0) -> 0.095 | G8: =IFERROR((J164)/J159,"-") -> - | H8: =J164-J166 -> 0 | I8: =IF(H8<-0.1,"Chýbajúca energia",IF(H8>0.1,"Energia nad cieľ",IF(H8=0,"-"))) -> -
E9: Objem metylesteru mastných kyselín podľa § 14a ods. 3 písm. a): | F9: =VLOOKUP(F6,Ciele!A2:I7,3,0) -> 0.069 | G9: Kvartálna povinnosť
E10: Objem bioetanolovej zložky podľa §14a ods. 3 písm. b): | F10: =VLOOKUP(F6,Ciele!A2:I7,2,0) -> 0.09 | G10: Kvartálna povinnosť
E11: Energetický obsah pokročilých biopalív podľa § 14f ods. 2: | F11: =VLOOKUP(F6,Ciele!A2:I7,4,0) -> 0.0105 | G11: =IFERROR((J154/J159),"-") -> - | H11: =J154-J167 -> 0 | I11: =IF(H11<-0.1,"Chýbajúca energia",IF(H11>0.1,"Energia nad cieľ",IF(H11=0,"-"))) -> -
E13: Obmedzenie podľa § 14a ods. 9 písm. b) [suroviny podľa prílohy č. 1 časti B]: | F13: =VLOOKUP(F6,Ciele!A2:I7,9,0) -> 0.0176 | G13: =IFERROR((J155/J159),"-") -> - | H13: =ABS((F13*J159)-J155) -> 0 | I13: =IF((F13*J159)-J155<0,"Energia nad obmedzenie",IF((F13*J159)-J155>0.1,"Energia do obmedzenia",IF((F13*J159)-J155=0,"-"))) -> -
E14: Obmedzenie podľa § 14a ods. 9 písm. c) [potravinárske a krmovinárske plodiny]: | F14: =VLOOKUP(F6,Ciele!A2:I7,8,0) -> 0.065 | G14: =IFERROR((J152/J159),"-") -> - | H14: =ABS((F14*J159)-J152) -> 0 | I14: =IF((F14*J159)-J152<0,"Energia nad obmedzenie",IF((F14*J159)-J152>0.1,"Energia do obmedzenia",IF((F14*J159)-J152=0,"-"))) -> -
B16: MOTOROVÝ BENZÍN | D16: MJ/l | E16: 1. štvrťrok | F16: 2. štvrťrok | G16: 3. štvrťrok | H16: 4. štvrťrok | I16: Množstvo v litroch za kalendárny rok | J16: Množstvo v MJ za kalendárny rok
E17: v litroch
C18: Benzín celkom | I18: =SUM(E18:H18) -> 0
C19: Bioetanol celkom, z toho: | E19: =SUM(E20:E23) -> 0 | F19: =SUM(F20:F23) -> 0 | G19: =SUM(G20:G23) -> 0 | H19: =SUM(H20:H23) -> 0
C20: Bioetanol z potravinárskych a krmovinárskych plodín | D20: 21 | I20: =SUM(E20:H20) -> 0 | J20: =I20*D20 -> 0
C21: Bioetanol iné | D21: 21 | I21: =SUM(E21:H21) -> 0 | J21: =I21*D21 -> 0
C22: Bioetanol zo surovín podľa prílohy č. 1 časti A | D22: 21 | I22: =SUM(E22:H22) -> 0 | J22: =I22*D22 -> 0
C23: Bioetanol zo surovín podľa prílohy č. 1 časti B | D23: 21 | I23: =SUM(E23:H23) -> 0 | J23: =I23*D23 -> 0
C24: ETBE (obnoviteľná časť) celkom, z toho: | E24: =SUM(E25:E48) -> 0 | F24: =SUM(F25:F48) -> 0 | G24: =SUM(G25:G48) -> 0 | H24: =SUM(H25:H48) -> 0 | I24: =SUM(E24:H24) -> 0 | J24: =I24*D24 -> 0
B25: 42 % obj. 33 % E RED III (od 1.3.2026) | C25: ETBE (obn. časť) z potravinárskych a krmovinárskych plodín | D25: 21 | I25: =SUM(E25:H25) -> 0 | J25: =I25*D25 -> 0
C26: ETBE (obn. časť) iné | D26: 21 | I26: =SUM(E26:H26) -> 0 | J26: =I26*D26 -> 0
C27: ETBE (obn. časť) zo surovín podľa prílohy č. 1 časti A | D27: 21 | I27: =SUM(E27:H27) -> 0 | J27: =I27*D27 -> 0
C28: ETBE (obn. časť) zo surovín podľa prílohy č. 1 časti B | D28: 21 | I28: =SUM(E28:H28) -> 0 | J28: =I28*D28 -> 0
B29: 47 % obj. 37 % E RED II (do 28.2.2026) | C29: ETBE (obn. časť) z potravinárskych a krmovinárskych plodín | D29: 21 | I29: =SUM(E29:H29) -> 0 | J29: =I29*D29 -> 0
C30: ETBE (obn. časť) iné | D30: 21 | I30: =SUM(E30:H30) -> 0 | J30: =I30*D30 -> 0
C31: ETBE (obn. časť) zo surovín podľa prílohy č. 1 časti A | D31: 21 | I31: =SUM(E31:H31) -> 0 | J31: =I31*D31 -> 0
C32: ETBE (obn. časť) zo surovín podľa prílohy č. 1 časti B | D32: 21 | I32: =SUM(E32:H32) -> 0 | J32: =I32*D32 -> 0
B33: Iné % | C33: ETBE (obn. časť) z potravinárskych a krmovinárskych plodín | D33: 21 | I33: =SUM(E33:H33) -> 0 | J33: =I33*D33 -> 0
B34: hodnota z POS: | C34: ETBE (obn. časť) iné | D34: 21 | I34: =SUM(E34:H34) -> 0 | J34: =I34*D34 -> 0
C35: ETBE (obn. časť) zo surovín podľa prílohy č. 1 časti A | D35: 21 | I35: =SUM(E35:H35) -> 0 | J35: =I35*D35 -> 0
C36: ETBE (obn. časť) zo surovín podľa prílohy č. 1 časti B | D36: 21 | I36: =SUM(E36:H36) -> 0 | J36: =I36*D36 -> 0
B37: Iné % | C37: ETBE (obn. časť) z potravinárskych a krmovinárskych plodín | D37: 21 | I37: =SUM(E37:H37) -> 0 | J37: =I37*D37 -> 0
B38: hodnota z POS: | C38: ETBE (obn. časť) iné | D38: 21 | I38: =SUM(E38:H38) -> 0 | J38: =I38*D38 -> 0
C39: ETBE (obn. časť) zo surovín podľa prílohy č. 1 časti A | D39: 21 | I39: =SUM(E39:H39) -> 0 | J39: =I39*D39 -> 0
C40: ETBE (obn. časť) zo surovín podľa prílohy č. 1 časti B | D40: 21 | I40: =SUM(E40:H40) -> 0 | J40: =I40*D40 -> 0
B41: Iné % | C41: ETBE (obn. časť) z potravinárskych a krmovinárskych plodín | D41: 21 | I41: =SUM(E41:H41) -> 0 | J41: =I41*D41 -> 0
B42: hodnota z POS: | C42: ETBE (obn. časť) iné | D42: 21 | I42: =SUM(E42:H42) -> 0 | J42: =I42*D42 -> 0
C43: ETBE (obn. časť) zo surovín podľa prílohy č. 1 časti A | D43: 21 | I43: =SUM(E43:H43) -> 0 | J43: =I43*D43 -> 0
C44: ETBE (obn. časť) zo surovín podľa prílohy č. 1 časti B | D44: 21 | I44: =SUM(E44:H44) -> 0 | J44: =I44*D44 -> 0
B45: Iné % | C45: ETBE (obn. časť) z potravinárskych a krmovinárskych plodín | D45: 21 | I45: =SUM(E45:H45) -> 0 | J45: =I45*D45 -> 0
...

Sheet §14a ods. 1 písm.b) - CNG a LNG
B2: Výpočet energetického obsahu udržateľných pohonných látok z celkového energetického obsahu stlačeného zemného plynu a skvapalneného zemného plynu
B4: podľa § 14a ods. 1 písm. b) zákona č. 309/2009 Z. z.
D6: Kalkulácia pre rok: | E6: ='Ročná správa-sumár'!E6 -> 2026
E7: Požadovaný cieľ | F7: Dosiahnuté plnenie
D8: Energetický obsah podľa § 14a ods. 1 písm. b): | E8: =VLOOKUP(E6,Ciele!A2:O7,13,0) -> 0.06 | F8: =IFERROR((I60/I55),"-") -> - | G8: =I60-I62 -> 0 | H8: =IF(G8<-0.1,"Chýbajúca energia",IF(G8>0.1,"Energia nad cieľ","-")) -> -
D9: Energetický obsah pokročilých udržateľných pohonných látok podľa § 14a ods. 11: | E9: =VLOOKUP(E6,Ciele!A2:O7,10,0) -> 0.0105 | F9: =IFERROR((I50/I55),"-") -> - | G9: =I50-I63 -> 0 | H9: =IF(G9<-0.1,"Chýbajúca energia",IF(G9>0.1,"Energia nad cieľ","-")) -> -
D11: Obmedzenie podľa § 14a ods. 9 písm. b) [suroviny podľa prílohy č. 1 časti B]: | E11: =VLOOKUP(E6,Ciele!A2:O7,15,0) -> 0.0176 | F11: =IFERROR((I51/I55),"-") -> - | G11: =ABS((E11*I55)-I51) -> 0 | H11: =IF((E11*I55)-I51<0,"Energia nad obmedzenie",IF((E11*I55)-I51>0.1,"Energia do obmedzenia","-")) -> -
D12: Obmedzenie podľa § 14a ods. 9 písm. c) [potravinárske a krmovinárske plodiny]: | E12: =VLOOKUP(E6,Ciele!A2:O7,14,0) -> 0.065 | F12: =IFERROR((I48/I55),"-") -> - | G12: =ABS((E12*I55)-I48) -> 0 | H12: =IF((E12*I55)-I48<0,"Energia nad obmedzenie",IF((E12*I55)-I48>0.1,"Energia do obmedzenia","-")) -> -
B14: STLAČENÝ ZEMNÝ PLYN - CNG | C14: MJ/kg | D14: 1. štvrťrok | E14: 2. štvrťrok | F14: 3. štvrťrok | G14: 4. štvrťrok | H14: Množstvo v kilogramoch za kalendárny rok | I14: Množstvo v MJ za kalendárny rok
D15: v kilogramoch
B16: CNG celkom | H16: =SUM(D16:G16) -> 0
B17: Bioplyn z potravinárskych a krmovinárskych plodín | C17: 50 | H17: =SUM(D17:G17) -> 0 | I17: =H17*C17 -> 0
B18: Bioplyn iné | C18: 50 | H18: =SUM(D18:G18) -> 0 | I18: =H18*C18 -> 0
B19: Bioplyn zo surovín podľa prílohy č. 1 časti A | C19: 50 | H19: =SUM(D19:G19) -> 0 | I19: =H19*C19 -> 0
B20: Bioplyn zo surovín podľa prílohy č. 1 časti B | C20: 50 | H20: =SUM(D20:G20) -> 0 | I20: =H20*C20 -> 0
B21: RFNBO/e-fuels | C21: 120 | H21: =SUM(D21:G21) -> 0 | I21: =H21*C21 -> 0
B22: Celkovo udržateľné pohonné látky | D22: =SUM(D17:D21) -> 0 | E22: =SUM(E17:E21) -> 0 | F22: =SUM(F17:F21) -> 0 | G22: =SUM(G17:G21) -> 0 | H22: =SUM(D22:G22) -> 0
B23: Celkovo fosílna časť | C23: 45.1 | D23: =D16-D22 -> 0 | E23: =E16-E22 -> 0 | F23: =F16-F22 -> 0 | G23: =G16-G22 -> 0 | H23: =SUM(D23:G23) -> 0 | I23: =H23*C23 -> 0
B25: SKVAPALNENÝ ZEMNÝ PLYN - LNG | C25: MJ/kg | D25: 1. štvrťrok | E25: 2. štvrťrok | F25: 3. štvrťrok | G25: 4. štvrťrok | H25: Množstvo v kilogramoch za kalendárny rok | I25: Množstvo v MJ za kalendárny rok
D26: v kilogramoch
B27: LNG celkom | H27: =SUM(D27:G27) -> 0
B28: Bioplyn z potravinárskych a krmovinárskych plodín | C28: 50 | H28: =SUM(D28:G28) -> 0 | I28: =H28*C28 -> 0
B29: Bioplyn iné | C29: 50 | H29: =SUM(D29:G29) -> 0 | I29: =H29*C29 -> 0
B30: Bioplyn zo surovín podľa prílohy č. 1 časti A | C30: 50 | H30: =SUM(D30:G30) -> 0 | I30: =H30*C30 -> 0
B31: Bioplyn zo surovín podľa prílohy č. 1 časti B | C31: 50 | H31: =SUM(D31:G31) -> 0 | I31: =H31*C31 -> 0
B32: RFNBO/e-fuels | C32: 120 | H32: =SUM(D32:G32) -> 0 | I32: =H32*C32 -> 0
B33: Celkovo udržateľné pohonné látky | D33: =SUM(D28:D32) -> 0 | E33: =SUM(E28:E32) -> 0 | F33: =SUM(F28:F32) -> 0 | G33: =SUM(G28:G32) -> 0 | H33: =SUM(D33:G33) -> 0
B34: Celkovo fosílna časť | C34: 45.1 | D34: =D27-D33 -> 0 | E34: =E27-E33 -> 0 | F34: =F27-F33 -> 0 | G34: =G27-G33 -> 0 | H34: =SUM(D34:G34) -> 0 | I34: =H34*C34 -> 0
B36: Vodík | C36: MJ/kg | D36: 1. štvrťrok | E36: 2. štvrťrok | F36: 3. štvrťrok | G36: 4. štvrťrok | H36: Množstvo v kilogramoch za kalendárny rok | I36: Množstvo v MJ za kalendárny rok
D37: v kilogramoch
B38: Vodík celkom | H38: =SUM(D38:G38) -> 0
B39: Bioplyn z potravinárskych a krmovinárskych plodín | C39: 50 | H39: =SUM(D39:G39) -> 0 | I39: =H39*C39 -> 0
B40: Bioplyn iné | C40: 50 | H40: =SUM(D40:G40) -> 0 | I40: =H40*C40 -> 0
B41: Bioplyn zo surovín podľa prílohy č. 1 časti A | C41: 50 | H41: =SUM(D41:G41) -> 0 | I41: =H41*C41 -> 0
B42: Bioplyn zo surovín podľa prílohy č. 1 časti B | C42: 50 | H42: =SUM(D42:G42) -> 0 | I42: =H42*C42 -> 0
B43: RFNBO/e-fuels | C43: 120 | H43: =SUM(D43:G43) -> 0 | I43: =H43*C43 -> 0
B44: Celkovo udržateľné pohonné látky | D44: =SUM(D39:D43) -> 0 | E44: =SUM(E39:E43) -> 0 | F44: =SUM(F39:F43) -> 0 | G44: =SUM(G39:G43) -> 0 | H44: =SUM(D44:G44) -> 0
B45: Celkovo fosílna časť | C45: 45.1 | D45: =D38-D44 -> 0 | E45: =E38-E44 -> 0 | F45: =F38-F44 -> 0 | G45: =G38-G44 -> 0 | H45: =SUM(D45:G45) -> 0 | I45: =H45*C45 -> 0
B47: Energetické obsahy
B48: Energetický obsah udržateľných pohonných látok z potravinárskych a krmovinárskych plodín | I48: =I39+I28+I17 -> 0
...

Sheet RFNBO z výroby+SAF
B2: Množstvo udržateľných pohonných látok podľa § 14a ods. 9 písm. d) a h) zákona č. 309/2009 Z. z.
B3: Palivá z obnoviteľných zdrojov nebiologického pôvodu (RFNBO) | E3: Množstvo (v litroch)
B4: Množstvo RFNBO podľa § 14a ods. 9 písm. d) | C4: 120 | G4: =E4*C4 -> 0
B5: Množstvo e-fuels podľa § 14a ods. 9 písm. d) | G5: =E5*C5 -> 0
B6: Množstvo udržateľných pohonných látok dodaných leteckej a námornej doprave podľa § 14a ods. 9 písm. h) | E6: Množstvo (v litroch)
B7: Udržateľné pohonné látky zo surovín podľa prílohy č. 1 časti A | C7: 48 | F7: =E7*C7 -> 0 | G7: =F7*1.2 -> 0
B8: Udržateľné pohonné látky, ktorými je RFNBO/e-fuels | C8: 35 | F8: =E8*C8 -> 0 | G8: =F8*1.5 -> 0

Sheet Kredity z E+prevod podľa §14cc
B2: Množstvo energie z kreditov podľa § 14cb a prevodu časti plnenia referenčných hodnôt podľa § 14cc zákona č. 309/2009 Z. z.
B3: Množstvo uplatnených kreditov a nakúpenej energie
E4: Množstvo energie
B5: Chýbajúce množstvo energie | C5: Celkové | E5: =IF('Ročná správa-sumár'!E9>0,"-",'Ročná správa-sumár'!E9) -> 0 | F5: Nákup
C6: z udržateľných pohonných látok zo surovín podľa prílohy č. 1 časti A | E6: =IF('Ročná správa-sumár'!E10>0,"-",'Ročná správa-sumár'!E10) -> 0 | F6: Predaj | H6: Po multiplikácii
B7: Uplatnené množstvo - SPOLU | C7: Množstvo kreditov podľa § 14cb (obnoviteľná elektrina) | D7: kWh | E7: =SUMIFS(F28:F357,B28:B357,B27,C28:C357,C7)*3.6 -> 0 | H7: =E7*2 -> 0
B8: Nakúpené množstvo - SPOLU | C8: Energia z udržateľných pohonných látok z potravinárskych a krmovinárskych plodín | D8: MJ | E8: =SUMIFS(F28:F349,B28:B349,F5,C28:C349,C8) -> 0
C9: Energia z iných udržateľných pohonných látok | D9: MJ | E9: =SUMIFS(F28:F349,B28:B349,F5,C28:C349,C9) -> 0
C10: Energia z udržateľných pohonných látok zo surovín podľa prílohy č. 1 časti A | D10: MJ | E10: =SUMIFS(F28:F349,B28:B349,F5,C28:C349,C10) -> 0 | H10: =E10*2 -> 0
C11: Energia z udržateľných pohonných látok zo surovín podľa prílohy č. 1 časti B | D11: MJ | E11: =SUMIFS(F28:F349,B28:B349,F5,C28:C349,C11) -> 0 | H11: =E11*2 -> 0
C12: Energia z RFNBO/e-fuels | D12: MJ | E12: =SUMIFS(F28:F349,B28:B349,F5,C28:C349,C12) -> 0 | H12: =E12*2 -> 0
B13: Množstvo predanej energie
E14: Množstvo energie
B15: Dostupné množstvo energie na predaj/prevod | C15: SPOLU | E15: =IF('Ročná správa-sumár'!E9<0,0,'Ročná správa-sumár'!E9) -> 0
C16: Nad obmedzenie - z udržateľných pohonných látok z potravinárskych a krmovinárskych plodín | E16: ='Ročná správa-sumár'!I15 -> 0
C17: Nad obmedzenie - z udržateľných pohonných látok zo surovín podľa prílohy č. 1 časti B | E17: ='Ročná správa-sumár'!I16 -> 0
C18: z udržateľných pohonných látok z potravinárskych a krmovinárskych plodín | E18: =MIN(E15,IF('Ročná správa-sumár'!G15<0,0,'Ročná správa-sumár'!G15)) -> 0
C19: z udržateľných pohonných látok zo surovín podľa prílohy č. 1 časti A | E19: =MIN(E15/2,IF('Ročná správa-sumár'!E10<0,0,'Ročná správa-sumár'!E10)) -> 0
C20: z udržateľných pohonných látok zo surovín podľa prílohy č. 1 časti B | E20: =MIN((E15/2),IF('Ročná správa-sumár'!G16<0,0,'Ročná správa-sumár'!G16)) -> 0
B21: Predané množstvo - SPOLU | C21: Energia z udržateľných pohonných látok z potravinárskych a krmovinárskych plodín | D21: MJ | E21: =SUMIFS(F28:F357,B28:B357,F6,C28:C357,C21) -> 0
C22: Energia z iných udržateľných pohonných látok | D22: MJ | E22: =SUMIFS(F28:F357,B28:B357,F6,C28:C357,C22) -> 0
C23: Energia z udržateľných pohonných látok zo surovín podľa prílohy č. 1 časti A | D23: MJ | E23: =SUMIFS(F28:F357,B28:B357,F6,C28:C357,C23) -> 0
C24: Energia z udržateľných pohonných látok zo surovín podľa prílohy č. 1 časti B | D24: MJ | E24: =SUMIFS(F28:F357,B28:B357,F6,C28:C357,C24) -> 0
C25: Energia z RFNBO/e-fuels | D25: MJ | E25: =SUMIFS(F28:F357,B28:B357,F6,C28:C357,C25) -> 0
B26: Druh pohybu | C26: Kredit z elektriny z obnoviteľných zdrojov
B27: Uplatnenie kreditov | C27: Druh | E27: Množstvo | G27: Evidenčné číslo vyradenia kreditov do spotreby
C28: =IF(B28=B27,C7,"") | D28: =IFERROR(VLOOKUP(C28,C7:D12,2,0),"") | F28: =E28 -> 0
C29: =IF(B29=B27,C7,"") | D29: =IFERROR(VLOOKUP(C29,C7:D12,2,0),"") | F29: =E29 -> 0
C30: =IF(B30=B27,C7,"") | D30: =IFERROR(VLOOKUP(C30,C7:D12,2,0),"") | F30: =E30 -> 0
C31: =IF(B31=B27,C7,"") | D31: =IFERROR(VLOOKUP(C31,C7:D12,2,0),"") | F31: =E31 -> 0
C32: =IF(B32=B27,C7,"") | D32: =IFERROR(VLOOKUP(C32,C7:D12,2,0),"") | F32: =E32 -> 0
C33: =IF(B33=B27,C7,"") | D33: =IFERROR(VLOOKUP(C33,C7:D12,2,0),"") | F33: =E33 -> 0
C34: =IF(B34=B27,C7,"") | D34: =IFERROR(VLOOKUP(C34,C7:D12,2,0),"") | F34: =E34 -> 0
C35: =IF(B35=B27,C7,"") | D35: =IFERROR(VLOOKUP(C35,C7:D12,2,0),"") | F35: =E35 -> 0
C36: =IF(B36=B27,C7,"") | D36: =IFERROR(VLOOKUP(C36,C7:D12,2,0),"") | F36: =E36 -> 0
C37: =IF(B37=B27,C7,"") | D37: =IFERROR(VLOOKUP(C37,C7:D12,2,0),"") | F37: =E37 -> 0
C38: =IF(B38=B27,C7,"") | D38: =IFERROR(VLOOKUP(C38,C7:D12,2,0),"") | F38: =E38 -> 0
D39: =IFERROR(VLOOKUP(C39,C7:D12,2,0),"") | F39: =E39 -> 0
C40: =IF(B40=B27,C7,"") | D40: =IFERROR(VLOOKUP(C40,C7:D12,2,0),"") | F40: =E40 -> 0
C41: =IF(B41=B27,C7,"") | D41: =IFERROR(VLOOKUP(C41,C7:D12,2,0),"") | F41: =E41 -> 0
...

Sheet Ciele
B1: § 14a ods. 1 písm. a) - motorová nafta a motorový benzín | J1: § 14a ods. 1 písm. b) - CNG a LNG
A2: ROK | B2: Bioetanolová zložka | C2: Objem FAME | D2: Referenčná hodnota podľa § 14f | E2: Referenčná hodnota podľa § 14a ods. 10 (RFNBO) | F2: Referenčná hodnota podľa § 14f + referenčná hodnota podľa § 14a ods. 10 (RFNBO) | G2: Referenčná hodnota podľa § 14a ods. 1 písm. a) | H2: Obmedzenie podľa § 14a ods. 9 písm. c) | I2: Obmedzenie podľa § 14a ods. 9 písm. b) | J2: Referenčná hodnota podľa § 14a ods. 11 | K2: Referenčná hodnota podľa § 14a ods. 10 (RFNBO) | L2: Referenčná hodnota podľa § 14f + referenčná hodnota podľa § 14a ods. 10 (RFNBO) | M2: Referenčná hodnota podľa § 14a ods. 1 písm. b) | N2: Obmedzenie podľa § 14a ods. 9 písm. c) | O2: Obmedzenie podľa § 14a ods. 9 písm. b)
A3: 2026 | B3: 0.09 | C3: 0.069 | D3: 0.0105 | E3: 0 | F3: =D3+E3 -> 0.0105 | G3: 0.095 | H3: 0.065 | I3: 0.0176 | J3: 0.0105 | K3: 0 | L3: =J3+K3 -> 0.0105 | M3: 0.06 | N3: 0.065 | O3: 0.0176
A4: 2027 | B4: 0.09 | C4: 0.069 | D4: 0.0125 | E4: 0 | F4: =D4+E4 -> 0.0125 | G4: 0.102 | H4: 0.065 | I4: 0.0176 | J4: 0.0125 | K4: 0 | L4: =J4+K4 -> 0.0125 | M4: 0.102 | N4: 0.065 | O4: 0.0176
A5: 2028 | B5: 0.09 | C5: 0.069 | D5: 0.0125 | E5: 0 | F5: =D5+E5 -> 0.0125 | G5: 0.115 | H5: 0.065 | I5: 0.0176 | J5: 0.0125 | K5: 0 | L5: =J5+K5 -> 0.0125 | M5: 0.115 | N5: 0.065 | O5: 0.0176
A6: 2029 | B6: 0.09 | C6: 0.069 | D6: 0.0175 | E6: 0 | F6: =D6+E6 -> 0.0175 | G6: 0.16 | H6: 0.065 | I6: 0.0176 | J6: 0.0175 | K6: 0 | L6: =J6+K6 -> 0.0175 | M6: 0.16 | N6: 0.065 | O6: 0.0176
A7: 2030 | B7: 0.09 | C7: 0.069 | D7: 0.0225 | E7: 0.005 | F7: =D7+E7 -> 0.0275 | G7: 0.27 | H7: 0.065 | I7: 0.0176 | J7: 0.0225 | K7: 0.005 | L7: =J7+K7 -> 0.0275 | M7: 0.27 | N7: 0.065 | O7: 0.0176
